Workbook
Name sheetcount: #REF!
Name sheetcount: #REF!
Name sheetcount: #REF!
Name sheetcount: #REF!
Name sheetcount: #REF!
Name sheetcount: #REF!
Name sheetcount: #REF!
Name sheetcount: #REF!
Name 校正球一覧: #REF!
Name 校正球一覧: #REF!
Name 校正球一覧: #REF!
Name 校正球一覧: #REF!
Name 校正球一覧: #REF!
Name 校正球一覧: #REF!
Name 校正球一覧: #REF!
Name 校正球一覧: #REF!
Name 校正球一覧: #REF!

Sheet データ貼り付け
A1: [Data] | B1: ※左 積分球データにて 値で貼り付け | BD1: [Condition]
A2: No | B2: 日時 | C2: 経過時間[sec] | D2: 全光束[lm] | E2: 光量子量[mol/sec] | F2: 外部量子効率[%] | G2: 発光効率[lm/W] | H2: 測定電圧[V] | I2: 測定電流[mA] | J2: 電力[W] | K2: 規格判定 | L2: CH1 | M2: CH2 | N2: CH3 | O2: CH4 | P2: X | Q2: Y | R2: Z | S2: x | T2: y | U2: u | V2: v | W2: u' | X2: v' | Y2: 主波長[nm] | Z2: 刺激純度[%] | AA2: 相関色温度[K] | AB2: Duv | AC2: Ra | AD2: R1 | AE2: R2 | AF2: R3 | AG2: R4 | AH2: R5 | AI2: R6 | AJ2: R7 | AK2: R8 | AL2: R9 | AM2: R10 | AN2: R11 | AO2: R12 | AP2: R13 | AQ2: R14 | AR2: R15 | AS2: 放射束[W] | AT2: ﾋﾟｰｸ波長1[nm] | AU2: ﾋﾟｰｸ波長2[nm] | AV2: ﾋﾟｰｸ波長3[nm] | AW2: ﾋﾟｰｸ波長4[nm] | AX2: ﾋﾟｰｸ波長5[nm] | AY2: 重心波長1[nm] | AZ2: 重心波長2[nm] | BA2: 重心波長3[nm] | BB2: 重心波長4[nm] | BC2: 重心波長5[nm] | BD2: ｻﾝﾌﾟﾙ名 | BE2: ｺﾒﾝﾄ | BF2: ﾓｰﾄﾞ | BG2: 発生対象 | BH2: 電源制御ﾓｰﾄﾞ | BI2: 電流[mA] | BJ2: ﾍﾞｰｽ値 | BK2: 電圧[V] | BL2: ﾊﾟﾙｽ幅[ms] | BM2: ﾊﾟﾙｽﾃﾞｨﾚｲ[ms] | BN2: 電源測定ﾃﾞｨﾚｲ[ms] | BO2: 積分時間 | BP2: 規格判定 : 有効 | BQ2: 標準電球名 | BR2: 校正ファイル名 | BS2: 自己吸収補正係数 | BT2: 全光束補正係数 | BU2: K0 | BV2: 露光時間[ms] | BW2: NDﾌｨﾙﾀ | BX2: ｱﾝﾌﾟｹﾞｲﾝ | BY2: 積算回数 | BZ2: 測定ﾃﾞｨﾚｲ[ms]
A3: 1 | B3: 43250.945 | C3: 0 | D3: 136.77804 | E3: 2.3695546e-06 | F3: 762.31824 | G3: 140.39713 | H3: 32.473 | I3: 30.001 | J3: 0.97422247 | K3: --- | L3: *** | M3: *** | N3: *** | O3: *** | P3: 148.17305 | Q3: 136.77804 | R3: 52.779667 | S3: 0.43873128 | T3: 0.40499136 | U3: 0.2513343 | V3: 0.34800877 | W3: 0.2513343 | X3: 0.52201315 | Y3: 582.90348 | Z3: 53.260249 | AA3: 2977.1842 | AB3: 0.11982177 | AC3: 95.984736 | AD3: 97.086587 | AE3: 97.996321 | AF3: 98.510334 | AG3: 97.222457 | AH3: 97.41401 | AI3: 97.967587 | AJ3: 94.343518 | AK3: 87.337074 | AL3: 70.513659 | AM3: 95.53187 | AN3: 95.797299 | AO3: 92.079716 | AP3: 97.451302 | AQ3: 98.491367 | AR3: 92.786813 | AS3: 0.47721044 | AT3: 623.40892 | AU3: 448.06609 | AV3: 514.53693 | AW3: *** | AX3: *** | AY3: 624.50535 | AZ3: 447.7349 | BA3: 515.36683 | BB3: *** | BC3: *** | BD3: H ペルチェ | BE3: 代1 IF=30 TC=25 | BF3: Manual | BG3: Current | BH3: DC | BI3: 30 | BJ3: 45 | BK3: 1PLC | BL3: FALSE | BM3: L136 | BN3: 180523_L136_ND10 | BO3: 0.87876114 | BP3: 1 | BQ3: 234 | BR3: 0.05mm | BS3: Normal | BT3: 2 | BU3: 20
A4: 2 | B4: 43250.945 | C4: 26.625 | D4: 267.30622 | E4: 4.6123818e-06 | F4: 742.00747 | G4: 133.06456 | H4: 33.483 | I4: 59.996 | J4: 2.0088461 | K4: --- | L4: *** | M4: *** | N4: *** | O4: *** | P4: 288.82923 | Q4: 267.30622 | R4: 103.47194 | S4: 0.43788052 | T4: 0.4052505 | U4: 0.2506742 | V4: 0.34799166 | W4: 0.2506742 | X4: 0.5219875 | Y4: 582.75768 | Z4: 53.083016 | AA4: 2993.4524 | AB4: 0.33666521 | AC4: 95.644584 | AD4: 96.601998 | AE4: 97.558941 | AF4: 98.212827 | AG4: 96.92237 | AH4: 96.874397 | AI4: 97.945521 | AJ4: 94.2378 | AK4: 86.80282 | AL4: 69.01059 | AM4: 94.555466 | AN4: 96.05348 | AO4: 92.03904 | AP4: 96.919705 | AQ4: 98.348307 | AR4: 92.220828 | AS4: 0.93014431 | AT4: 623.11 | AU4: 448.5542 | AV4: 382.73277 | AW4: *** | AX4: *** | AY4: 622.09625 | AZ4: 447.7349 | BA4: 381.49918 | BB4: *** | BC4: *** | BD4: H ペルチェ | BE4: 代1 IF=60 TC=25 | BF4: Manual | BG4: Current | BH4: DC | BI4: 60 | BJ4: 45 | BK4: 1PLC | BL4: FALSE | BM4: L136 | BN4: 180523_L136_ND10 | BO4: 0.87876114 | BP4: 1 | BQ4: 234 | BR4: 0.05mm | BS4: Normal | BT4: 2 | BU4: 20
A5: 3 | B5: 43250.945 | C5: 45.3125 | D5: 390.22746 | E5: 6.6925018e-06 | F5: 717.68192 | G5: 126.29753 | H5: 34.329 | I5: 90.004 | J5: 3.0897473 | K5: --- | L5: *** | M5: *** | N5: *** | O5: *** | P5: 420.59514 | Q5: 390.22746 | R5: 151.71721 | S5: 0.43696389 | T5: 0.40541436 | U5: 0.2500135 | V5: 0.34794316 | W5: 0.2500135 | X5: 0.52191475 | Y5: 582.61946 | Z5: 52.857287 | AA5: 3010.1619 | AB5: 0.5271607 | AC5: 95.388762 | AD5: 96.24645 | AE5: 97.246794 | AF5: 98.013762 | AG5: 96.726888 | AH5: 96.495224 | AI5: 97.804268 | AJ5: 94.158731 | AK5: 86.417983 | AL5: 67.907646 | AM5: 93.880049 | AN5: 96.205589 | AO5: 91.806564 | AP5: 96.542207 | AQ5: 98.259209 | AR5: 91.784236 | AS5: 1.3521033 | AT5: 622.81359 | AU5: 447.64651 | AV5: 367.3245 | AW5: *** | AX5: *** | AY5: 623.3008 | AZ5: 447.7349 | BA5: 367.31918 | BB5: *** | BC5: *** | BD5: H ペルチェ | BE5: 代1 IF=90 TC=25 | BF5: Manual | BG5: Current | BH5: DC | BI5: 90 | BJ5: 45 | BK5: 1PLC | BL5: FALSE | BM5: L136 | BN5: 180523_L136_ND10 | BO5: 0.87876114 | BP5: 1 | BQ5: 234 | BR5: 0.05mm | BS5: Normal | BT5: 2 | BU5: 20
A6: 4 | B6: 43250.946 | C6: 89.6875 | D6: 506.72859 | E6: 8.6589453e-06 | F6: 696.50665 | G6: 120.3674 | H6: 35.085 | I6: 119.99 | J6: 4.2098492 | K6: --- | L6: *** | M6: *** | N6: *** | O6: *** | P6: 545.16271 | Q6: 506.72859 | R6: 198.19914 | S6: 0.43609862 | T6: 0.40535354 | U6: 0.24948272 | V6: 0.34784118 | W6: 0.24948272 | X6: 0.52176176 | Y6: 582.52524 | Z6: 52.579235 | AA6: 3024.2986 | AB6: 0.62350709 | AC6: 95.120904 | AD6: 95.888836 | AE6: 96.980113 | AF6: 97.900413 | AG6: 96.522644 | AH6: 96.131915 | AI6: 97.606474 | AJ6: 94.006569 | AK6: 85.930266 | AL6: 66.650923 | AM6: 93.297404 | AN6: 96.372589 | AO6: 91.519903 | AP6: 96.183569 | AQ6: 98.216549 | AR6: 91.346494 | AS6: 1.7502299 | AT6: 623.27276 | AU6: 447.2689 | AV6: 364.48777 | AW6: *** | AX6: *** | AY6: 623.3008 | AZ6: 447.7349 | BA6: 363.77418 | BB6: *** | BC6: *** | BD6: H ペルチェ | BE6: 代1 IF=120 TC=25 | BF6: Manual | BG6: Current | BH6: DC | BI6: 120 | BJ6: 45 | BK6: 1PLC | BL6: FALSE | BM6: L136 | BN6: 180523_L136_ND10 | BO6: 0.87876114 | BP6: 1 | BQ6: 234 | BR6: 0.05mm | BS6: Normal | BT6: 2 | BU6: 20
A7: 5 | B7: 43250.947 | C7: 173.07812 | D7: 616.96873 | E7: 1.0509974e-05 | F7: 676.24508 | G7: 114.94328 | H7: 35.783 | I7: 150.004 | J7: 5.3675931 | K7: --- | L7: *** | M7: *** | N7: *** | O7: *** | P7: 662.42104 | Q7: 616.96873 | R7: 242.36883 | S7: 0.43529968 | T7: 0.40543141 | U7: 0.24893551 | V7: 0.34778204 | W7: 0.24893551 | X7: 0.52167306 | Y7: 582.41407 | Z7: 52.362907 | AA7: 3038.5536 | AB7: 0.76688686 | AC7: 94.868085 | AD7: 95.557526 | AE7: 96.709139 | AF7: 97.743778 | AG7: 96.339477 | AH7: 95.78236 | AI7: 97.352194 | AJ7: 93.912273 | AK7: 85.547936 | AL7: 65.596434 | AM7: 92.693802 | AN7: 96.510374 | AO7: 91.071245 | AP7: 95.842584 | AQ7: 98.144703 | AR7: 90.946081 | AS7: 2.1250655 | AT7: 622.92868 | AU7: 447.29642 | AV7: 377.45183 | AW7: *** | AX7: *** | AY7: 622.09625 | AZ7: 447.7349 | BA7: 376.77251 | BB7: *** | BC7: *** | BD7: H ペルチェ | BE7: 代1 IF=150 TC=25 | BF7: Manual | BG7: Current | BH7: DC | BI7: 150 | BJ7: 45 | BK7: 1PLC | BL7: FALSE | BM7: L136 | BN7: 180523_L136_ND10 | BO7: 0.87876114 | BP7: 1 | BQ7: 234 | BR7: 0.05mm | BS7: Normal | BT7: 2 | BU7: 20
A8: 6 | B8: 43250.947 | C8: 234.35938 | D8: 704.58566 | E8: 1.1976924e-05 | F8: 660.56045 | G8: 110.81701 | H8: 36.332 | I8: 175 | J8: 6.3581 | K8: --- | L8: *** | M8: *** | N8: *** | O8: *** | P8: 755.48094 | Q8: 704.58566 | R8: 277.95411 | S8: 0.43467891 | T8: 0.40539543 | U8: 0.24855173 | V8: 0.34771092 | W8: 0.24855173 | X8: 0.52156638 | Y8: 582.34382 | Z8: 52.165732 | AA8: 3048.9165 | AB8: 0.84172136 | AC8: 94.66653 | AD8: 95.28954 | AE8: 96.516165 | AF8: 97.65619 | AG8: 96.179592 | AH8: 95.510156 | AI8: 97.150016 | AJ8: 93.811274 | AK8: 85.219306 | AL8: 64.741602 | AM8: 92.263769 | AN8: 96.625825 | AO8: 90.810123 | AP8: 95.575071 | AQ8: 98.109657 | AR8: 90.635599 | AS8: 2.424126 | AT8: 622.59779 | AU8: 447.03506 | AV8: 364.8203 | AW8: *** | AX8: *** | AY8: 622.09625 | AZ8: 447.7349 | BA8: 364.95585 | BB8: *** | BC8: *** | BD8: H ペルチェ | BE8: 代1 IF=175 TC=25 | BF8: Manual | BG8: Current | BH8: DC | BI8: 175 | BJ8: 45 | BK8: 1PLC | BL8: FALSE | BM8: L136 | BN8: 180523_L136_ND10 | BO8: 0.87876114 | BP8: 1 | BQ8: 234 | BR8: 0.05mm | BS8: Normal | BT8: 2 | BU8: 20
A9: 7 | B9: 43250.948 | C9: 279.25 | D9: 820.64569 | E9: 1.3913777e-05 | F9: 639.49821 | G9: 105.4653 | H9: 37.054 | I9: 209.996 | J9: 7.7811918 | K9: --- | L9: *** | M9: *** | N9: *** | O9: *** | P9: 878.48734 | Q9: 820.64569 | R9: 324.92342 | S9: 0.43402314 | T9: 0.40544605 | U9: 0.2481087 | V9: 0.34765897 | W9: 0.2481087 | X9: 0.52148845 | Y9: 582.25361 | Z9: 51.984161 | AA9: 3060.6464 | AB9: 0.95742905 | AC9: 94.40812 | AD9: 94.95808 | AE9: 96.276904 | AF9: 97.549243 | AG9: 95.994798 | AH9: 95.170315 | AI9: 96.884056 | AJ9: 93.678812 | AK9: 84.752748 | AL9: 63.523639 | AM9: 91.71835 | AN9: 96.740369 | AO9: 90.342802 | AP9: 95.249486 | AQ9: 98.061206 | AR9: 90.223488 | AS9: 2.8160679 | AT9: 622.7839 | AU9: 447.54969 | AV9: 360.91882 | AW9: *** | AX9: *** | AY9: 622.09625 | AZ9: 447.7349 | BA9: 360.22918 | BB9: *** | BC9: *** | BD9: H ペルチェ | BE9: 代1 IF=210 TC=25 | BF9: Manual | BG9: Current | BH9: DC | BI9: 210 | BJ9: 45 | BK9: 1PLC | BL9: FALSE | BM9: L136 | BN9: 180523_L136_ND10 | BO9: 0.87876114 | BP9: 1 | BQ9: 234 | BR9: 0.05mm | BS9: Normal | BT9: 2 | BU9: 20
A10: 8 | B10: 43250.949 | C10: 343.625 | D10: 915.46991 | E10: 1.5482109e-05 | F10: 622.59051 | G10: 101.31932 | H10: 37.646 | I10: 240.012 | J10: 9.0354918 | K10: --- | L10: *** | M10: *** | N10: *** | O10: *** | P10: 978.69763 | Q10: 915.46991 | R10: 363.99518 | S10: 0.43340439 | T10: 0.40540476 | U10: 0.24772872 | V10: 0.3475867 | W10: 0.24772872 | X10: 0.52138005 | Y10: 582.18341 | Z10: 51.785988 | AA10: 3071.0476 | AB10: 1.0320555 | AC10: 94.234371 | AD10: 94.738916 | AE10: 96.118529 | AF10: 97.487371 | AG10: 95.865217 | AH10: 94.94894 | AI10: 96.709009 | AJ10: 93.582888 | AK10: 84.424095 | AL10: 62.662687 | AM10: 91.362812 | AN10: 96.790764 | AO10: 90.093829 | AP10: 95.035537 | AQ10: 98.03549 | AR10: 89.940189 | AS10: 3.1356075 | AT10: 618.18582 | AU10: 447.09759 | AV10: 376.2175 | AW10: *** | AX10: *** | AY10: 618.4826 | AZ10: 447.7349 | BA10: 376.77251 | BB10: *** | BC10: *** | BD10: H ペルチェ | BE10: 代1 IF=240 TC=25 | BF10: Manual | BG10: Current | BH10: DC | BI10: 240 | BJ10: 45 | BK10: 1PLC | BL10: FALSE | BM10: L136 | BN10: 180523_L136_ND10 | BO10: 0.87876114 | BP10: 1 | BQ10: 234 | BR10: 0.05mm | BS10: Normal | BT10: 2 | BU10: 20
A11: 9 | B11: 43250.949 | C11: 402.89062 | D11: 1004.2719 | E11: 1.6936248e-05 | F11: 605.434 | G11: 97.356287 | H11: 38.206 | I11: 269.995 | J11: 10.315429 | K11: --- | L11: *** | M11: *** | N11: *** | O11: *** | P11: 1072.4275 | Q11: 1004.2719 | R11: 400.58048 | S11: 0.43290527 | T11: 0.40539298 | U11: 0.24741313 | V11: 0.34753405 | W11: 0.24741313 | X11: 0.52130108 | Y11: 582.12264 | Z11: 51.632625 | AA11: 3079.6547 | AB11: 1.1016623 | AC11: 94.044995 | AD11: 94.490588 | AE11: 95.964051 | AF11: 97.456556 | AG11: 95.726239 | AH11: 94.704463 | AI11: 96.528991 | AJ11: 93.461577 | AK11: 84.027495 | AL11: 61.666443 | AM11: 91.013286 | AN11: 96.852871 | AO11: 89.76957 | AP11: 94.80249 | AQ11: 98.027928 | AR11: 89.618641 | AS11: 3.4336278 | AT11: 617.93519 | AU11: 446.98446 | AV11: 365.00939 | AW11: *** | AX11: *** | AY11: 617.27805 | AZ11: 447.7349 | BA11: 372.04584 | BB11: *** | BC11: *** | BD11: H ペルチェ | BE11: 代1 IF=270 TC=25 | BF11: Manual | BG11: Current | BH11: DC | BI11: 270 | BJ11: 45 | BK11: 1PLC | BL11: FALSE | BM11: L136 | BN11: 180523_L136_ND10 | BO11: 0.87876114 | BP11: 1 | BQ11: 234 | BR11: 0.05mm | BS11: Normal | BT11: 2 | BU11: 20
A12: 10 | B12: 43250.95 | C12: 488.125 | D12: 1090.2781 | E12: 1.834892e-05 | F12: 590.32174 | G12: 93.776433 | H12: 38.754 | I12: 300.004 | J12: 11.626355 | K12: --- | L12: *** | M12: *** | N12: *** | O12: *** | P12: 1162.9805 | Q12: 1090.2781 | R12: 436.44014 | S12: 0.43238318 | T12: 0.40535324 | U12: 0.24709473 | V12: 0.34747182 | W12: 0.24709473 | X12: 0.52120773 | Y12: 582.06347 | Z12: 51.463936 | AA12: 3088.4745 | AB12: 1.1641777 | AC12: 93.907519 | AD12: 94.297381 | AE12: 95.855077 | AF12: 97.468296 | AG12: 95.628277 | AH12: 94.520932 | AI12: 96.400649 | AJ12: 93.372418 | AK12: 83.717123 | AL12: 60.889554 | AM12: 90.774285 | AN12: 96.907901 | AO12: 89.566293 | AP12: 94.623854 | AQ12: 98.043762 | AR12: 89.370293 | AS12: 3.7211642 | AT12: 618.15909 | AU12: 447.2384 | AV12: 363.19408 | AW12: *** | AX12: *** | AY12: 617.27805 | AZ12: 447.7349 | BA12: 363.77418 | BB12: *** | BC12: *** | BD12: H ペルチェ | BE12: 代1 IF=300 TC=25 | BF12: Manual | BG12: Current | BH12: DC | BI12: 300 | BJ12: 45 | BK12: 1PLC | BL12: FALSE | BM12: L136 | BN12: 180523_L136_ND10 | BO12: 0.87876114 | BP12: 1 | BQ12: 234 | BR12: 0.05mm | BS12: Normal | BT12: 2 | BU12: 20
A13: 11 | B13: 43250.951 | C13: 577.9375 | D13: 1224.2251 | E13: 2.0533917e-05 | F13: 566.12173 | G13: 88.247576 | H13: 39.627 | I13: 350.08 | J13: 13.87262 | K13: --- | L13: *** | M13: *** | N13: *** | O13: *** | P13: 1303.9249 | Q13: 1224.2251 | R13: 493.17774 | S13: 0.43157347 | T13: 0.4051944 | U13: 0.2466421 | V13: 0.34734989 | W13: 0.2466421 | X13: 0.52102483 | Y13: 581.98795 | Z13: 51.17301 | AA13: 3101.4431 | AB13: 1.2233872 | AC13: 93.659901 | AD13: 93.962349 | AE13: 95.682546 | AF13: 97.499549 | AG13: 95.42637 | AH13: 94.206315 | AI13: 96.191864 | AJ13: 93.180132 | AK13: 83.130087 | AL13: 59.462166 | AM13: 90.391615 | AN13: 96.941027 | AO13: 89.218976 | AP13: 94.324913 | AQ13: 98.0778 | AR13: 88.931296 | AS13: 4.1654243 | AT13: 617.79101 | AU13: 447.04929 | AV13: 374.62181 | AW13: *** | AX13: *** | AY13: 617.27805 | AZ13: 447.7349 | BA13: 377.95418 | BB13: *** | BC13: *** | BD13: H ペルチェ | BE13: 代1 IF=350 TC=25 | BF13: Manual | BG13: Current | BH13: DC | BI13: 350 | BJ13: 45 | BK13: 1PLC | BL13: FALSE | BM13: L136 | BN13: 180523_L136_ND10 | BO13: 0.87876114 | BP13: 1 | BQ13: 234 | BR13: 0.05mm | BS13: Normal | BT13: 2 | BU13: 20
A14: 12 | B14: 43250.953 | C14: 699.59375 | D14: 1344.9226 | E14: 2.2493122e-05 | F14: 542.62196 | G14: 83.109999 | H14: 40.447 | I14: 400.09 | J14: 16.18244 | K14: --- | L14: *** | M14: *** | N14: *** | O14: *** | P14: 1430.3239 | Q14: 1344.9226 | R14: 544.44821 | S14: 0.43086006 | T14: 0.40513443 | U14: 0.24620952 | V14: 0.34726339 | W14: 0.24620952 | X14: 0.52089508 | Y14: 581.90666 | Z14: 50.940793 | AA14: 3113.6036 | AB14: 1.3091733 | AC14: 93.425963 | AD14: 93.642728 | AE14: 95.521978 | AF14: 97.511431 | AG14: 95.23436 | AH14: 93.891496 | AI14: 95.968632 | AJ14: 93.029843 | AK14: 82.607234 | AL14: 58.168717 | AM14: 89.998141 | AN14: 96.944854 | AO14: 88.763454 | AP14: 94.041795 | AQ14: 98.093752 | AR14: 88.533621 | AS14: 4.5672597 | AT14: 617.26637 | AU14: 447.29145 | AV14: 367.39715 | AW14: *** | AX14: *** | AY14: 616.0735 | AZ14: 447.7349 | BA14: 363.77418 | BB14: *** | BC14: *** | BD14: H ペルチェ | BE14: 代1 IF=400 TC=25 | BF14: Manual | BG14: Current | BH14: DC | BI14: 400 | BJ14: 45 | BK14: 1PLC | BL14: FALSE | BM14: L136 | BN14: 180523_L136_ND10 | BO14: 0.87876114 | BP14: 1 | BQ14: 234 | BR14: 0.05mm | BS14: Normal | BT14: 2 | BU14: 20
... A44: 42 | B44: 43251.079 | C44: 11582.922 | D44: 518.12547 | E44: 8.5044911e-06 | F44: 469.04618 | G44: 86.222755 | H44: 34.338 | I44: 175 | J44: 6.00915 | K44: --- | L44: *** | M44: *** | N44: *** | O44: *** | P44: 549.52772 | Q44: 518.12547 | R44: 210.56069 | S44: 0.42991844 | T44: 0.40535115 | U44: 0.24551417 | V44: 0.34722673 | W44: 0.24551417 | X44: 0.5208401 | Y44: 581.74628 | Z44: 50.723502 | AA44: 3132.1542 | AB44: 1.5443474 | AC44: 91.574827 | AD44: 91.522583 | AE44: 96.397827 | AF44: 98.362878 | AG44: 91.810364 | AH44: 91.738522 | AI44: 96.556021 | AJ44: 89.900808 | AK44: 76.309613 | AL44: 45.864957 | AM44: 91.414388 | AN44: 93.615807 | AO44: 84.019048 | AP44: 92.999129 | AQ44: 99.82174 | AR44: 85.464924 | AS44: 1.7285667 | AT44: 612.22163 | AU44: 455.70916 | AV44: 385.03042 | AW44: *** | AX44: *** | AY44: 612.45985 | AZ44: 454.85406 | BA44: 379.13584 | BB44: *** | BC44: *** | BD44: H ペルチェ | BE44: 代2 IF=175 TC=135 | BF44: Manual | BG44: Current | BH44: DC | BI44: 175 | BJ44: 45 | BK44: 1PLC | BL44: FALSE | BM44: L136 | BN44: 180523_L136_ND10 | BO44: 0.87876114 | BP44: 1 | BQ44: 234 | BR44: 0.05mm | BS44: Normal | BT44: 2 | BU44: 20
AC47: =AC15-AC$16 -> -0.34650531 | AD47: =AC3-AC$8 -> 1.3182061 | AL47: =AL15-AL$16 -> 1.6705907 | AM47: =AL3-AL$8 -> 5.7720568
AC48: =AC16-AC$16 -> 0 | AD48: =AC4-AC$8 -> 0.97805444 | AL48: =AL16-AL$16 -> 0 | AM48: =AL4-AL$8 -> 4.2689873
AC49: =AC17-AC$16 -> -0.26326371 | AD49: =AC5-AC$8 -> 0.72223259 | AL49: =AL17-AL$16 -> -3.0506712 | AM49: =AL5-AL$8 -> 3.1660439
AC50: =AC18-AC$16 -> -0.7104299 | AD50: =AC6-AC$8 -> 0.45437394 | AL50: =AL18-AL$16 -> -6.5994726 | AM50: =AL6-AL$8 -> 1.9093211
AC51: =AC19-AC$16 -> -0.73479537 | AD51: =AC7-AC$8 -> 0.2015556 | AL51: =AL19-AL$16 -> -6.8109108 | AM51: =AL7-AL$8 -> 0.85483134
AC52: =AC20-AC$16 -> -1.3230458 | AD52: =AC8-AC$8 -> 0 | AL52: =AL20-AL$16 -> -10.306951 | AM52: =AL8-AL$8 -> 0
AC53: =AC21-AC$16 -> -1.8495466 | AD53: =AC9-AC$8 -> -0.25841028 | AL53: =AL21-AL$16 -> -13.056508 | AM53: =AL9-AL$8 -> -1.2179631
AC54: =AC22-AC$16 -> -2.6276905 | AD54: =AC10-AC$8 -> -0.43215923 | AL54: =AL22-AL$16 -> -16.636265 | AM54: =AL10-AL$8 -> -2.0789149
AC55: =AC23-AC$16 -> -2.9822386 | AD55: =AC11-AC$8 -> -0.62153485 | AL55: =AL23-AL$16 -> -18.26308 | AM55: =AL11-AL$8 -> -3.0751597
AD56: =AC12-AC$8 -> -0.75901085 | AM56: =AL12-AL$8 -> -3.8520484
AD57: =AC13-AC$8 -> -1.0066284 | AM57: =AL13-AL$8 -> -5.2794364
AC58: =AC36-AC$37 -> 0.0079299023 | AD58: =AC14-AC$8 -> -1.240567 | AL58: =AL36-AL$37 -> 2.371153 | AM58: =AL14-AL$8 -> -6.572885
AC59: =AC37-AC$37 -> 0 | AL59: =AL37-AL$37 -> 0
AC60: =AC38-AC$37 -> -0.29079836 | AL60: =AL38-AL$37 -> -3.3986982
AC61: =AC39-AC$37 -> -0.72777343 | AD61: =AC24-AC$29 -> 1.4164844 | AL61: =AL39-AL$37 -> -6.8939102 | AM61: =AL24-AL$29 -> 6.1892631
AC62: =AC40-AC$37 -> -0.78067051 | AD62: =AC25-AC$29 -> 1.0821068 | AL62: =AL40-AL$37 -> -7.1789963 | AM62: =AL25-AL$29 -> 4.7466152
AC63: =AC41-AC$37 -> -1.1960829 | AD63: =AC26-AC$29 -> 0.74691784 | AL63: =AL41-AL$37 -> -9.9380584 | AM63: =AL26-AL$29 -> 3.2678271
AC64: =AC42-AC$37 -> -1.8960089 | AD64: =AC27-AC$29 -> 0.47294605 | AL64: =AL42-AL$37 -> -13.506625 | AM64: =AL27-AL$29 -> 2.0596188
AC65: =AC43-AC$37 -> -2.5527941 | AD65: =AC28-AC$29 -> 0.21596832 | AL65: =AL43-AL$37 -> -16.568317 | AM65: =AL28-AL$29 -> 0.88364772
AC66: =AC44-AC$37 -> -2.9745678 | AD66: =AC29-AC$29 -> 0 | AL66: =AL44-AL$37 -> -18.345298 | AM66: =AL29-AL$29 -> 0
AD67: =AC30-AC$29 -> -0.24922835 | AM67: =AL30-AL$29 -> -1.2498328
AC68: =AVERAGE(AC47,AC58) -> -0.1692877 | AD68: =AC31-AC$29 -> -0.45587089 | AL68: =AVERAGE(AL47,AL58) -> 2.0208718 | AM68: =AL31-AL$29 -> -2.2843256
AC69: =AVERAGE(AC48,AC59) -> 0 | AD69: =AC32-AC$29 -> -0.63925476 | AL69: =AVERAGE(AL48,AL59) -> 0 | AM69: =AL32-AL$29 -> -3.2472626
AC70: =AVERAGE(AC49,AC60) -> -0.27703103 | AD70: =AC33-AC$29 -> -0.808294 | AL70: =AVERAGE(AL49,AL60) -> -3.2246847 | AM70: =AL33-AL$29 -> -4.164821
AC71: =AVERAGE(AC50,AC61) -> -0.71910166 | AD71: =AC34-AC$29 -> -1.1063363 | AL71: =AVERAGE(AL50,AL61) -> -6.7466914 | AM71: =AL34-AL$29 -> -5.8376922
...

Sheet IF特性
A1: 140317@代表特性測定フォーマット_5.00
C2: 測定日： | D2: 43250 | F2: 下の黄色グラフで個別データを確認しながら測定
C3: 機種名： | D3: CQ7A03H1201C9-303H5R2
C4: 試作No.： | D4: 記入
C5: 素子波長： | D5: 記入
C6: 直列数： | D6: 12
C7: 並列数： | D7: 1
C8: 測定方法： | D8: PLS
C9: Tc(℃)： | D9: 25
C10: 投入VF:： | D10: 50
C11: ※青文字：計算値
C12: ※緑文字：3回測定平均値
I13: =$I$15/H21 -> #VALUE! | J13: ←VF typ.係数
A14: ペルチェIF | B14: 露光時間 | C14: IF-VF特性 | E14: VF [V] | I14: typ.換算 | J14: ⊿VF
A15: ［A］(参考) | B15: [ms](参考) | C15: IF/die | D15: IF/PKG | E15: No.1 | F15: No.2 | G15: No.** | H15: ave. | I15: 記入 | J15: %
C16: 30 | D16: =C16*$D$7 -> 30 | E16: =データ貼り付け!H3 -> 32.473 | F16: =データ貼り付け!H24 -> 32.475 | G16: 記入 | H16: =AVERAGE(E16:G16) -> 32.474 | I16: =H16*$I$13 -> #VALUE! | J16: =H16/$H$21 -> 0.894071
C17: 60 | D17: =C17*$D$7 -> 60 | E17: =データ貼り付け!H4 -> 33.483 | F17: =データ貼り付け!H25 -> 33.483 | G17: 記入 | H17: =AVERAGE(E17:G17) -> 33.483 | I17: =H17*$I$13 -> #VALUE! | J17: =H17/$H$21 -> 0.92185069
C18: 90 | D18: =C18*$D$7 -> 90 | E18: =データ貼り付け!H5 -> 34.329 | F18: =データ貼り付け!H26 -> 34.326 | G18: 記入 | H18: =AVERAGE(E18:G18) -> 34.3275 | I18: =H18*$I$13 -> #VALUE! | J18: =H18/$H$21 -> 0.94510139
C19: 120 | D19: =C19*$D$7 -> 120 | E19: =データ貼り付け!H6 -> 35.085 | F19: =データ貼り付け!H27 -> 35.077 | G19: 記入 | H19: =AVERAGE(E19:G19) -> 35.081 | I19: =H19*$I$13 -> #VALUE! | J19: =H19/$H$21 -> 0.96584667
C20: 150 | D20: =C20*$D$7 -> 150 | E20: =データ貼り付け!H7 -> 35.783 | F20: =データ貼り付け!H28 -> 35.769 | G20: 記入 | H20: =AVERAGE(E20:G20) -> 35.776 | I20: =H20*$I$13 -> #VALUE! | J20: =H20/$H$21 -> 0.98498135
C21: 175 | D21: =C21*$D$7 -> 175 | E21: =データ貼り付け!H8 -> 36.332 | F21: =データ貼り付け!H29 -> 36.311 | G21: 記入 | H21: =AVERAGE(E21:G21) -> 36.3215 | I21: =H21*$I$13 -> #VALUE! | J21: =H21/$H$21 -> 1
C22: 210 | D22: =C22*$D$7 -> 210 | E22: =データ貼り付け!H9 -> 37.054 | F22: =データ貼り付け!H30 -> 37.028 | G22: 記入 | H22: =AVERAGE(E22:G22) -> 37.041 | I22: =H22*$I$13 -> #VALUE! | J22: =H22/$H$21 -> 1.0198092
C23: 240 | D23: =C23*$D$7 -> 240 | E23: =データ貼り付け!H10 -> 37.646 | F23: =データ貼り付け!H31 -> 37.612 | G23: 記入 | H23: =AVERAGE(E23:G23) -> 37.629 | I23: =H23*$I$13 -> #VALUE! | J23: =H23/$H$21 -> 1.035998
C24: 270 | D24: =C24*$D$7 -> 270 | E24: =データ貼り付け!H11 -> 38.206 | F24: =データ貼り付け!H32 -> 38.167 | G24: 記入 | H24: =AVERAGE(E24:G24) -> 38.1865 | I24: =H24*$I$13 -> #VALUE! | J24: =H24/$H$21 -> 1.051347
C25: 300 | D25: =C25*$D$7 -> 300 | E25: =データ貼り付け!H12 -> 38.754 | F25: =データ貼り付け!H33 -> 38.706 | G25: 記入 | H25: =AVERAGE(E25:G25) -> 38.73 | I25: =H25*$I$13 -> #VALUE! | J25: =H25/$H$21 -> 1.0663106
C26: 350 | D26: =C26*$D$7 -> 350 | E26: =データ貼り付け!H13 -> 39.627 | F26: =データ貼り付け!H34 -> 39.566 | G26: 記入 | H26: =AVERAGE(E26:G26) -> 39.5965 | I26: =H26*$I$13 -> #VALUE! | J26: =H26/$H$21 -> 1.090167
C27: 400 | D27: =C27*$D$7 -> 400 | E27: =データ貼り付け!H14 -> 40.447 | F27: =データ貼り付け!H35 -> 40.368 | G27: 記入 | H27: =AVERAGE(E27:G27) -> 40.4075 | I27: =H27*$I$13 -> #VALUE! | J27: =H27/$H$21 -> 1.1124954
I28: =$K$30/J36 -> #VALUE! | J28: ←Φv typ.係数
A29: ペルチェIF | B29: 露光時間 | C29: IF-φv特性 | E29: φv[lm] | K29: typ.換算 | L29: ⊿φv
A30: ［A］(参考) | B30: [ms](参考) | C30: IF/die | D30: IF/PKG | E30: =E15 -> No.1 | G30: =F15 -> No.2 | I30: =G15 -> No.** | J30: ave. | K30: 記入 | L30: %
A31: =A16 -> 0 | B31: =B16 -> 0 | C31: =C16 -> 30 | D31: =C31*$D$7 -> 30 | E31: =データ貼り付け!D3 -> 136.77804 | F31: =E31/$E$36 -> 0.19412549 | G31: =データ貼り付け!D24 -> 137.07977 | H31: =G31/$G$36 -> 0.1952539 | I31: 記入 | J31: =AVERAGE(E31:I31) -> 68.561797 | K31: =J31*$I$28 -> #VALUE! | L31: =J31/$J$36 -> 0.19468868
A32: =A17 -> 0 | B32: =B17 -> 0 | C32: =C17 -> 60 | D32: =C32*$D$7 -> 60 | E32: =データ貼り付け!D4 -> 267.30622 | F32: =E32/$E$36 -> 0.37938073 | G32: =データ貼り付け!D25 -> 267.25968 | H32: =G32/$G$36 -> 0.38067976 | I32: 記入 | J32: =AVERAGE(E32:I32) -> 133.83149 | K32: =J32*$I$28 -> #VALUE! | L32: =J32/$J$36 -> 0.38002908
A33: =A18 -> 0 | B33: =B18 -> 0 | C33: =C18 -> 90 | D33: =C33*$D$7 -> 90 | E33: =データ貼り付け!D5 -> 390.22746 | F33: =E33/$E$36 -> 0.55383963 | G33: =データ貼り付け!D26 -> 389.81783 | H33: =G33/$G$36 -> 0.55524933 | I33: 記入 | J33: =AVERAGE(E33:I33) -> 195.2886 | K33: =J33*$I$28 -> #VALUE! | L33: =J33/$J$36 -> 0.55454322
A34: =A19 -> 0 | B34: =B19 -> 0 | C34: =C19 -> 120 | D34: =C34*$D$7 -> 120 | E34: =データ貼り付け!D6 -> 506.72859 | F34: =E34/$E$36 -> 0.71918663 | G34: =データ貼り付け!D27 -> 505.62243 | H34: =G34/$G$36 -> 0.72019926 | I34: 記入 | J34: =AVERAGE(E34:I34) -> 253.4476 | K34: =J34*$I$28 -> #VALUE! | L34: =J34/$J$36 -> 0.71969204
A35: =A20 -> 0 | B35: =B20 -> 0 | C35: =C20 -> 150 | D35: =C35*$D$7 -> 150 | E35: =データ貼り付け!D7 -> 616.96873 | F35: =E35/$E$36 -> 0.87564759 | G35: =データ貼り付け!D28 -> 615.37817 | H35: =G35/$G$36 -> 0.87653331 | I35: 記入 | J35: =AVERAGE(E35:I35) -> 308.52477 | K35: =J35*$I$28 -> #VALUE! | L35: =J35/$J$36 -> 0.87608966
A36: =A21 -> 0 | B36: =B21 -> 0 | C36: =C21 -> 175 | D36: =C36*$D$7 -> 175 | E36: =データ貼り付け!D8 -> 704.58566 | F36: =E36/$E$36 -> 1 | G36: =データ貼り付け!D29 -> 702.05907 | H36: =G36/$G$36 -> 1 | I36: 記入 | J36: =AVERAGE(E36:I36) -> 352.16118 | K36: =J36*$I$28 -> #VALUE! | L36: =J36/$J$36 -> 1
A37: =A22 -> 0 | B37: =B22 -> 0 | C37: =C22 -> 210 | D37: =C37*$D$7 -> 210 | E37: =データ貼り付け!D9 -> 820.64569 | F37: =E37/$E$36 -> 1.164721 | G37: =データ貼り付け!D30 -> 817.48667 | H37: =G37/$G$36 -> 1.1644129 | I37: 記入 | J37: =AVERAGE(E37:I37) -> 410.11537 | K37: =J37*$I$28 -> #VALUE! | L37: =J37/$J$36 -> 1.1645672
A38: =A23 -> 0 | B38: =B23 -> 0 | C38: =C23 -> 240 | D38: =C38*$D$7 -> 240 | E38: =データ貼り付け!D10 -> 915.46991 | F38: =E38/$E$36 -> 1.2993025 | G38: =データ貼り付け!D31 -> 911.03929 | H38: =G38/$G$36 -> 1.2976676 | I38: 記入 | J38: =AVERAGE(E38:I38) -> 457.27654 | K38: =J38*$I$28 -> #VALUE! | L38: =J38/$J$36 -> 1.2984865
A39: =A24 -> 0 | B39: =B24 -> 0 | C39: =C24 -> 270 | D39: =C39*$D$7 -> 270 | E39: =データ貼り付け!D11 -> 1004.2719 | F39: =E39/$E$36 -> 1.4253368 | G39: =データ貼り付け!D32 -> 999.16141 | H39: =G39/$G$36 -> 1.4231871 | I39: 記入 | J39: =AVERAGE(E39:I39) -> 501.57045 | K39: =J39*$I$28 -> #VALUE! | L39: =J39/$J$36 -> 1.4242639
A40: =A25 -> 0 | B40: =B25 -> 0 | C40: =C25 -> 300 | D40: =C40*$D$7 -> 300 | E40: =データ貼り付け!D12 -> 1090.2781 | F40: =E40/$E$36 -> 1.5474032 | G40: =データ貼り付け!D33 -> 1083.4123 | H40: =G40/$G$36 -> 1.5431924 | I40: 記入 | J40: =AVERAGE(E40:I40) -> 544.19524 | K40: =J40*$I$28 -> #VALUE! | L40: =J40/$J$36 -> 1.5453016
...

Sheet Tc特性
A1: 140317@代表特性測定フォーマット_5.00
C2: 測定日： | D2: =IF特性!D2 -> 43250 | F2: 下の黄色グラフで個別データを確認しながら測定
C3: 機種名： | D3: =IF特性!D3 -> CQ7A03H1201C9-303H5R2
C4: 試作No.： | D4: 記入
C5: 素子波長： | D5: 記入
C6: 直列数： | D6: =IF特性!D6 -> 12
C7: 並列数： | D7: =IF特性!D7 -> 1
C8: 測定方法： | D8: PLS
C10: ※青文字：計算値
C11: ※緑文字：3回測定平均値
I12: =I14/H17 -> #VALUE! | J12: ←VF typ.係数
A13: ペルチェIF | B13: 露光時間 | C13: Tc-VF特性 | E13: VF [V] | I13: typ.換算 | J13: ⊿VF
A14: ［A］(参考) | B14: [ms](参考) | C14: Tc ［℃］ | D14: IF/PKG | E14: =IF特性!E15 -> No.1 | F14: =IF特性!F15 -> No.2 | G14: =IF特性!G15 -> No.** | H14: ave. | I14: 記入 | J14: %
A15: -1.8 | C15: 0 | D15: =D7*175 -> 175 | E15: =データ貼り付け!H15 -> 37.018 | F15: =データ貼り付け!H36 -> 36.979 | G15: 記入 | H15: =AVERAGE(E15:G15) -> 36.9985 | I15: =H15*$I$12 -> #VALUE! | J15: =H15/$H$16 -> 1.0191301
A16: -0.05 | C16: 25 | D16: =$D$15 -> 175 | E16: =データ貼り付け!H16 -> 36.315 | F16: =データ貼り付け!H37 -> 36.293 | G16: 記入 | H16: =AVERAGE(E16:G16) -> 36.304 | I16: =H16*$I$12 -> #VALUE! | J16: =H16/$H$16 -> 1
A17: 0.58 | C17: 45 | D17: =$D$15 -> 175 | E17: =データ貼り付け!H17 -> 35.878 | F17: =データ貼り付け!H38 -> 35.848 | G17: 記入 | H17: =AVERAGE(E17:G17) -> 35.863 | I17: =H17*$I$12 -> #VALUE! | J17: =H17/$H$16 -> 0.98785258
A18: 1.01 | C18: 65 | D18: =$D$15 -> 175 | E18: =データ貼り付け!H18 -> 35.493 | F18: =データ貼り付け!H39 -> 35.462 | G18: 記入 | H18: =AVERAGE(E18:G18) -> 35.4775 | I18: =H18*$I$12 -> #VALUE! | J18: =H18/$H$16 -> 0.97723391
A19: 1.05 | C19: 66.3 | D19: =$D$15 -> 175 | E19: =データ貼り付け!H19 -> 35.465 | F19: =データ貼り付け!H40 -> 35.435 | G19: 記入 | H19: =AVERAGE(E19:G19) -> 35.45 | I19: =H19*$I$12 -> #VALUE! | J19: =H19/$H$16 -> 0.97647642
A20: 1.35 | C20: 85 | D20: =$D$15 -> 175 | E20: =データ貼り付け!H20 -> 35.133 | F20: =データ貼り付け!H41 -> 35.12 | G20: 記入 | H20: =AVERAGE(E20:G20) -> 35.1265 | I20: =H20*$I$12 -> #VALUE! | J20: =H20/$H$16 -> 0.96756556
A21: 1.56 | C21: 105 | D21: =$D$15 -> 175 | E21: =データ貼り付け!H21 -> 34.822 | F21: =データ貼り付け!H42 -> 34.79 | G21: 記入 | H21: =AVERAGE(E21:G21) -> 34.806 | I21: =H21*$I$12 -> #VALUE! | J21: =H21/$H$16 -> 0.95873733
A22: 1.75 | C22: 125 | D22: =$D$15 -> 175 | E22: =データ貼り付け!H22 -> 34.514 | F22: =データ貼り付け!H43 -> 34.486 | G22: 記入 | H22: =AVERAGE(E22:G22) -> 34.5 | I22: =H22*$I$12 -> #VALUE! | J22: =H22/$H$16 -> 0.95030851
A23: 1.85 | C23: 135 | D23: =$D$15 -> 175 | E23: =データ貼り付け!H23 -> 34.363 | F23: =データ貼り付け!H44 -> 34.338 | G23: 記入 | H23: =AVERAGE(E23:G23) -> 34.3505 | I23: =H23*$I$12 -> #VALUE! | J23: =H23/$H$16 -> 0.9461905
I26: =K28/J31 -> #VALUE! | J26: ←Φv typ.係数
A27: ペルチェIF | B27: 露光時間 | C27: Tc-φv特性 | E27: φv[lm] | K27: typ.換算 | L27: ⊿φv
A28: ［A］(参考) | B28: [ms](参考) | C28: Tc ［℃］ | D28: IF/PKG | E28: =E14 -> No.1 | G28: =F14 -> No.2 | I28: =G14 -> No.** | J28: ave. | K28: 記入 | L28: %
A29: =A15 -> -1.8 | B29: =B15 -> 0 | C29: 0 | D29: =$D$15 -> 175 | E29: =データ貼り付け!D15 -> 731.96803 | F29: =E29/$E$30 -> 1.0413755 | G29: =データ貼り付け!D36 -> 724.63209 | H29: =G29/$G$30 -> 1.0338451 | I29: 記入 | J29: =AVERAGE(E29:I29) -> 364.66883 | K29: =$K$28*J29/$J$31 -> #VALUE! | L29: =J29/$J$30 -> 1.0376156
A30: =A16 -> -0.05 | B30: =B16 -> 0 | C30: 25 | D30: =$D$15 -> 175 | E30: =データ貼り付け!D16 -> 702.88577 | F30: =E30/$E$30 -> 1 | G30: =データ貼り付け!D37 -> 700.90973 | H30: =G30/$G$30 -> 1 | I30: 記入 | J30: =AVERAGE(E30:I30) -> 351.44887 | K30: =$K$28*J30/$J$31 -> #VALUE! | L30: =J30/$J$30 -> 1
A31: =A17 -> 0.58 | B31: =B17 -> 0 | C31: 45 | D31: =$D$15 -> 175 | E31: =データ貼り付け!D17 -> 679.77924 | F31: =E31/$E$30 -> 0.96712619 | G31: =データ貼り付け!D38 -> 676.15551 | H31: =G31/$G$30 -> 0.96468273 | I31: 記入 | J31: =AVERAGE(E31:I31) -> 339.46664 | K31: =$K$28*J31/$J$31 -> #VALUE! | L31: =J31/$J$30 -> 0.96590618
A32: =A18 -> 1.01 | B32: =B18 -> 0 | C32: 65 | D32: =$D$15 -> 175 | E32: =データ貼り付け!D18 -> 651.96679 | F32: =E32/$E$30 -> 0.92755725 | G32: =データ貼り付け!D39 -> 647.25572 | H32: =G32/$G$30 -> 0.9234509 | I32: 記入 | J32: =AVERAGE(E32:I32) -> 325.26838 | K32: =J32*$I$12 -> #VALUE! | L32: =J32/$J$30 -> 0.92550696
A33: =A19 -> 1.05 | B33: =B19 -> 0 | C33: =C19 -> 66.3 | D33: =$D$15 -> 175 | E33: =データ貼り付け!D19 -> 649.32494 | F33: =E33/$E$30 -> 0.92379867 | G33: =データ貼り付け!D40 -> 645.08418 | H33: =G33/$G$30 -> 0.92035273 | I33: 記入 | J33: =AVERAGE(E33:I33) -> 324.06332 | K33: =J33*$I$12 -> #VALUE! | L33: =J33/$J$30 -> 0.92207812
A34: =A20 -> 1.35 | B34: =B20 -> 0 | C34: 85 | D34: =$D$15 -> 175 | E34: =データ貼り付け!D20 -> 617.3404 | F34: =E34/$E$30 -> 0.87829406 | G34: =データ貼り付け!D41 -> 615.77202 | H34: =G34/$G$30 -> 0.87853256 | I34: 記入 | J34: =AVERAGE(E34:I34) -> 308.71731 | K34: =$K$28*J34/$J$31 -> #VALUE! | L34: =J34/$J$30 -> 0.87841314
A35: =A21 -> 1.56 | B35: =B21 -> 0 | C35: 105 | D35: =$D$15 -> 175 | E35: =データ貼り付け!D21 -> 583.67157 | F35: =E35/$E$30 -> 0.83039321 | G35: =データ貼り付け!D42 -> 578.6024 | H35: =G35/$G$30 -> 0.82550202 | I35: 記入 | J35: =AVERAGE(E35:I35) -> 290.98247 | K35: =$K$28*J35/$J$31 -> #VALUE! | L35: =J35/$J$30 -> 0.82795105
A36: =A22 -> 1.75 | B36: =B22 -> 0 | C36: 125 | D36: =$D$15 -> 175 | E36: =データ貼り付け!D22 -> 543.91777 | F36: =E36/$E$30 -> 0.77383523 | G36: =データ貼り付け!D43 -> 539.23899 | H36: =G36/$G$30 -> 0.76934157 | I36: 記入 | J36: =AVERAGE(E36:I36) -> 271.17498 | K36: =$K$28*J36/$J$31 -> #VALUE! | L36: =J36/$J$30 -> 0.77159156
A37: =A23 -> 1.85 | B37: =B23 -> 0 | C37: 135 | D37: =$D$15 -> 175 | E37: =データ貼り付け!D23 -> 522.43044 | F37: =E37/$E$30 -> 0.74326508 | G37: =データ貼り付け!D44 -> 518.12547 | H37: =G37/$G$30 -> 0.73921855 | I37: 記入 | J37: =AVERAGE(E37:I37) -> 260.5096 | K37: =$K$28*J37/$J$31 -> #VALUE! | L37: =J37/$J$30 -> 0.74124466
A41: ペルチェIF | B41: 露光時間 | C41: Tc-xy特性 | E41: =E14 -> No.1 | G41: =F14 -> No.2 | I41: =G14 -> No.** | K41: ave.
A42: ［A］(参考) | B42: [ms](参考) | C42: Tc ［℃］ | D42: IF/PKG | E42: x | F42: y | G42: x | H42: y | I42: x | J42: y | K42: x | L42: y | M42: ⊿x | N42: ⊿y
A43: =A15 -> -1.8 | B43: =B15 -> 0 | C43: 0 | D43: =$D$15 -> 175 | E43: =データ貼り付け!S15 -> 0.43377853 | F43: =データ貼り付け!T15 -> 0.41134888 | G43: =データ貼り付け!S36 -> 0.43673072 | H43: =データ貼り付け!T36 -> 0.41047911 | K43: =AVERAGE(E43,G43) -> 0.43525463 | L43: =AVERAGE(F43,H43) -> 0.41091399 | M43: =K43-$K$44 -> 0.00061544505 | N43: =L43-$L$44 -> 0.0053283641
A44: =A16 -> -0.05 | B44: =B16 -> 0 | C44: 25 | D44: =$D$15 -> 175 | E44: =データ貼り付け!S16 -> 0.43476078 | F44: =データ貼り付け!T16 -> 0.40539988 | G44: =データ貼り付け!S37 -> 0.43451759 | H44: =データ貼り付け!T37 -> 0.40577138 | K44: =AVERAGE(E44,G44) -> 0.43463918 | L44: =AVERAGE(F44,H44) -> 0.40558563 | M44: =K44-$K$44 -> 0 | N44: =L44-$L$44 -> 0
A45: =A17 -> 0.58 | B45: =B17 -> 0 | C45: 45 | D45: =$D$15 -> 175 | E45: =データ貼り付け!S17 -> 0.43505908 | F45: =データ貼り付け!T17 -> 0.40496833 | G45: =データ貼り付け!S38 -> 0.4350731 | H45: =データ貼り付け!T38 -> 0.4055746 | K45: =AVERAGE(E45,G45) -> 0.43506609 | L45: =AVERAGE(F45,H45) -> 0.40527146 | M45: =K45-$K$44 -> 0.0004269062 | N45: =L45-$L$44 -> -0.00031416501
A46: =A18 -> 1.01 | B46: =B18 -> 0 | C46: 65 | D46: =$D$15 -> 175 | E46: =データ貼り付け!S18 -> 0.43504506 | F46: =データ貼り付け!T18 -> 0.40476374 | G46: =データ貼り付け!S39 -> 0.43498415 | H46: =データ貼り付け!T39 -> 0.40515992 | K46: =AVERAGE(E46,G46) -> 0.43501461 | L46: =AVERAGE(F46,H46) -> 0.40496183 | M46: =K46-$K$44 -> 0.00037542302 | N46: =L46-$L$44 -> -0.00062379571
...

Sheet スペ
A1: 130318@代表特性測定フォーマット_4.00
C2: 測定日： | D2: =IF特性!D2 -> 43250
C3: 機種名： | D3: =IF特性!D3 -> CQ7A03H1201C9-303H5R2
C4: 試作No.： | D4: 記入
C5: 素子波長： | D5: 記入
C6: 直列数： | D6: =IF特性!D6 -> 12
C7: 並列数： | D7: =IF特性!D7 -> 1
C8: 測定方法： | D8: PLS
C10: ※青文字：計算値
C11: ※緑文字：3回測定平均値
B13: スペクトル
B14: 波長ランク | C14: =$D$5 -> 記入
B15: Tc | C15: 25℃ | F15: =MAX(F18:F112) -> 0.014153136 | G15: ←max.
B16: 単位 | C16: W/nm | D16: W/nm | E16: W/nm | F16: W/nm | G16: 相対値(%)
B17: WD[nm] | C17: =IF特性!E15 -> No.1 | D17: =IF特性!F15 -> No.2 | E17: =IF特性!G15 -> No.** | F17: ave. | G17: ave.
B18: 360 | C18: 0.00023646654 | D18: 0.00027713526 | E18: =$D$5 -> 記入 | F18: =AVERAGE(C18:E18) -> 0.0002568009 | G18: =F18/$F$15 -> 0.018144452
B19: 365 | C19: 0.00019717605 | D19: 0.00033457412 | E19: =$D$5 -> 記入 | F19: =AVERAGE(C19:E19) -> 0.00026587508 | G19: =F19/$F$15 -> 0.018785595
B20: 370 | C20: 0.00024759766 | D20: 0.00051622254 | E20: =$D$5 -> 記入 | F20: =AVERAGE(C20:E20) -> 0.0003819101 | G20: =F20/$F$15 -> 0.026984133
B21: 375 | C21: 0.00062998021 | D21: 0.00046923002 | E21: =$D$5 -> 記入 | F21: =AVERAGE(C21:E21) -> 0.00054960512 | G21: =F21/$F$15 -> 0.038832745
B22: 380 | C22: 0.00037915899 | D22: 0.00050826933 | E22: =$D$5 -> 記入 | F22: =AVERAGE(C22:E22) -> 0.00044371416 | G22: =F22/$F$15 -> 0.031350943
B23: 385 | C23: 0.0004572307 | D23: 0.00036060687 | E23: =$D$5 -> 記入 | F23: =AVERAGE(C23:E23) -> 0.00040891878 | G23: =F23/$F$15 -> 0.028892451
B24: 390 | C24: 0.00017677915 | D24: 0.00014153206 | E24: =$D$5 -> 記入 | F24: =AVERAGE(C24:E24) -> 0.00015915561 | G24: =F24/$F$15 -> 0.011245254
B25: 395 | C25: 0.00017168643 | D25: 0.00022218932 | E25: =$D$5 -> 記入 | F25: =AVERAGE(C25:E25) -> 0.00019693788 | G25: =F25/$F$15 -> 0.013914787
B26: 400 | C26: 0.00020066119 | D26: 0.00021246853 | E26: =$D$5 -> 記入 | F26: =AVERAGE(C26:E26) -> 0.00020656486 | G26: =F26/$F$15 -> 0.014594989
B27: 405 | C27: 0.00011055968 | D27: 0.00011536528 | E27: =$D$5 -> 記入 | F27: =AVERAGE(C27:E27) -> 0.00011296248 | G27: =F27/$F$15 -> 0.0079814453
B28: 410 | C28: 9.7173787e-05 | D28: 9.3900025e-05 | E28: =$D$5 -> 記入 | F28: =AVERAGE(C28:E28) -> 9.5536906e-05 | G28: =F28/$F$15 -> 0.0067502288
B29: 415 | C29: 0.00012787236 | D29: 0.00013737686 | E29: =$D$5 -> 記入 | F29: =AVERAGE(C29:E29) -> 0.00013262461 | G29: =F29/$F$15 -> 0.0093706872
... B112: 830 | C112: 0.00010241771 | D112: 0.0001017443 | E112: =$D$5 -> 記入 | F112: =AVERAGE(C112:E112) -> 0.000102081 | G112: =F112/$F$15 -> 0.0072126067
C113: 9.3581071e-05 | D113: 9.0987204e-05
C114: 8.0815469e-05 | D114: 7.8597405e-05
C115: 7.3037075e-05 | D115: 6.9888943e-05
C116: 6.4234797e-05 | D116: 5.7412622e-05
C117: 5.3819421e-05 | D117: 4.9044356e-05
C118: 4.4134061e-05 | D118: 4.3825457e-05
C119: 3.9246057e-05 | D119: 4.3102149e-05
C120: 3.6674645e-05 | D120: 3.8807294e-05
C121: 3.418881e-05 | D121: 2.660224e-05
C122: 2.8184384e-05 | D122: 2.9332984e-05
C123: 2.4969558e-05 | D123: 2.5440398e-05
C124: 2.495919e-05 | D124: 2.9414385e-05
...

Sheet 座標
D2: x | E2: y | I2: x | J2: y | N2: x | O2: y | S2: x | T2: y | X2: x | Y2: y | AA2: 1 | AB2: ｘ | AC2: ｙ
B3: D | C3: a | D3: 0.301 | E3: 0.342 | G3: N | H3: a | I3: 0.331 | J3: 0.373 | L3: W | M3: a | N3: 0.367 | O3: 0.402 | Q3: WW | R3: a | S3: 0.404 | T3: 0.427 | V3: L | W3: a | X3: 0.445 | Y3: 0.448 | AA3: a | AB3: 0.307 | AC3: 0.316
C4: b | D4: 0.31 | E4: 0.302 | H4: b | I4: 0.331 | J4: 0.322 | M4: b | N4: 0.359 | O4: 0.352 | R4: b | S4: 0.386 | T4: 0.37 | W4: b | X4: 0.417 | Y4: 0.386 | AA4: b | AB4: 0.3034 | AC4: 0.3304
C5: c | D5: 0.331 | E5: 0.322 | H5: c | I5: 0.357 | J5: 0.341 | M5: c | N5: 0.386 | O5: 0.37 | R5: c | S5: 0.417 | T5: 0.386 | W5: c | X5: 0.459 | Y5: 0.398 | AA5: c | AB5: 0.3158 | AC5: 0.3434
C6: d | D6: 0.331 | E6: 0.373 | H6: d | I6: 0.367 | J6: 0.402 | M6: d | N6: 0.404 | O6: 0.427 | R6: d | S6: 0.445 | T6: 0.448 | W6: d | X6: 0.499 | Y6: 0.466 | AA6: d | AB6: 0.317 | AC6: 0.331
D7: 0.301 | E7: 0.342 | I7: 0.331 | J7: 0.373 | N7: 0.367 | O7: 0.402 | S7: 0.404 | T7: 0.427 | X7: 0.445 | Y7: 0.448 | AB7: 0.307 | AC7: 0.316
AA8: 2 | AB8: ｘ | AC8: ｙ
B9: BIN code | D9: x | E9: y | G9: BIN code | I9: x | J9: y | L9: BIN code | N9: x | O9: y | Q9: BIN code | S9: x | T9: y | V9: BIN code | X9: x | Y9: y | AA9: a | AB9: 0.317 | AC9: 0.331
B10: DR1 | C10: a | D10: 0.303 | E10: 0.333 | G10: NR1 | H10: a | I10: 0.331 | J10: 0.358 | L10: WR1 | M10: a | N10: 0.363 | O10: 0.376 | Q10: WWR1 | R10: a | S10: 0.397 | T10: 0.405 | V10: LR1 | W10: a | X10: 0.433 | Y10: 0.421 | AA10: b | AB10: 0.3158 | AC10: 0.3434
C11: b | D11: 0.301 | E11: 0.342 | H11: b | I11: 0.331 | J11: 0.373 | M11: b | N11: 0.367 | O11: 0.402 | R11: b | S11: 0.404 | T11: 0.427 | W11: b | X11: 0.445 | Y11: 0.448 | AA11: c | AB11: 0.331 | AC11: 0.3585
C12: c | D12: 0.314 | E12: 0.356 | H12: c | I12: 0.348 | J12: 0.387 | M12: c | N12: 0.381 | O12: 0.4115 | R12: c | S12: 0.422 | T12: 0.436 | W12: c | X12: 0.469 | Y12: 0.456 | AA12: d | AB12: 0.331 | AC12: 0.353
C13: d | D13: 0.315 | E13: 0.345 | H13: d | I13: 0.347 | J13: 0.373 | M13: d | N13: 0.375 | O13: 0.385 | R13: d | S13: 0.413 | T13: 0.412 | W13: d | X13: 0.456 | Y13: 0.429 | AA13: e | AB13: 0.317 | AC13: 0.331
D14: =D10 -> 0.303 | E14: =E10 -> 0.333 | I14: =I10 -> 0.331 | J14: =J10 -> 0.358 | N14: =N10 -> 0.363 | O14: =O10 -> 0.376 | S14: =S10 -> 0.397 | T14: =T10 -> 0.405 | X14: =X10 -> 0.433 | Y14: =Y10 -> 0.421 | AA14: 3 | AB14: ｘ | AC14: ｙ
B15: DR2 | C15: a | D15: 0.315 | E15: 0.345 | G15: NR2 | H15: a | I15: 0.347 | J15: 0.373 | L15: WR2 | M15: a | N15: 0.375 | O15: 0.385 | Q15: WWR2 | R15: a | S15: 0.413 | T15: 0.412 | V15: LR2 | W15: a | X15: 0.456 | Y15: 0.429 | AA15: a | AB15: 0.3174 | AC15: 0.327
C16: b | D16: 0.314 | E16: 0.356 | H16: b | I16: 0.348 | J16: 0.387 | M16: b | N16: 0.381 | O16: 0.4113 | R16: b | S16: 0.422 | T16: 0.436 | W16: b | X16: 0.469 | Y16: 0.456 | AA16: b | AB16: 0.317 | AC16: 0.331
C17: c | D17: 0.331 | E17: 0.373 | H17: c | I17: 0.367 | J17: 0.402 | M17: c | N17: 0.404 | O17: 0.427 | R17: c | S17: 0.445 | T17: 0.448 | W17: c | X17: 0.499 | Y17: 0.466 | AA17: c | AB17: 0.331 | AC17: 0.353
C18: d | D18: 0.331 | E18: 0.36 | H18: d | I18: 0.36472 | J18: 0.388 | M18: d | N18: 0.39453 | O18: 0.397 | R18: d | S18: 0.433 | T18: 0.421 | W18: d | X18: 0.481 | Y18: 0.435 | AA18: d | AB18: 0.331 | AC18: 0.34
D19: =D15 -> 0.315 | E19: =E15 -> 0.345 | I19: =I15 -> 0.347 | J19: =J15 -> 0.373 | N19: =N15 -> 0.375 | O19: =O15 -> 0.385 | S19: =S15 -> 0.413 | T19: =T15 -> 0.412 | X19: =X15 -> 0.456 | Y19: =Y15 -> 0.429 | AB19: 0.3174 | AC19: 0.327
B20: DR3 | C20: a | D20: 0.307 | E20: 0.316 | G20: NR3 | H20: a | I20: 0.331 | J20: 0.338 | L20: WR3 | M20: a | N20: 0.359 | O20: 0.352 | Q20: WWR3 | R20: a | S20: 0.39 | T20: 0.383 | V20: LR3 | W20: a | X20: 0.417 | Y20: 0.386 | AA20: 4 | AB20: ｘ | AC20: ｙ
C21: b | D21: 0.303 | E21: 0.333 | H21: b | I21: 0.331 | J21: 0.358 | M21: b | N21: 0.363 | O21: 0.376 | R21: b | S21: 0.397 | T21: 0.405 | W21: b | X21: 0.433 | Y21: 0.421 | AA21: a | AB21: 0.31 | AC21: 0.302
C22: c | D22: 0.315 | E22: 0.345 | H22: c | I22: 0.347 | J22: 0.373 | M22: c | N22: 0.375 | O22: 0.385 | R22: c | S22: 0.413 | T22: 0.412 | W22: c | X22: 0.456 | Y22: 0.429 | AA22: b | AB22: 0.307 | AC22: 0.316
C23: d | D23: 0.317 | E23: 0.327 | H23: d | I23: 0.345 | J23: 0.35 | M23: d | N23: 0.37 | O23: 0.3598 | R23: d | S23: 0.405 | T23: 0.39 | W23: d | X23: 0.437 | Y23: 0.392 | AA23: c | AB23: 0.317 | AC23: 0.331
D24: =D20 -> 0.307 | E24: =E20 -> 0.316 | I24: =I20 -> 0.331 | J24: =J20 -> 0.338 | N24: =N20 -> 0.359 | O24: =O20 -> 0.352 | S24: =S20 -> 0.39 | T24: =T20 -> 0.383 | X24: =X20 -> 0.417 | Y24: =Y20 -> 0.386 | AA24: d | AB24: 0.319 | AC24: 0.311
B25: DR4 | C25: a | D25: 0.317 | E25: 0.327 | G25: NR4 | H25: a | I25: 0.345 | J25: 0.35 | L25: WR4 | M25: a | N25: 0.37 | O25: 0.36 | Q25: WWR4 | R25: a | S25: 0.405 | T25: 0.39 | V25: LR4 | W25: a | X25: 0.437 | Y25: 0.392 | AB25: 0.31 | AC25: 0.302
C26: b | D26: 0.315 | E26: 0.345 | H26: b | I26: 0.347 | J26: 0.373 | M26: b | N26: 0.375 | O26: 0.385 | R26: b | S26: 0.413 | T26: 0.412 | W26: b | X26: 0.456 | Y26: 0.429 | AA26: 5 | AB26: x | AC26: y
C27: c | D27: 0.331 | E27: 0.36 | H27: c | I27: 0.36472 | J27: 0.388 | M27: c | N27: 0.39452 | O27: 0.3972 | R27: c | S27: 0.433 | T27: 0.421 | W27: c | X27: 0.481 | Y27: 0.435 | AA27: a | AB27: 0.319 | AC27: 0.311
C28: d | D28: 0.331 | E28: 0.34 | H28: d | I28: 0.3605 | J28: 0.363 | M28: d | N28: 0.386 | O28: 0.37 | R28: d | S28: 0.423 | T28: 0.399 | W28: d | X28: 0.459 | Y28: 0.398 | AA28: b | AB28: 0.3174 | AC28: 0.327
D29: =D25 -> 0.317 | E29: =E25 -> 0.327 | I29: =I25 -> 0.345 | J29: =J25 -> 0.35 | N29: =N25 -> 0.37 | O29: =O25 -> 0.36 | S29: =S25 -> 0.405 | T29: =T25 -> 0.39 | X29: =X25 -> 0.437 | Y29: =Y25 -> 0.392 | AA29: c | AB29: 0.331 | AC29: 0.34
B30: DR5 | C30: a | D30: 0.31 | E30: 0.302 | G30: NR5 | H30: a | I30: 0.331 | J30: 0.322 | Q30: WWR5 | R30: a | S30: 0.386 | T30: 0.37 | AA30: d | AB30: 0.331 | AC30: 0.322
C31: b | D31: 0.307 | E31: 0.316 | H31: b | I31: 0.331 | J31: 0.338 | R31: b | S31: 0.39 | T31: 0.383 | AB31: 0.319 | AC31: 0.311
C32: c | D32: 0.317 | E32: 0.327 | H32: c | I32: 0.345 | J32: 0.3501 | R32: c | S32: 0.405 | T32: 0.39
C33: d | D33: 0.319 | E33: 0.311 | H33: d | I33: 0.343 | J33: 0.331 | R33: d | S33: 0.4 | T33: 0.377
D34: =D30 -> 0.31 | E34: =E30 -> 0.302 | I34: =I30 -> 0.331 | J34: =J30 -> 0.322 | S34: =S30 -> 0.386 | T34: =T30 -> 0.37
B35: DR6 | C35: a | D35: 0.331 | E35: 0.34 | G35: NR6 | H35: a | I35: 0.343 | J35: 0.331 | Q35: WWR6 | R35: a | S35: 0.4 | T35: 0.377
C36: b | D36: 0.317 | E36: 0.327 | H36: b | I36: 0.345 | J36: 0.3502 | R36: b | S36: 0.405 | T36: 0.39
C37: c | D37: 0.319 | E37: 0.311 | H37: c | I37: 0.36056 | J37: 0.363 | R37: c | S37: 0.423 | T37: 0.399
C38: d | D38: 0.331 | E38: 0.322 | H38: d | I38: 0.357 | J38: 0.341 | R38: d | S38: 0.417 | T38: 0.386
I39: =I35 -> 0.343 | J39: =J35 -> 0.331
B40: 新色度範囲(09.02.24)より抜粋
C42: 2700K(ANSI) | E42: 3000K(ANSI) | G42: 3500K(ANSI) | I42: 4000K(ANSI) | K42: 4500K(ANSI) | M42: 5000K(CL-824) | O42: 6300K(CL-824)
...

Sheet Selector
P3: A number of LEDs
P5: Series | S5: Parallel | X5: Total Q'ty
B6: CCT,Ra | C6: 1 | D6: 1 | E6: 2 | G6: 150 | H6: =VLOOKUP(E6,Calculation!A24:I25,9,FALSE) -> mA | J6: Tc (C) | L6: 25 | P6: 1 | S6: 1 | X6: =P6*S6 -> 1
Q8: Reference | R8: ★ | T8: ★ | U8: Reference | W8: ★ | X8: Reference | Z8: ★
B9: Product code | E9: =VLOOKUP($E6,#REF!,3,FALSE) -> #REF! | G9: =VLOOKUP($E6,#REF!,4,FALSE) -> #REF! | I9: =VLOOKUP($E6,#REF!,7,FALSE) -> #REF! | K9: =VLOOKUP($E6,#REF!,8,FALSE) -> #REF! | M9: Tj (C) | P9: If [mA] | Q9: Vf [V] | V9: Pd [W] | W9: Pd [W] | X9: φv (lm) | Z9: lm/W
Q10: min | R10: Vf rate | S10: typ | T10: Vf rate | U10: max | V10: typ | W10: max | X10: min | Y10: typ | Z10: min | AA10: typ
B11: Code | E11: =CONCATENATE($E6,E9) -> #REF! | G11: =CONCATENATE($E6,G9) -> #REF! | I11: =CONCATENATE($E6,I9) -> #REF! | K11: =CONCATENATE($E6,K9) -> #REF! | M11: =CONCATENATE($E6,M9) -> 2Tj (C) | P11: N/A | S11: N/A | V11: N/A | X11: 0.879 | Y11: N/A
B12: =CONCATENATE(#REF!,"-",#REF!,#REF!,"-",#REF!) -> #REF! | E12: =HLOOKUP(E$11,#REF!,2,FALSE) -> #REF! | G12: =HLOOKUP(G$11,#REF!,2,FALSE) -> #REF! | I12: =HLOOKUP(I$11,#REF!,2,FALSE) -> #REF! | K12: =HLOOKUP(K$11,#REF!,2,FALSE) -> #REF! | M12: =HLOOKUP(M$11,#REF!,2,FALSE) -> #REF! | P12: =IF(G12="Not Applicable","Not Applicable",IF($H$6="mA",$G$6*$S$6,E12*$S$6)) -> #REF! | Q12: =IF(G12="Not Applicable","Not Applicable",S12*R12) -> #REF! | R12: 0.917647 | S12: =IF(G12="Not Applicable","Not Applicable",G12*$P$6) -> #REF! | T12: 0.082353 | U12: =IF(G12="Not Applicable","Not Applicable",S12*(1+T12)) -> #REF! | V12: =IF(G12="Not Applicable","Not Applicable",P12/1000*S12) -> #REF! | W12: =IF(G12="Not Applicable","Not Applicable",P12/1000*U12) -> #REF! | X12: =IF(G12="Not Applicable","Not Applicable",ROUNDDOWN(Y12*X$11,0)) -> #REF! | Y12: =IF(G12="Not Applicable","Not Applicable",IF($H$6="mA",E12*$P$6*$S$6,$G$6*$P$6*$S$6)) -> #REF! | Z12: =IF(E12="Not Applicable","Not Applicable",ROUNDDOWN(X12/W12,0)) -> #REF! | AA12: =IF(E12="Not Applicable","Not Applicable",Y12/V12) -> #REF!
B13: =CONCATENATE(#REF!,"-",#REF!,#REF!,"-",#REF!) -> #REF! | E13: =HLOOKUP(E$11,#REF!,3,FALSE) -> #REF! | G13: =HLOOKUP(G$11,#REF!,3,FALSE) -> #REF! | I13: =HLOOKUP(I$11,#REF!,3,FALSE) -> #REF! | K13: =HLOOKUP(K$11,#REF!,3,FALSE) -> #REF! | M13: =HLOOKUP(M$11,#REF!,3,FALSE) -> #REF! | P13: =IF(G13="Not Applicable","Not Applicable",IF($H$6="mA",$G$6*$S$6,E13*$S$6)) -> #REF! | Q13: =IF(G13="Not Applicable","Not Applicable",S13*R13) -> #REF! | R13: =R12 -> 0.917647 | S13: =IF(G13="Not Applicable","Not Applicable",G13*$P$6) -> #REF! | T13: =T12 -> 0.082353 | U13: =IF(G13="Not Applicable","Not Applicable",S13*(1+T13)) -> #REF! | V13: =IF(G13="Not Applicable","Not Applicable",P13/1000*S13) -> #REF! | W13: =IF(G13="Not Applicable","Not Applicable",P13/1000*U13) -> #REF! | X13: =IF(G13="Not Applicable","Not Applicable",ROUNDDOWN(Y13*X$11,0)) -> #REF! | Y13: =IF(G13="Not Applicable","Not Applicable",IF($H$6="mA",E13*$P$6*$S$6,$G$6*$P$6*$S$6)) -> #REF! | Z13: =IF(E13="Not Applicable","Not Applicable",ROUNDDOWN(X13/W13,0)) -> #REF! | AA13: =IF(E13="Not Applicable","Not Applicable",Y13/V13) -> #REF!
B14: =CONCATENATE(#REF!,"-",#REF!,#REF!,"-",#REF!) -> #REF! | E14: =HLOOKUP(E$11,#REF!,4,FALSE) -> #REF! | G14: =HLOOKUP(G$11,#REF!,4,FALSE) -> #REF! | I14: =HLOOKUP(I$11,#REF!,4,FALSE) -> #REF! | K14: =HLOOKUP(K$11,#REF!,4,FALSE) -> #REF! | M14: =HLOOKUP(M$11,#REF!,4,FALSE) -> #REF! | P14: =IF(G14="Not Applicable","Not Applicable",IF($H$6="mA",$G$6*$S$6,E14*$S$6)) -> #REF! | Q14: =IF(G14="Not Applicable","Not Applicable",S14*R14) -> #REF! | R14: =R13 -> 0.917647 | S14: =IF(G14="Not Applicable","Not Applicable",G14*$P$6) -> #REF! | T14: =T13 -> 0.082353 | U14: =IF(G14="Not Applicable","Not Applicable",S14*(1+T14)) -> #REF! | V14: =IF(G14="Not Applicable","Not Applicable",P14/1000*S14) -> #REF! | W14: =IF(G14="Not Applicable","Not Applicable",P14/1000*U14) -> #REF! | X14: =IF(G14="Not Applicable","Not Applicable",ROUNDDOWN(Y14*X$11,0)) -> #REF! | Y14: =IF(G14="Not Applicable","Not Applicable",IF($H$6="mA",E14*$P$6*$S$6,$G$6*$P$6*$S$6)) -> #REF! | Z14: =IF(E14="Not Applicable","Not Applicable",ROUNDDOWN(X14/W14,0)) -> #REF! | AA14: =IF(E14="Not Applicable","Not Applicable",Y14/V14) -> #REF!
B15: =CONCATENATE(#REF!,"-",#REF!,#REF!,"-",#REF!) -> #REF! | E15: =HLOOKUP(E$11,#REF!,5,FALSE) -> #REF! | G15: =HLOOKUP(G$11,#REF!,5,FALSE) -> #REF! | I15: =HLOOKUP(I$11,#REF!,5,FALSE) -> #REF! | K15: =HLOOKUP(K$11,#REF!,5,FALSE) -> #REF! | M15: =HLOOKUP(M$11,#REF!,5,FALSE) -> #REF! | P15: =IF(G15="Not Applicable","Not Applicable",IF($H$6="mA",$G$6*$S$6,E15*$S$6)) -> #REF! | Q15: =IF(G15="Not Applicable","Not Applicable",S15*R15) -> #REF! | R15: =R14 -> 0.917647 | S15: =IF(G15="Not Applicable","Not Applicable",G15*$P$6) -> #REF! | T15: =T14 -> 0.082353 | U15: =IF(G15="Not Applicable","Not Applicable",S15*(1+T15)) -> #REF! | V15: =IF(G15="Not Applicable","Not Applicable",P15/1000*S15) -> #REF! | W15: =IF(G15="Not Applicable","Not Applicable",P15/1000*U15) -> #REF! | X15: =IF(G15="Not Applicable","Not Applicable",ROUNDDOWN(Y15*X$11,0)) -> #REF! | Y15: =IF(G15="Not Applicable","Not Applicable",IF($H$6="mA",E15*$P$6*$S$6,$G$6*$P$6*$S$6)) -> #REF! | Z15: =IF(E15="Not Applicable","Not Applicable",ROUNDDOWN(X15/W15,0)) -> #REF! | AA15: =IF(E15="Not Applicable","Not Applicable",Y15/V15) -> #REF!
A16: ★ | B16: =CONCATENATE(#REF!,"-",#REF!,#REF!,"-",#REF!) -> #REF! | E16: =HLOOKUP(E$11,#REF!,6,FALSE) -> #REF! | G16: =HLOOKUP(G$11,#REF!,6,FALSE) -> #REF! | I16: =HLOOKUP(I$11,#REF!,6,FALSE) -> #REF! | K16: =HLOOKUP(K$11,#REF!,6,FALSE) -> #REF! | M16: =HLOOKUP(M$11,#REF!,6,FALSE) -> #REF! | P16: =IF(G16="Not Applicable","Not Applicable",IF($H$6="mA",$G$6*$S$6,E16*$S$6)) -> #REF! | Q16: =IF(G16="Not Applicable","Not Applicable",S16*R16) -> #REF! | R16: =R15 -> 0.917647 | S16: =IF(G16="Not Applicable","Not Applicable",G16*$P$6) -> #REF! | T16: =T15 -> 0.082353 | U16: =IF(G16="Not Applicable","Not Applicable",S16*(1+T16)) -> #REF! | V16: =IF(G16="Not Applicable","Not Applicable",P16/1000*S16) -> #REF! | W16: =IF(G16="Not Applicable","Not Applicable",P16/1000*U16) -> #REF! | X16: =IF(G16="Not Applicable","Not Applicable",ROUNDDOWN(Y16*X$11,0)) -> #REF! | Y16: =IF(G16="Not Applicable","Not Applicable",IF($H$6="mA",E16*$P$6*$S$6,$G$6*$P$6*$S$6)) -> #REF! | Z16: =IF(E16="Not Applicable","Not Applicable",ROUNDDOWN(X16/W16,0)) -> #REF! | AA16: =IF(E16="Not Applicable","Not Applicable",Y16/V16) -> #REF!
B17: =CONCATENATE(#REF!,"-",#REF!,#REF!,"-",#REF!) -> #REF! | E17: =HLOOKUP(E$11,#REF!,7,FALSE) -> #REF! | G17: =HLOOKUP(G$11,#REF!,7,FALSE) -> #REF! | I17: =HLOOKUP(I$11,#REF!,7,FALSE) -> #REF! | K17: =HLOOKUP(K$11,#REF!,7,FALSE) -> #REF! | M17: =HLOOKUP(M$11,#REF!,7,FALSE) -> #REF! | P17: =IF(G17="Not Applicable","Not Applicable",IF($H$6="mA",$G$6*$S$6,E17*$S$6)) -> #REF! | Q17: =IF(G17="Not Applicable","Not Applicable",S17*R17) -> #REF! | R17: =R16 -> 0.917647 | S17: =IF(G17="Not Applicable","Not Applicable",G17*$P$6) -> #REF! | T17: =T16 -> 0.082353 | U17: =IF(G17="Not Applicable","Not Applicable",S17*(1+T17)) -> #REF! | V17: =IF(G17="Not Applicable","Not Applicable",P17/1000*S17) -> #REF! | W17: =IF(G17="Not Applicable","Not Applicable",P17/1000*U17) -> #REF! | X17: =IF(G17="Not Applicable","Not Applicable",ROUNDDOWN(Y17*X$11,0)) -> #REF! | Y17: =IF(G17="Not Applicable","Not Applicable",IF($H$6="mA",E17*$P$6*$S$6,$G$6*$P$6*$S$6)) -> #REF! | Z17: =IF(E17="Not Applicable","Not Applicable",ROUNDDOWN(X17/W17,0)) -> #REF! | AA17: =IF(E17="Not Applicable","Not Applicable",Y17/V17) -> #REF!
B18: =CONCATENATE(#REF!,"-",#REF!,#REF!,"-",#REF!) -> #REF! | E18: =HLOOKUP(E$11,#REF!,8,FALSE) -> #REF! | G18: =HLOOKUP(G$11,#REF!,8,FALSE) -> #REF! | I18: =HLOOKUP(I$11,#REF!,8,FALSE) -> #REF! | K18: =HLOOKUP(K$11,#REF!,8,FALSE) -> #REF! | M18: =HLOOKUP(M$11,#REF!,8,FALSE) -> #REF! | P18: =IF(G18="Not Applicable","Not Applicable",IF($H$6="mA",$G$6*$S$6,E18*$S$6)) -> #REF! | Q18: =IF(G18="Not Applicable","Not Applicable",S18*R18) -> #REF! | R18: =R17 -> 0.917647 | S18: =IF(G18="Not Applicable","Not Applicable",G18*$P$6) -> #REF! | T18: =T17 -> 0.082353 | U18: =IF(G18="Not Applicable","Not Applicable",S18*(1+T18)) -> #REF! | V18: =IF(G18="Not Applicable","Not Applicable",P18/1000*S18) -> #REF! | W18: =IF(G18="Not Applicable","Not Applicable",P18/1000*U18) -> #REF! | X18: =IF(G18="Not Applicable","Not Applicable",ROUNDDOWN(Y18*X$11,0)) -> #REF! | Y18: =IF(G18="Not Applicable","Not Applicable",IF($H$6="mA",E18*$P$6*$S$6,$G$6*$P$6*$S$6)) -> #REF! | Z18: =IF(E18="Not Applicable","Not Applicable",ROUNDDOWN(X18/W18,0)) -> #REF! | AA18: =IF(E18="Not Applicable","Not Applicable",Y18/V18) -> #REF!
B19: =CONCATENATE(#REF!,"-",#REF!,#REF!,"-",#REF!) -> #REF! | E19: =HLOOKUP(E$11,#REF!,9,FALSE) -> #REF! | G19: =HLOOKUP(G$11,#REF!,9,FALSE) -> #REF! | I19: =HLOOKUP(I$11,#REF!,9,FALSE) -> #REF! | K19: =HLOOKUP(K$11,#REF!,9,FALSE) -> #REF! | M19: =HLOOKUP(M$11,#REF!,9,FALSE) -> #REF! | P19: =IF(G19="Not Applicable","Not Applicable",IF($H$6="mA",$G$6*$S$6,E19*$S$6)) -> #REF! | Q19: =IF(G19="Not Applicable","Not Applicable",S19*R19) -> #REF! | R19: =R18 -> 0.917647 | S19: =IF(G19="Not Applicable","Not Applicable",G19*$P$6) -> #REF! | T19: =T18 -> 0.082353 | U19: =IF(G19="Not Applicable","Not Applicable",S19*(1+T19)) -> #REF! | V19: =IF(G19="Not Applicable","Not Applicable",P19/1000*S19) -> #REF! | W19: =IF(G19="Not Applicable","Not Applicable",P19/1000*U19) -> #REF! | X19: =IF(G19="Not Applicable","Not Applicable",ROUNDDOWN(Y19*X$11,0)) -> #REF! | Y19: =IF(G19="Not Applicable","Not Applicable",IF($H$6="mA",E19*$P$6*$S$6,$G$6*$P$6*$S$6)) -> #REF! | Z19: =IF(E19="Not Applicable","Not Applicable",ROUNDDOWN(X19/W19,0)) -> #REF! | AA19: =IF(E19="Not Applicable","Not Applicable",Y19/V19) -> #REF!
B20: =CONCATENATE(#REF!,"-",#REF!,#REF!,"-",#REF!) -> #REF! | E20: =HLOOKUP(E$11,#REF!,10,FALSE) -> #REF! | G20: =HLOOKUP(G$11,#REF!,10,FALSE) -> #REF! | I20: =HLOOKUP(I$11,#REF!,10,FALSE) -> #REF! | K20: =HLOOKUP(K$11,#REF!,10,FALSE) -> #REF! | M20: =HLOOKUP(M$11,#REF!,10,FALSE) -> #REF! | P20: =IF(G20="Not Applicable","Not Applicable",IF($H$6="mA",$G$6*$S$6,E20*$S$6)) -> #REF! | Q20: =IF(G20="Not Applicable","Not Applicable",S20*R20) -> #REF! | R20: =R19 -> 0.917647 | S20: =IF(G20="Not Applicable","Not Applicable",G20*$P$6) -> #REF! | T20: =T19 -> 0.082353 | U20: =IF(G20="Not Applicable","Not Applicable",S20*(1+T20)) -> #REF! | V20: =IF(G20="Not Applicable","Not Applicable",P20/1000*S20) -> #REF! | W20: =IF(G20="Not Applicable","Not Applicable",P20/1000*U20) -> #REF! | X20: =IF(G20="Not Applicable","Not Applicable",ROUNDDOWN(Y20*X$11,0)) -> #REF! | Y20: =IF(G20="Not Applicable","Not Applicable",IF($H$6="mA",E20*$P$6*$S$6,$G$6*$P$6*$S$6)) -> #REF! | Z20: =IF(E20="Not Applicable","Not Applicable",ROUNDDOWN(X20/W20,0)) -> #REF! | AA20: =IF(E20="Not Applicable","Not Applicable",Y20/V20) -> #REF!
B21: =CONCATENATE(#REF!,"-",#REF!,#REF!,"-",#REF!) -> #REF! | E21: =HLOOKUP(E$11,#REF!,11,FALSE) -> #REF! | G21: =HLOOKUP(G$11,#REF!,11,FALSE) -> #REF! | I21: =HLOOKUP(I$11,#REF!,11,FALSE) -> #REF! | K21: =HLOOKUP(K$11,#REF!,11,FALSE) -> #REF! | M21: =HLOOKUP(M$11,#REF!,11,FALSE) -> #REF! | P21: =IF(G21="Not Applicable","Not Applicable",IF($H$6="mA",$G$6*$S$6,E21*$S$6)) -> #REF! | Q21: =IF(G21="Not Applicable","Not Applicable",S21*R21) -> #REF! | R21: =R20 -> 0.917647 | S21: =IF(G21="Not Applicable","Not Applicable",G21*$P$6) -> #REF! | T21: =T20 -> 0.082353 | U21: =IF(G21="Not Applicable","Not Applicable",S21*(1+T21)) -> #REF! | V21: =IF(G21="Not Applicable","Not Applicable",P21/1000*S21) -> #REF! | W21: =IF(G21="Not Applicable","Not Applicable",P21/1000*U21) -> #REF! | X21: =IF(G21="Not Applicable","Not Applicable",ROUNDDOWN(Y21*X$11,0)) -> #REF! | Y21: =IF(G21="Not Applicable","Not Applicable",IF($H$6="mA",E21*$P$6*$S$6,$G$6*$P$6*$S$6)) -> #REF! | Z21: =IF(E21="Not Applicable","Not Applicable",ROUNDDOWN(X21/W21,0)) -> #REF! | AA21: =IF(E21="Not Applicable","Not Applicable",Y21/V21) -> #REF!
B22: =CONCATENATE(#REF!,"-",#REF!,#REF!,"-",#REF!) -> #REF! | E22: =HLOOKUP(E$11,#REF!,12,FALSE) -> #REF! | G22: =HLOOKUP(G$11,#REF!,12,FALSE) -> #REF! | I22: =HLOOKUP(I$11,#REF!,12,FALSE) -> #REF! | K22: =HLOOKUP(K$11,#REF!,12,FALSE) -> #REF! | M22: =HLOOKUP(M$11,#REF!,12,FALSE) -> #REF! | P22: =IF(G22="Not Applicable","Not Applicable",IF($H$6="mA",$G$6*$S$6,E22*$S$6)) -> #REF! | Q22: =IF(G22="Not Applicable","Not Applicable",S22*R22) -> #REF! | R22: =R21 -> 0.917647 | S22: =IF(G22="Not Applicable","Not Applicable",G22*$P$6) -> #REF! | T22: =T21 -> 0.082353 | U22: =IF(G22="Not Applicable","Not Applicable",S22*(1+T22)) -> #REF! | V22: =IF(G22="Not Applicable","Not Applicable",P22/1000*S22) -> #REF! | W22: =IF(G22="Not Applicable","Not Applicable",P22/1000*U22) -> #REF! | X22: =IF(G22="Not Applicable","Not Applicable",ROUNDDOWN(Y22*X$11,0)) -> #REF! | Y22: =IF(G22="Not Applicable","Not Applicable",IF($H$6="mA",E22*$P$6*$S$6,$G$6*$P$6*$S$6)) -> #REF! | Z22: =IF(E22="Not Applicable","Not Applicable",ROUNDDOWN(X22/W22,0)) -> #REF! | AA22: =IF(E22="Not Applicable","Not Applicable",Y22/V22) -> #REF!
B23: =CONCATENATE(#REF!,"-",#REF!,#REF!,"-",#REF!) -> #REF! | E23: =HLOOKUP(E$11,#REF!,13,FALSE) -> #REF! | G23: =HLOOKUP(G$11,#REF!,13,FALSE) -> #REF! | I23: =HLOOKUP(I$11,#REF!,13,FALSE) -> #REF! | K23: =HLOOKUP(K$11,#REF!,13,FALSE) -> #REF! | M23: =HLOOKUP(M$11,#REF!,13,FALSE) -> #REF! | P23: =IF(G23="Not Applicable","Not Applicable",IF($H$6="mA",$G$6*$S$6,E23*$S$6)) -> #REF! | Q23: =IF(G23="Not Applicable","Not Applicable",S23*R23) -> #REF! | R23: =R22 -> 0.917647 | S23: =IF(G23="Not Applicable","Not Applicable",G23*$P$6) -> #REF! | T23: =T22 -> 0.082353 | U23: =IF(G23="Not Applicable","Not Applicable",S23*(1+T23)) -> #REF! | V23: =IF(G23="Not Applicable","Not Applicable",P23/1000*S23) -> #REF! | W23: =IF(G23="Not Applicable","Not Applicable",P23/1000*U23) -> #REF! | X23: =IF(G23="Not Applicable","Not Applicable",ROUNDDOWN(Y23*X$11,0)) -> #REF! | Y23: =IF(G23="Not Applicable","Not Applicable",IF($H$6="mA",E23*$P$6*$S$6,$G$6*$P$6*$S$6)) -> #REF! | Z23: =IF(E23="Not Applicable","Not Applicable",ROUNDDOWN(X23/W23,0)) -> #REF! | AA23: =IF(E23="Not Applicable","Not Applicable",Y23/V23) -> #REF!
B24: =CONCATENATE(#REF!,"-",#REF!,#REF!,"-",#REF!) -> #REF! | E24: =HLOOKUP(E$11,#REF!,14,FALSE) -> #REF! | G24: =HLOOKUP(G$11,#REF!,14,FALSE) -> #REF! | I24: =HLOOKUP(I$11,#REF!,14,FALSE) -> #REF! | K24: =HLOOKUP(K$11,#REF!,14,FALSE) -> #REF! | M24: =HLOOKUP(M$11,#REF!,14,FALSE) -> #REF! | P24: =IF(G24="Not Applicable","Not Applicable",IF($H$6="mA",$G$6*$S$6,E24*$S$6)) -> #REF! | Q24: =IF(G24="Not Applicable","Not Applicable",S24*R24) -> #REF! | R24: 0.919765 | S24: =IF(G24="Not Applicable","Not Applicable",G24*$P$6) -> #REF! | T24: 0.080235 | U24: =IF(G24="Not Applicable","Not Applicable",S24*(1+T24)) -> #REF! | V24: =IF(G24="Not Applicable","Not Applicable",P24/1000*S24) -> #REF! | W24: =IF(G24="Not Applicable","Not Applicable",P24/1000*U24) -> #REF! | X24: =IF(G24="Not Applicable","Not Applicable",ROUNDDOWN(Y24*X$11,0)) -> #REF! | Y24: =IF(G24="Not Applicable","Not Applicable",IF($H$6="mA",E24*$P$6*$S$6,$G$6*$P$6*$S$6)) -> #REF! | Z24: =IF(E24="Not Applicable","Not Applicable",ROUNDDOWN(X24/W24,0)) -> #REF! | AA24: =IF(E24="Not Applicable","Not Applicable",Y24/V24) -> #REF!
B25: =CONCATENATE(#REF!,"-",#REF!,#REF!,"-",#REF!) -> #REF! | E25: =HLOOKUP(E$11,#REF!,15,FALSE) -> #REF! | G25: =HLOOKUP(G$11,#REF!,15,FALSE) -> #REF! | I25: =HLOOKUP(I$11,#REF!,15,FALSE) -> #REF! | K25: =HLOOKUP(K$11,#REF!,15,FALSE) -> #REF! | M25: =HLOOKUP(M$11,#REF!,15,FALSE) -> #REF! | P25: =IF(G25="Not Applicable","Not Applicable",IF($H$6="mA",$G$6*$S$6,E25*$S$6)) -> #REF! | Q25: =IF(G25="Not Applicable","Not Applicable",S25*R25) -> #REF! | R25: =R24 -> 0.919765 | S25: =IF(G25="Not Applicable","Not Applicable",G25*$P$6) -> #REF! | T25: =T24 -> 0.080235 | U25: =IF(G25="Not Applicable","Not Applicable",S25*(1+T25)) -> #REF! | V25: =IF(G25="Not Applicable","Not Applicable",P25/1000*S25) -> #REF! | W25: =IF(G25="Not Applicable","Not Applicable",P25/1000*U25) -> #REF! | X25: =IF(G25="Not Applicable","Not Applicable",ROUNDDOWN(Y25*X$11,0)) -> #REF! | Y25: =IF(G25="Not Applicable","Not Applicable",IF($H$6="mA",E25*$P$6*$S$6,$G$6*$P$6*$S$6)) -> #REF! | Z25: =IF(E25="Not Applicable","Not Applicable",ROUNDDOWN(X25/W25,0)) -> #REF! | AA25: =IF(E25="Not Applicable","Not Applicable",Y25/V25) -> #REF!
B26: =CONCATENATE(#REF!,"-",#REF!,#REF!,"-",#REF!) -> #REF! | E26: =HLOOKUP(E$11,#REF!,16,FALSE) -> #REF! | G26: =HLOOKUP(G$11,#REF!,16,FALSE) -> #REF! | I26: =HLOOKUP(I$11,#REF!,16,FALSE) -> #REF! | K26: =HLOOKUP(K$11,#REF!,16,FALSE) -> #REF! | M26: =HLOOKUP(M$11,#REF!,16,FALSE) -> #REF! | P26: =IF(G26="Not Applicable","Not Applicable",IF($H$6="mA",$G$6*$S$6,E26*$S$6)) -> #REF! | Q26: =IF(G26="Not Applicable","Not Applicable",S26*R26) -> #REF! | R26: =R25 -> 0.919765 | S26: =IF(G26="Not Applicable","Not Applicable",G26*$P$6) -> #REF! | T26: =T25 -> 0.080235 | U26: =IF(G26="Not Applicable","Not Applicable",S26*(1+T26)) -> #REF! | V26: =IF(G26="Not Applicable","Not Applicable",P26/1000*S26) -> #REF! | W26: =IF(G26="Not Applicable","Not Applicable",P26/1000*U26) -> #REF! | X26: =IF(G26="Not Applicable","Not Applicable",ROUNDDOWN(Y26*X$11,0)) -> #REF! | Y26: =IF(G26="Not Applicable","Not Applicable",IF($H$6="mA",E26*$P$6*$S$6,$G$6*$P$6*$S$6)) -> #REF! | Z26: =IF(E26="Not Applicable","Not Applicable",ROUNDDOWN(X26/W26,0)) -> #REF! | AA26: =IF(E26="Not Applicable","Not Applicable",Y26/V26) -> #REF!
