Workbook
Name sheetcount: #REF!
Name sheetcount: #REF!
Name sheetcount: #REF!
Name sheetcount: #REF!
Name sheetcount: #REF!
Name sheetcount: #REF!
Name sheetcount: #REF!
Name sheetcount: #REF!
Name 校正球一覧: #REF!
Name 校正球一覧: #REF!
Name 校正球一覧: #REF!
Name 校正球一覧: #REF!
Name 校正球一覧: #REF!
Name 校正球一覧: #REF!
Name 校正球一覧: #REF!
Name 校正球一覧: #REF!
Name 校正球一覧: #REF!

Sheet データ貼り付け
A1: [Data] | B1: ※左 積分球データにて 値で貼り付け | BD1: [Condition]
A2: No | B2: 日時 | C2: 経過時間[sec] | D2: 全光束[lm] | E2: 光量子量[mol/sec] | F2: 外部量子効率[%] | G2: 発光効率[lm/W] | H2: 測定電圧[V] | I2: 測定電流[mA] | J2: 電力[W] | K2: 規格判定 | L2: CH1 | M2: CH2 | N2: CH3 | O2: CH4 | P2: X | Q2: Y | R2: Z | S2: x | T2: y | U2: u | V2: v | W2: u' | X2: v' | Y2: 主波長[nm] | Z2: 刺激純度[%] | AA2: 相関色温度[K] | AB2: Duv | AC2: Ra | AD2: R1 | AE2: R2 | AF2: R3 | AG2: R4 | AH2: R5 | AI2: R6 | AJ2: R7 | AK2: R8 | AL2: R9 | AM2: R10 | AN2: R11 | AO2: R12 | AP2: R13 | AQ2: R14 | AR2: R15 | AS2: 放射束[W] | AT2: ﾋﾟｰｸ波長1[nm] | AU2: ﾋﾟｰｸ波長2[nm] | AV2: ﾋﾟｰｸ波長3[nm] | AW2: ﾋﾟｰｸ波長4[nm] | AX2: ﾋﾟｰｸ波長5[nm] | AY2: 重心波長1[nm] | AZ2: 重心波長2[nm] | BA2: 重心波長3[nm] | BB2: 重心波長4[nm] | BC2: 重心波長5[nm] | BD2: ｻﾝﾌﾟﾙ名 | BE2: ｺﾒﾝﾄ | BF2: ﾓｰﾄﾞ | BG2: 発生対象 | BH2: 電源制御ﾓｰﾄﾞ | BI2: 電流[mA] | BJ2: ﾍﾞｰｽ値 | BK2: 電圧[V] | BL2: ﾊﾟﾙｽ幅[ms] | BM2: ﾊﾟﾙｽﾃﾞｨﾚｲ[ms] | BN2: 電源測定ﾃﾞｨﾚｲ[ms] | BO2: 積分時間 | BP2: 規格判定 : 有効 | BQ2: 標準電球名 | BR2: 校正ファイル名 | BS2: 自己吸収補正係数 | BT2: 全光束補正係数 | BU2: K0 | BV2: 露光時間[ms] | BW2: NDﾌｨﾙﾀ | BX2: ｱﾝﾌﾟｹﾞｲﾝ | BY2: 積算回数 | BZ2: 測定ﾃﾞｨﾚｲ[ms]
A3: 1 | B3: 43250.945 | C3: 0 | D3: 136.77804 | E3: 2.3695546e-06 | F3: 762.31824 | G3: 140.39713 | H3: 32.473 | I3: 30.001 | J3: 0.97422247 | K3: --- | L3: *** | M3: *** | N3: *** | O3: *** | P3: 148.17305 | Q3: 136.77804 | R3: 52.779667 | S3: 0.43873128 | T3: 0.40499136 | U3: 0.2513343 | V3: 0.34800877 | W3: 0.2513343 | X3: 0.52201315 | Y3: 582.90348 | Z3: 53.260249 | AA3: 2977.1842 | AB3: 0.11982177 | AC3: 95.984736 | AD3: 97.086587 | AE3: 97.996321 | AF3: 98.510334 | AG3: 97.222457 | AH3: 97.41401 | AI3: 97.967587 | AJ3: 94.343518 | AK3: 87.337074 | AL3: 70.513659 | AM3: 95.53187 | AN3: 95.797299 | AO3: 92.079716 | AP3: 97.451302 | AQ3: 98.491367 | AR3: 92.786813 | AS3: 0.47721044 | AT3: 623.40892 | AU3: 448.06609 | AV3: 514.53693 | AW3: *** | AX3: *** | AY3: 624.50535 | AZ3: 447.7349 | BA3: 515.36683 | BB3: *** | BC3: *** | BD3: H ペルチェ | BE3: 代1 IF=30 TC=25 | BF3: Manual | BG3: Current | BH3: DC | BI3: 30 | BJ3: 45 | BK3: 1PLC | BL3: FALSE | BM3: L136 | BN3: 180523_L136_ND10 | BO3: 0.87876114 | BP3: 1 | BQ3: 234 | BR3: 0.05mm | BS3: Normal | BT3: 2 | BU3: 20
A4: 2 | B4: 43250.945 | C4: 26.625 | D4: 267.30622 | E4: 4.6123818e-06 | F4: 742.00747 | G4: 133.06456 | H4: 33.483 | I4: 59.996 | J4: 2.0088461 | K4: --- | L4: *** | M4: *** | N4: *** | O4: *** | P4: 288.82923 | Q4: 267.30622 | R4: 103.47194 | S4: 0.43788052 | T4: 0.4052505 | U4: 0.2506742 | V4: 0.34799166 | W4: 0.2506742 | X4: 0.5219875 | Y4: 582.75768 | Z4: 53.083016 | AA4: 2993.4524 | AB4: 0.33666521 | AC4: 95.644584 | AD4: 96.601998 | AE4: 97.558941 | AF4: 98.212827 | AG4: 96.92237 | AH4: 96.874397 | AI4: 97.945521 | AJ4: 94.2378 | AK4: 86.80282 | AL4: 69.01059 | AM4: 94.555466 | AN4: 96.05348 | AO4: 92.03904 | AP4: 96.919705 | AQ4: 98.348307 | AR4: 92.220828 | AS4: 0.93014431 | AT4: 623.11 | AU4: 448.5542 | AV4: 382.73277 | AW4: *** | AX4: *** | AY4: 622.09625 | AZ4: 447.7349 | BA4: 381.49918 | BB4: *** | BC4: *** | BD4: H ペルチェ | BE4: 代1 IF=60 TC=25 | BF4: Manual | BG4: Current | BH4: DC | BI4: 60 | BJ4: 45 | BK4: 1PLC | BL4: FALSE | BM4: L136 | BN4: 180523_L136_ND10 | BO4: 0.87876114 | BP4: 1 | BQ4: 234 | BR4: 0.05mm | BS4: Normal | BT4: 2 | BU4: 20
A5: 3 | B5: 43250.945 | C5: 45.3125 | D5: 390.22746 | E5: 6.6925018e-06 | F5: 717.68192 | G5: 126.29753 | H5: 34.329 | I5: 90.004 | J5: 3.0897473 | K5: --- | L5: *** | M5: *** | N5: *** | O5: *** | P5: 420.59514 | Q5: 390.22746 | R5: 151.71721 | S5: 0.43696389 | T5: 0.40541436 | U5: 0.2500135 | V5: 0.34794316 | W5: 0.2500135 | X5: 0.52191475 | Y5: 582.61946 | Z5: 52.857287 | AA5: 3010.1619 | AB5: 0.5271607 | AC5: 95.388762 | AD5: 96.24645 | AE5: 97.246794 | AF5: 98.013762 | AG5: 96.726888 | AH5: 96.495224 | AI5: 97.804268 | AJ5: 94.158731 | AK5: 86.417983 | AL5: 67.907646 | AM5: 93.880049 | AN5: 96.205589 | AO5: 91.806564 | AP5: 96.542207 | AQ5: 98.259209 | AR5: 91.784236 | AS5: 1.3521033 | AT5: 622.81359 | AU5: 447.64651 | AV5: 367.3245 | AW5: *** | AX5: *** | AY5: 623.3008 | AZ5: 447.7349 | BA5: 367.31918 | BB5: *** | BC5: *** | BD5: H ペルチェ | BE5: 代1 IF=90 TC=25 | BF5: Manual | BG5: Current | BH5: DC | BI5: 90 | BJ5: 45 | BK5: 1PLC | BL5: FALSE | BM5: L136 | BN5: 180523_L136_ND10 | BO5: 0.87876114 | BP5: 1 | BQ5: 234 | BR5: 0.05mm | BS5: Normal | BT5: 2 | BU5: 20
A6: 4 | B6: 43250.946 | C6: 89.6875 | D6: 506.72859 | E6: 8.6589453e-06 | F6: 696.50665 | G6: 120.3674 | H6: 35.085 | I6: 119.99 | J6: 4.2098492 | K6: --- | L6: *** | M6: *** | N6: *** | O6: *** | P6: 545.16271 | Q6: 506.72859 | R6: 198.19914 | S6: 0.43609862 | T6: 0.40535354 | U6: 0.24948272 | V6: 0.34784118 | W6: 0.24948272 | X6: 0.52176176 | Y6: 582.52524 | Z6: 52.579235 | AA6: 3024.2986 | AB6: 0.62350709 | AC6: 95.120904 | AD6: 95.888836 | AE6: 96.980113 | AF6: 97.900413 | AG6: 96.522644 | AH6: 96.131915 | AI6: 97.606474 | AJ6: 94.006569 | AK6: 85.930266 | AL6: 66.650923 | AM6: 93.297404 | AN6: 96.372589 | AO6: 91.519903 | AP6: 96.183569 | AQ6: 98.216549 | AR6: 91.346494 | AS6: 1.7502299 | AT6: 623.27276 | AU6: 447.2689 | AV6: 364.48777 | AW6: *** | AX6: *** | AY6: 623.3008 | AZ6: 447.7349 | BA6: 363.77418 | BB6: *** | BC6: *** | BD6: H ペルチェ | BE6: 代1 IF=120 TC=25 | BF6: Manual | BG6: Current | BH6: DC | BI6: 120 | BJ6: 45 | BK6: 1PLC | BL6: FALSE | BM6: L136 | BN6: 180523_L136_ND10 | BO6: 0.87876114 | BP6: 1 | BQ6: 234 | BR6: 0.05mm | BS6: Normal | BT6: 2 | BU6: 20
A7: 5 | B7: 43250.947 | C7: 173.07812 | D7: 616.96873 | E7: 1.0509974e-05 | F7: 676.24508 | G7: 114.94328 | H7: 35.783 | I7: 150.004 | J7: 5.3675931 | K7: --- | L7: *** | M7: *** | N7: *** | O7: *** | P7: 662.42104 | Q7: 616.96873 | R7: 242.36883 | S7: 0.43529968 | T7: 0.40543141 | U7: 0.24893551 | V7: 0.34778204 | W7: 0.24893551 | X7: 0.52167306 | Y7: 582.41407 | Z7: 52.362907 | AA7: 3038.5536 | AB7: 0.76688686 | AC7: 94.868085 | AD7: 95.557526 | AE7: 96.709139 | AF7: 97.743778 | AG7: 96.339477 | AH7: 95.78236 | AI7: 97.352194 | AJ7: 93.912273 | AK7: 85.547936 | AL7: 65.596434 | AM7: 92.693802 | AN7: 96.510374 | AO7: 91.071245 | AP7: 95.842584 | AQ7: 98.144703 | AR7: 90.946081 | AS7: 2.1250655 | AT7: 622.92868 | AU7: 447.29642 | AV7: 377.45183 | AW7: *** | AX7: *** | AY7: 622.09625 | AZ7: 447.7349 | BA7: 376.77251 | BB7: *** | BC7: *** | BD7: H ペルチェ | BE7: 代1 IF=150 TC=25 | BF7: Manual | BG7: Current | BH7: DC | BI7: 150 | BJ7: 45 | BK7: 1PLC | BL7: FALSE | BM7: L136 | BN7: 180523_L136_ND10 | BO7: 0.87876114 | BP7: 1 | BQ7: 234 | BR7: 0.05mm | BS7: Normal | BT7: 2 | BU7: 20
A8: 6 | B8: 43250.947 | C8: 234.35938 | D8: 704.58566 | E8: 1.1976924e-05 | F8: 660.56045 | G8: 110.81701 | H8: 36.332 | I8: 175 | J8: 6.3581 | K8: --- | L8: *** | M8: *** | N8: *** | O8: *** | P8: 755.48094 | Q8: 704.58566 | R8: 277.95411 | S8: 0.43467891 | T8: 0.40539543 | U8: 0.24855173 | V8: 0.34771092 | W8: 0.24855173 | X8: 0.52156638 | Y8: 582.34382 | Z8: 52.165732 | AA8: 3048.9165 | AB8: 0.84172136 | AC8: 94.66653 | AD8: 95.28954 | AE8: 96.516165 | AF8: 97.65619 | AG8: 96.179592 | AH8: 95.510156 | AI8: 97.150016 | AJ8: 93.811274 | AK8: 85.219306 | AL8: 64.741602 | AM8: 92.263769 | AN8: 96.625825 | AO8: 90.810123 | AP8: 95.575071 | AQ8: 98.109657 | AR8: 90.635599 | AS8: 2.424126 | AT8: 622.59779 | AU8: 447.03506 | AV8: 364.8203 | AW8: *** | AX8: *** | AY8: 622.09625 | AZ8: 447.7349 | BA8: 364.95585 | BB8: *** | BC8: *** | BD8: H ペルチェ | BE8: 代1 IF=175 TC=25 | BF8: Manual | BG8: Current | BH8: DC | BI8: 175 | BJ8: 45 | BK8: 1PLC | BL8: FALSE | BM8: L136 | BN8: 180523_L136_ND10 | BO8: 0.87876114 | BP8: 1 | BQ8: 234 | BR8: 0.05mm | BS8: Normal | BT8: 2 | BU8: 20
A9: 7 | B9: 43250.948 | C9: 279.25 | D9: 820.64569 | E9: 1.3913777e-05 | F9: 639.49821 | G9: 105.4653 | H9: 37.054 | I9: 209.996 | J9: 7.7811918 | K9: --- | L9: *** | M9: *** | N9: *** | O9: *** | P9: 878.48734 | Q9: 820.64569 | R9: 324.92342 | S9: 0.43402314 | T9: 0.40544605 | U9: 0.2481087 | V9: 0.34765897 | W9: 0.2481087 | X9: 0.52148845 | Y9: 582.25361 | Z9: 51.984161 | AA9: 3060.6464 | AB9: 0.95742905 | AC9: 94.40812 | AD9: 94.95808 | AE9: 96.276904 | AF9: 97.549243 | AG9: 95.994798 | AH9: 95.170315 | AI9: 96.884056 | AJ9: 93.678812 | AK9: 84.752748 | AL9: 63.523639 | AM9: 91.71835 | AN9: 96.740369 | AO9: 90.342802 | AP9: 95.249486 | AQ9: 98.061206 | AR9: 90.223488 | AS9: 2.8160679 | AT9: 622.7839 | AU9: 447.54969 | AV9: 360.91882 | AW9: *** | AX9: *** | AY9: 622.09625 | AZ9: 447.7349 | BA9: 360.22918 | BB9: *** | BC9: *** | BD9: H ペルチェ | BE9: 代1 IF=210 TC=25 | BF9: Manual | BG9: Current | BH9: DC | BI9: 210 | BJ9: 45 | BK9: 1PLC | BL9: FALSE | BM9: L136 | BN9: 180523_L136_ND10 | BO9: 0.87876114 | BP9: 1 | BQ9: 234 | BR9: 0.05mm | BS9: Normal | BT9: 2 | BU9: 20
A10: 8 | B10: 43250.949 | C10: 343.625 | D10: 915.46991 | E10: 1.5482109e-05 | F10: 622.59051 | G10: 101.31932 | H10: 37.646 | I10: 240.012 | J10: 9.0354918 | K10: --- | L10: *** | M10: *** | N10: *** | O10: *** | P10: 978.69763 | Q10: 915.46991 | R10: 363.99518 | S10: 0.43340439 | T10: 0.40540476 | U10: 0.24772872 | V10: 0.3475867 | W10: 0.24772872 | X10: 0.52138005 | Y10: 582.18341 | Z10: 51.785988 | AA10: 3071.0476 | AB10: 1.0320555 | AC10: 94.234371 | AD10: 94.738916 | AE10: 96.118529 | AF10: 97.487371 | AG10: 95.865217 | AH10: 94.94894 | AI10: 96.709009 | AJ10: 93.582888 | AK10: 84.424095 | AL10: 62.662687 | AM10: 91.362812 | AN10: 96.790764 | AO10: 90.093829 | AP10: 95.035537 | AQ10: 98.03549 | AR10: 89.940189 | AS10: 3.1356075 | AT10: 618.18582 | AU10: 447.09759 | AV10: 376.2175 | AW10: *** | AX10: *** | AY10: 618.4826 | AZ10: 447.7349 | BA10: 376.77251 | BB10: *** | BC10: *** | BD10: H ペルチェ | BE10: 代1 IF=240 TC=25 | BF10: Manual | BG10: Current | BH10: DC | BI10: 240 | BJ10: 45 | BK10: 1PLC | BL10: FALSE | BM10: L136 | BN10: 180523_L136_ND10 | BO10: 0.87876114 | BP10: 1 | BQ10: 234 | BR10: 0.05mm | BS10: Normal | BT10: 2 | BU10: 20
A11: 9 | B11: 43250.949 | C11: 402.89062 | D11: 1004.2719 | E11: 1.6936248e-05 | F11: 605.434 | G11: 97.356287 | H11: 38.206 | I11: 269.995 | J11: 10.315429 | K11: --- | L11: *** | M11: *** | N11: *** | O11: *** | P11: 1072.4275 | Q11: 1004.2719 | R11: 400.58048 | S11: 0.43290527 | T11: 0.40539298 | U11: 0.24741313 | V11: 0.34753405 | W11: 0.24741313 | X11: 0.52130108 | Y11: 582.12264 | Z11: 51.632625 | AA11: 3079.6547 | AB11: 1.1016623 | AC11: 94.044995 | AD11: 94.490588 | AE11: 95.964051 | AF11: 97.456556 | AG11: 95.726239 | AH11: 94.704463 | AI11: 96.528991 | AJ11: 93.461577 | AK11: 84.027495 | AL11: 61.666443 | AM11: 91.013286 | AN11: 96.852871 | AO11: 89.76957 | AP11: 94.80249 | AQ11: 98.027928 | AR11: 89.618641 | AS11: 3.4336278 | AT11: 617.93519 | AU11: 446.98446 | AV11: 365.00939 | AW11: *** | AX11: *** | AY11: 617.27805 | AZ11: 447.7349 | BA11: 372.04584 | BB11: *** | BC11: *** | BD11: H ペルチェ | BE11: 代1 IF=270 TC=25 | BF11: Manual | BG11: Current | BH11: DC | BI11: 270 | BJ11: 45 | BK11: 1PLC | BL11: FALSE | BM11: L136 | BN11: 180523_L136_ND10 | BO11: 0.87876114 | BP11: 1 | BQ11: 234 | BR11: 0.05mm | BS11: Normal | BT11: 2 | BU11: 20
A12: 10 | B12: 43250.95 | C12: 488.125 | D12: 1090.2781 | E12: 1.834892e-05 | F12: 590.32174 | G12: 93.776433 | H12: 38.754 | I12: 300.004 | J12: 11.626355 | K12: --- | L12: *** | M12: *** | N12: *** | O12: *** | P12: 1162.9805 | Q12: 1090.2781 | R12: 436.44014 | S12: 0.43238318 | T12: 0.40535324 | U12: 0.24709473 | V12: 0.34747182 | W12: 0.24709473 | X12: 0.52120773 | Y12: 582.06347 | Z12: 51.463936 | AA12: 3088.4745 | AB12: 1.1641777 | AC12: 93.907519 | AD12: 94.297381 | AE12: 95.855077 | AF12: 97.468296 | AG12: 95.628277 | AH12: 94.520932 | AI12: 96.400649 | AJ12: 93.372418 | AK12: 83.717123 | AL12: 60.889554 | AM12: 90.774285 | AN12: 96.907901 | AO12: 89.566293 | AP12: 94.623854 | AQ12: 98.043762 | AR12: 89.370293 | AS12: 3.7211642 | AT12: 618.15909 | AU12: 447.2384 | AV12: 363.19408 | AW12: *** | AX12: *** | AY12: 617.27805 | AZ12: 447.7349 | BA12: 363.77418 | BB12: *** | BC12: *** | BD12: H ペルチェ | BE12: 代1 IF=300 TC=25 | BF12: Manual | BG12: Current | BH12: DC | BI12: 300 | BJ12: 45 | BK12: 1PLC | BL12: FALSE | BM12: L136 | BN12: 180523_L136_ND10 | BO12: 0.87876114 | BP12: 1 | BQ12: 234 | BR12: 0.05mm | BS12: Normal | BT12: 2 | BU12: 20
A13: 11 | B13: 43250.951 | C13: 577.9375 | D13: 1224.2251 | E13: 2.0533917e-05 | F13: 566.12173 | G13: 88.247576 | H13: 39.627 | I13: 350.08 | J13: 13.87262 | K13: --- | L13: *** | M13: *** | N13: *** | O13: *** | P13: 1303.9249 | Q13: 1224.2251 | R13: 493.17774 | S13: 0.43157347 | T13: 0.4051944 | U13: 0.2466421 | V13: 0.34734989 | W13: 0.2466421 | X13: 0.52102483 | Y13: 581.98795 | Z13: 51.17301 | AA13: 3101.4431 | AB13: 1.2233872 | AC13: 93.659901 | AD13: 93.962349 | AE13: 95.682546 | AF13: 97.499549 | AG13: 95.42637 | AH13: 94.206315 | AI13: 96.191864 | AJ13: 93.180132 | AK13: 83.130087 | AL13: 59.462166 | AM13: 90.391615 | AN13: 96.941027 | AO13: 89.218976 | AP13: 94.324913 | AQ13: 98.0778 | AR13: 88.931296 | AS13: 4.1654243 | AT13: 617.79101 | AU13: 447.04929 | AV13: 374.62181 | AW13: *** | AX13: *** | AY13: 617.27805 | AZ13: 447.7349 | BA13: 377.95418 | BB13: *** | BC13: *** | BD13: H ペルチェ | BE13: 代1 IF=350 TC=25 | BF13: Manual | BG13: Current | BH13: DC | BI13: 350 | BJ13: 45 | BK13: 1PLC | BL13: FALSE | BM13: L136 | BN13: 180523_L136_ND10 | BO13: 0.87876114 | BP13: 1 | BQ13: 234 | BR13: 0.05mm | BS13: Normal | BT13: 2 | BU13: 20
A14: 12 | B14: 43250.953 | C14: 699.59375 | D14: 1344.9226 | E14: 2.2493122e-05 | F14: 542.62196 | G14: 83.109999 | H14: 40.447 | I14: 400.09 | J14: 16.18244 | K14: --- | L14: *** | M14: *** | N14: *** | O14: *** | P14: 1430.3239 | Q14: 1344.9226 | R14: 544.44821 | S14: 0.43086006 | T14: 0.40513443 | U14: 0.24620952 | V14: 0.34726339 | W14: 0.24620952 | X14: 0.52089508 | Y14: 581.90666 | Z14: 50.940793 | AA14: 3113.6036 | AB14: 1.3091733 | AC14: 93.425963 | AD14: 93.642728 | AE14: 95.521978 | AF14: 97.511431 | AG14: 95.23436 | AH14: 93.891496 | AI14: 95.968632 | AJ14: 93.029843 | AK14: 82.607234 | AL14: 58.168717 | AM14: 89.998141 | AN14: 96.944854 | AO14: 88.763454 | AP14: 94.041795 | AQ14: 98.093752 | AR14: 88.533621 | AS14: 4.5672597 | AT14: 617.26637 | AU14: 447.29145 | AV14: 367.39715 | AW14: *** | AX14: *** | AY14: 616.0735 | AZ14: 447.7349 | BA14: 363.77418 | BB14: *** | BC14: *** | BD14: H ペルチェ | BE14: 代1 IF=400 TC=25 | BF14: Manual | BG14: Current | BH14: DC | BI14: 400 | BJ14: 45 | BK14: 1PLC | BL14: FALSE | BM14: L136 | BN14: 180523_L136_ND10 | BO14: 0.87876114 | BP14: 1 | BQ14: 234 | BR14: 0.05mm | BS14: Normal | BT14: 2 | BU14: 20
... A44: 42 | B44: 43251.079 | C44: 11582.922 | D44: 518.12547 | E44: 8.5044911e-06 | F44: 469.04618 | G44: 86.222755 | H44: 34.338 | I44: 175 | J44: 6.00915 | K44: --- | L44: *** | M44: *** | N44: *** | O44: *** | P44: 549.52772 | Q44: 518.12547 | R44: 210.56069 | S44: 0.42991844 | T44: 0.40535115 | U44: 0.24551417 | V44: 0.34722673 | W44: 0.24551417 | X44: 0.5208401 | Y44: 581.74628 | Z44: 50.723502 | AA44: 3132.1542 | AB44: 1.5443474 | AC44: 91.574827 | AD44: 91.522583 | AE44: 96.397827 | AF44: 98.362878 | AG44: 91.810364 | AH44: 91.738522 | AI44: 96.556021 | AJ44: 89.900808 | AK44: 76.309613 | AL44: 45.864957 | AM44: 91.414388 | AN44: 93.615807 | AO44: 84.019048 | AP44: 92.999129 | AQ44: 99.82174 | AR44: 85.464924 | AS44: 1.7285667 | AT44: 612.22163 | AU44: 455.70916 | AV44: 385.03042 | AW44: *** | AX44: *** | AY44: 612.45985 | AZ44: 454.85406 | BA44: 379.13584 | BB44: *** | BC44: *** | BD44: H ペルチェ | BE44: 代2 IF=175 TC=135 | BF44: Manual | BG44: Current | BH44: DC | BI44: 175 | BJ44: 45 | BK44: 1PLC | BL44: FALSE | BM44: L136 | BN44: 180523_L136_ND10 | BO44: 0.87876114 | BP44: 1 | BQ44: 234 | BR44: 0.05mm | BS44: Normal | BT44: 2 | BU44: 20
AC47: =AC15-AC$16 -> -0.34650531 | AD47: =AC3-AC$8 -> 1.3182061 | AL47: =AL15-AL$16 -> 1.6705907 | AM47: =AL3-AL$8 -> 5.7720568
AC48: =AC16-AC$16 -> 0 | AD48: =AC4-AC$8 -> 0.97805444 | AL48: =AL16-AL$16 -> 0 | AM48: =AL4-AL$8 -> 4.2689873
AC49: =AC17-AC$16 -> -0.26326371 | AD49: =AC5-AC$8 -> 0.72223259 | AL49: =AL17-AL$16 -> -3.0506712 | AM49: =AL5-AL$8 -> 3.1660439
AC50: =AC18-AC$16 -> -0.7104299 | AD50: =AC6-AC$8 -> 0.45437394 | AL50: =AL18-AL$16 -> -6.5994726 | AM50: =AL6-AL$8 -> 1.9093211
AC51: =AC19-AC$16 -> -0.73479537 | AD51: =AC7-AC$8 -> 0.2015556 | AL51: =AL19-AL$16 -> -6.8109108 | AM51: =AL7-AL$8 -> 0.85483134
AC52: =AC20-AC$16 -> -1.3230458 | AD52: =AC8-AC$8 -> 0 | AL52: =AL20-AL$16 -> -10.306951 | AM52: =AL8-AL$8 -> 0
AC53: =AC21-AC$16 -> -1.8495466 | AD53: =AC9-AC$8 -> -0.25841028 | AL53: =AL21-AL$16 -> -13.056508 | AM53: =AL9-AL$8 -> -1.2179631
AC54: =AC22-AC$16 -> -2.6276905 | AD54: =AC10-AC$8 -> -0.43215923 | AL54: =AL22-AL$16 -> -16.636265 | AM54: =AL10-AL$8 -> -2.0789149
AC55: =AC23-AC$16 -> -2.9822386 | AD55: =AC11-AC$8 -> -0.62153485 | AL55: =AL23-AL$16 -> -18.26308 | AM55: =AL11-AL$8 -> -3.0751597
AD56: =AC12-AC$8 -> -0.75901085 | AM56: =AL12-AL$8 -> -3.8520484
AD57: =AC13-AC$8 -> -1.0066284 | AM57: =AL13-AL$8 -> -5.2794364
AC58: =AC36-AC$37 -> 0.0079299023 | AD58: =AC14-AC$8 -> -1.240567 | AL58: =AL36-AL$37 -> 2.371153 | AM58: =AL14-AL$8 -> -6.572885
AC59: =AC37-AC$37 -> 0 | AL59: =AL37-AL$37 -> 0
AC60: =AC38-AC$37 -> -0.29079836 | AL60: =AL38-AL$37 -> -3.3986982
AC61: =AC39-AC$37 -> -0.72777343 | AD61: =AC24-AC$29 -> 1.4164844 | AL61: =AL39-AL$37 -> -6.8939102 | AM61: =AL24-AL$29 -> 6.1892631
AC62: =AC40-AC$37 -> -0.78067051 | AD62: =AC25-AC$29 -> 1.0821068 | AL62: =AL40-AL$37 -> -7.1789963 | AM62: =AL25-AL$29 -> 4.7466152
AC63: =AC41-AC$37 -> -1.1960829 | AD63: =AC26-AC$29 -> 0.74691784 | AL63: =AL41-AL$37 -> -9.9380584 | AM63: =AL26-AL$29 -> 3.2678271
AC64: =AC42-AC$37 -> -1.8960089 | AD64: =AC27-AC$29 -> 0.47294605 | AL64: =AL42-AL$37 -> -13.506625 | AM64: =AL27-AL$29 -> 2.0596188
AC65: =AC43-AC$37 -> -2.5527941 | AD65: =AC28-AC$29 -> 0.21596832 | AL65: =AL43-AL$37 -> -16.568317 | AM65: =AL28-AL$29 -> 0.88364772
AC66: =AC44-AC$37 -> -2.9745678 | AD66: =AC29-AC$29 -> 0 | AL66: =AL44-AL$37 -> -18.345298 | AM66: =AL29-AL$29 -> 0
AD67: =AC30-AC$29 -> -0.24922835 | AM67: =AL30-AL$29 -> -1.2498328
AC68: =AVERAGE(AC47,AC58) -> -0.1692877 | AD68: =AC31-AC$29 -> -0.45587089 | AL68: =AVERAGE(AL47,AL58) -> 2.0208718 | AM68: =AL31-AL$29 -> -2.2843256
AC69: =AVERAGE(AC48,AC59) -> 0 | AD69: =AC32-AC$29 -> -0.63925476 | AL69: =AVERAGE(AL48,AL59) -> 0 | AM69: =AL32-AL$29 -> -3.2472626
AC70: =AVERAGE(AC49,AC60) -> -0.27703103 | AD70: =AC33-AC$29 -> -0.808294 | AL70: =AVERAGE(AL49,AL60) -> -3.2246847 | AM70: =AL33-AL$29 -> -4.164821
AC71: =AVERAGE(AC50,AC61) -> -0.71910166 | AD71: =AC34-AC$29 -> -1.1063363 | AL71: =AVERAGE(AL50,AL61) -> -6.7466914 | AM71: =AL34-AL$29 -> -5.8376922
AC72: =AVERAGE(AC51,AC62) -> -0.75773294 | AD72: =AC35-AC$29 -> -1.3942154 | AL72: =AVERAGE(AL51,AL62) -> -6.9949536 | AM72: =AL35-AL$29 -> -7.5910547
AC73: =AVERAGE(AC52,AC63) -> -1.2595644 | AL73: =AVERAGE(AL52,AL63) -> -10.122505
AC74: =AVERAGE(AC53,AC64) -> -1.8727778 | AL74: =AVERAGE(AL53,AL64) -> -13.281566
AC75: =AVERAGE(AC54,AC65) -> -2.5902423 | AD75: =AVERAGE(AD47,AD61) -> 1.3673453 | AL75: =AVERAGE(AL54,AL65) -> -16.602291 | AM75: =AVERAGE(AM47,AM61) -> 5.98066
AC76: =AVERAGE(AC55,AC66) -> -2.9784032 | AD76: =AVERAGE(AD48,AD62) -> 1.0300806 | AL76: =AVERAGE(AL55,AL66) -> -18.304189 | AM76: =AVERAGE(AM48,AM62) -> 4.5078013
AD77: =AVERAGE(AD49,AD63) -> 0.73457522 | AM77: =AVERAGE(AM49,AM63) -> 3.2169355
AD78: =AVERAGE(AD50,AD64) -> 0.46366 | AM78: =AVERAGE(AM50,AM64) -> 1.9844699
AD79: =AVERAGE(AD51,AD65) -> 0.20876196 | AM79: =AVERAGE(AM51,AM65) -> 0.86923953
AD80: =AVERAGE(AD52,AD66) -> 0 | AM80: =AVERAGE(AM52,AM66) -> 0
AD81: =AVERAGE(AD53,AD67) -> -0.25381931 | AM81: =AVERAGE(AM53,AM67) -> -1.2338979
AD82: =AVERAGE(AD54,AD68) -> -0.44401506 | AM82: =AVERAGE(AM54,AM68) -> -2.1816203
AD83: =AVERAGE(AD55,AD69) -> -0.63039481 | AM83: =AVERAGE(AM55,AM69) -> -3.1612112
AD84: =AVERAGE(AD56,AD70) -> -0.78365242 | AM84: =AVERAGE(AM56,AM70) -> -4.0084347
AD85: =AVERAGE(AD57,AD71) -> -1.0564824 | AM85: =AVERAGE(AM57,AM71) -> -5.5585643
AD86: =AVERAGE(AD58,AD72) -> -1.3173912 | AM86: =AVERAGE(AM58,AM72) -> -7.0819699

Sheet IF特性
A1: 140317@代表特性測定フォーマット_5.00
C2: 測定日： | D2: 43250 | F2: 下の黄色グラフで個別データを確認しながら測定
C3: 機種名： | D3: CQ7A03H1201C9-303H5R2
C4: 試作No.： | D4: 記入
C5: 素子波長： | D5: 記入
C6: 直列数： | D6: 12
C7: 並列数： | D7: 1
C8: 測定方法： | D8: PLS
C9: Tc(℃)： | D9: 25
C10: 投入VF:： | D10: 50
C11: ※青文字：計算値
C12: ※緑文字：3回測定平均値
I13: =$I$15/H21 -> #VALUE! | J13: ←VF typ.係数
A14: ペルチェIF | B14: 露光時間 | C14: IF-VF特性 | E14: VF [V] | I14: typ.換算 | J14: ⊿VF
A15: ［A］(参考) | B15: [ms](参考) | C15: IF/die | D15: IF/PKG | E15: No.1 | F15: No.2 | G15: No.** | H15: ave. | I15: 記入 | J15: %
C16: 30 | D16: =C16*$D$7 -> 30 | E16: =データ貼り付け!H3 -> 32.473 | F16: =データ貼り付け!H24 -> 32.475 | G16: 記入 | H16: =AVERAGE(E16:G16) -> 32.474 | I16: =H16*$I$13 -> #VALUE! | J16: =H16/$H$21 -> 0.894071
C17: 60 | D17: =C17*$D$7 -> 60 | E17: =データ貼り付け!H4 -> 33.483 | F17: =データ貼り付け!H25 -> 33.483 | G17: 記入 | H17: =AVERAGE(E17:G17) -> 33.483 | I17: =H17*$I$13 -> #VALUE! | J17: =H17/$H$21 -> 0.92185069
C18: 90 | D18: =C18*$D$7 -> 90 | E18: =データ貼り付け!H5 -> 34.329 | F18: =データ貼り付け!H26 -> 34.326 | G18: 記入 | H18: =AVERAGE(E18:G18) -> 34.3275 | I18: =H18*$I$13 -> #VALUE! | J18: =H18/$H$21 -> 0.94510139
C19: 120 | D19: =C19*$D$7 -> 120 | E19: =データ貼り付け!H6 -> 35.085 | F19: =データ貼り付け!H27 -> 35.077 | G19: 記入 | H19: =AVERAGE(E19:G19) -> 35.081 | I19: =H19*$I$13 -> #VALUE! | J19: =H19/$H$21 -> 0.96584667
C20: 150 | D20: =C20*$D$7 -> 150 | E20: =データ貼り付け!H7 -> 35.783 | F20: =データ貼り付け!H28 -> 35.769 | G20: 記入 | H20: =AVERAGE(E20:G20) -> 35.776 | I20: =H20*$I$13 -> #VALUE! | J20: =H20/$H$21 -> 0.98498135
C21: 175 | D21: =C21*$D$7 -> 175 | E21: =データ貼り付け!H8 -> 36.332 | F21: =データ貼り付け!H29 -> 36.311 | G21: 記入 | H21: =AVERAGE(E21:G21) -> 36.3215 | I21: =H21*$I$13 -> #VALUE! | J21: =H21/$H$21 -> 1
C22: 210 | D22: =C22*$D$7 -> 210 | E22: =データ貼り付け!H9 -> 37.054 | F22: =データ貼り付け!H30 -> 37.028 | G22: 記入 | H22: =AVERAGE(E22:G22) -> 37.041 | I22: =H22*$I$13 -> #VALUE! | J22: =H22/$H$21 -> 1.0198092
C23: 240 | D23: =C23*$D$7 -> 240 | E23: =データ貼り付け!H10 -> 37.646 | F23: =データ貼り付け!H31 -> 37.612 | G23: 記入 | H23: =AVERAGE(E23:G23) -> 37.629 | I23: =H23*$I$13 -> #VALUE! | J23: =H23/$H$21 -> 1.035998
C24: 270 | D24: =C24*$D$7 -> 270 | E24: =データ貼り付け!H11 -> 38.206 | F24: =データ貼り付け!H32 -> 38.167 | G24: 記入 | H24: =AVERAGE(E24:G24) -> 38.1865 | I24: =H24*$I$13 -> #VALUE! | J24: =H24/$H$21 -> 1.051347
C25: 300 | D25: =C25*$D$7 -> 300 | E25: =データ貼り付け!H12 -> 38.754 | F25: =データ貼り付け!H33 -> 38.706 | G25: 記入 | H25: =AVERAGE(E25:G25) -> 38.73 | I25: =H25*$I$13 -> #VALUE! | J25: =H25/$H$21 -> 1.0663106
C26: 350 | D26: =C26*$D$7 -> 350 | E26: =データ貼り付け!H13 -> 39.627 | F26: =データ貼り付け!H34 -> 39.566 | G26: 記入 | H26: =AVERAGE(E26:G26) -> 39.5965 | I26: =H26*$I$13 -> #VALUE! | J26: =H26/$H$21 -> 1.090167
C27: 400 | D27: =C27*$D$7 -> 400 | E27: =データ貼り付け!H14 -> 40.447 | F27: =データ貼り付け!H35 -> 40.368 | G27: 記入 | H27: =AVERAGE(E27:G27) -> 40.4075 | I27: =H27*$I$13 -> #VALUE! | J27: =H27/$H$21 -> 1.1124954
I28: =$K$30/J36 -> #VALUE! | J28: ←Φv typ.係数
A29: ペルチェIF | B29: 露光時間 | C29: IF-φv特性 | E29: φv[lm] | K29: typ.換算 | L29: ⊿φv
A30: ［A］(参考) | B30: [ms](参考) | C30: IF/die | D30: IF/PKG | E30: =E15 -> No.1 | G30: =F15 -> No.2 | I30: =G15 -> No.** | J30: ave. | K30: 記入 | L30: %
A31: =A16 -> 0 | B31: =B16 -> 0 | C31: =C16 -> 30 | D31: =C31*$D$7 -> 30 | E31: =データ貼り付け!D3 -> 136.77804 | F31: =E31/$E$36 -> 0.19412549 | G31: =データ貼り付け!D24 -> 137.07977 | H31: =G31/$G$36 -> 0.1952539 | I31: 記入 | J31: =AVERAGE(E31:I31) -> 68.561797 | K31: =J31*$I$28 -> #VALUE! | L31: =J31/$J$36 -> 0.19468868
A32: =A17 -> 0 | B32: =B17 -> 0 | C32: =C17 -> 60 | D32: =C32*$D$7 -> 60 | E32: =データ貼り付け!D4 -> 267.30622 | F32: =E32/$E$36 -> 0.37938073 | G32: =データ貼り付け!D25 -> 267.25968 | H32: =G32/$G$36 -> 0.38067976 | I32: 記入 | J32: =AVERAGE(E32:I32) -> 133.83149 | K32: =J32*$I$28 -> #VALUE! | L32: =J32/$J$36 -> 0.38002908
A33: =A18 -> 0 | B33: =B18 -> 0 | C33: =C18 -> 90 | D33: =C33*$D$7 -> 90 | E33: =データ貼り付け!D5 -> 390.22746 | F33: =E33/$E$36 -> 0.55383963 | G33: =データ貼り付け!D26 -> 389.81783 | H33: =G33/$G$36 -> 0.55524933 | I33: 記入 | J33: =AVERAGE(E33:I33) -> 195.2886 | K33: =J33*$I$28 -> #VALUE! | L33: =J33/$J$36 -> 0.55454322
A34: =A19 -> 0 | B34: =B19 -> 0 | C34: =C19 -> 120 | D34: =C34*$D$7 -> 120 | E34: =データ貼り付け!D6 -> 506.72859 | F34: =E34/$E$36 -> 0.71918663 | G34: =データ貼り付け!D27 -> 505.62243 | H34: =G34/$G$36 -> 0.72019926 | I34: 記入 | J34: =AVERAGE(E34:I34) -> 253.4476 | K34: =J34*$I$28 -> #VALUE! | L34: =J34/$J$36 -> 0.71969204
A35: =A20 -> 0 | B35: =B20 -> 0 | C35: =C20 -> 150 | D35: =C35*$D$7 -> 150 | E35: =データ貼り付け!D7 -> 616.96873 | F35: =E35/$E$36 -> 0.87564759 | G35: =データ貼り付け!D28 -> 615.37817 | H35: =G35/$G$36 -> 0.87653331 | I35: 記入 | J35: =AVERAGE(E35:I35) -> 308.52477 | K35: =J35*$I$28 -> #VALUE! | L35: =J35/$J$36 -> 0.87608966
A36: =A21 -> 0 | B36: =B21 -> 0 | C36: =C21 -> 175 | D36: =C36*$D$7 -> 175 | E36: =データ貼り付け!D8 -> 704.58566 | F36: =E36/$E$36 -> 1 | G36: =データ貼り付け!D29 -> 702.05907 | H36: =G36/$G$36 -> 1 | I36: 記入 | J36: =AVERAGE(E36:I36) -> 352.16118 | K36: =J36*$I$28 -> #VALUE! | L36: =J36/$J$36 -> 1
A37: =A22 -> 0 | B37: =B22 -> 0 | C37: =C22 -> 210 | D37: =C37*$D$7 -> 210 | E37: =データ貼り付け!D9 -> 820.64569 | F37: =E37/$E$36 -> 1.164721 | G37: =データ貼り付け!D30 -> 817.48667 | H37: =G37/$G$36 -> 1.1644129 | I37: 記入 | J37: =AVERAGE(E37:I37) -> 410.11537 | K37: =J37*$I$28 -> #VALUE! | L37: =J37/$J$36 -> 1.1645672
A38: =A23 -> 0 | B38: =B23 -> 0 | C38: =C23 -> 240 | D38: =C38*$D$7 -> 240 | E38: =データ貼り付け!D10 -> 915.46991 | F38: =E38/$E$36 -> 1.2993025 | G38: =データ貼り付け!D31 -> 911.03929 | H38: =G38/$G$36 -> 1.2976676 | I38: 記入 | J38: =AVERAGE(E38:I38) -> 457.27654 | K38: =J38*$I$28 -> #VALUE! | L38: =J38/$J$36 -> 1.2984865
A39: =A24 -> 0 | B39: =B24 -> 0 | C39: =C24 -> 270 | D39: =C39*$D$7 -> 270 | E39: =データ貼り付け!D11 -> 1004.2719 | F39: =E39/$E$36 -> 1.4253368 | G39: =データ貼り付け!D32 -> 999.16141 | H39: =G39/$G$36 -> 1.4231871 | I39: 記入 | J39: =AVERAGE(E39:I39) -> 501.57045 | K39: =J39*$I$28 -> #VALUE! | L39: =J39/$J$36 -> 1.4242639
A40: =A25 -> 0 | B40: =B25 -> 0 | C40: =C25 -> 300 | D40: =C40*$D$7 -> 300 | E40: =データ貼り付け!D12 -> 1090.2781 | F40: =E40/$E$36 -> 1.5474032 | G40: =データ貼り付け!D33 -> 1083.4123 | H40: =G40/$G$36 -> 1.5431924 | I40: 記入 | J40: =AVERAGE(E40:I40) -> 544.19524 | K40: =J40*$I$28 -> #VALUE! | L40: =J40/$J$36 -> 1.5453016
A41: =A26 -> 0 | B41: =B26 -> 0 | C41: =C26 -> 350 | D41: =C41*$D$7 -> 350 | E41: =データ貼り付け!D13 -> 1224.2251 | F41: =E41/$E$36 -> 1.7375107 | G41: =データ貼り付け!D34 -> 1213.8068 | H41: =G41/$G$36 -> 1.728924 | I41: 記入 | J41: =AVERAGE(E41:I41) -> 610.37458 | K41: =J41*$I$28 -> #VALUE! | L41: =J41/$J$36 -> 1.733225
A42: =A27 -> 0 | B42: =B27 -> 0 | C42: =C27 -> 400 | D42: =C42*$D$7 -> 400 | E42: =データ貼り付け!D14 -> 1344.9226 | F42: =E42/$E$36 -> 1.9088135 | G42: =データ貼り付け!D35 -> 1328.9095 | H42: =G42/$G$36 -> 1.8928741 | I42: 記入 | J42: =AVERAGE(E42:I42) -> 669.40843 | K42: =J42*$I$28 -> #VALUE! | L42: =J42/$J$36 -> 1.9008581
A44: ペルチェIF | B44: 露光時間 | C44: IF-xy特性 | E44: =$E$15 -> No.1 | G44: =$F$15 -> No.2 | I44: =$G$15 -> No.** | K44: ave.
A45: ［A］(参考) | B45: [ms](参考) | C45: IF/die | D45: IF/PKG | E45: x | F45: y | G45: x | H45: y | I45: x | J45: y | K45: x | L45: y | M45: ⊿x | N45: ⊿y
A46: =A16 -> 0 | B46: =B16 -> 0 | C46: =C16 -> 30 | D46: =C46*$D$7 -> 30 | E46: =データ貼り付け!S3 -> 0.43873128 | F46: =データ貼り付け!T3 -> 0.40499136 | G46: =データ貼り付け!S24 -> 0.43959596 | H46: =データ貼り付け!T24 -> 0.40548924 | I46: 記入 | J46: 記入 | K46: =AVERAGE(E46,G46,I46) -> 0.43916362 | L46: =AVERAGE(F46,H46,J46) -> 0.4052403 | M46: =K46-$K$51 -> 0.0043476078 | N46: =L46-$L$51 -> -0.00038806684
A47: =A17 -> 0 | B47: =B17 -> 0 | C47: =C17 -> 60 | D47: =C47*$D$7 -> 60 | E47: =データ貼り付け!S4 -> 0.43788052 | F47: =データ貼り付け!T4 -> 0.4052505 | G47: =データ貼り付け!S25 -> 0.43822236 | H47: =データ貼り付け!T25 -> 0.40566353 | I47: 記入 | J47: 記入 | K47: =AVERAGE(E47,G47,I47) -> 0.43805144 | L47: =AVERAGE(F47,H47,J47) -> 0.40545702 | M47: =K47-$K$51 -> 0.0032354233 | N47: =L47-$L$51 -> -0.00017135398
A48: =A20 -> 0 | B48: =B20 -> 0 | C48: =C18 -> 90 | D48: =C48*$D$7 -> 90 | E48: =データ貼り付け!S5 -> 0.43696389 | F48: =データ貼り付け!T5 -> 0.40541436 | G48: =データ貼り付け!S26 -> 0.43730565 | H48: =データ貼り付け!T26 -> 0.40581867 | I48: 記入 | J48: 記入 | K48: =AVERAGE(E48,G48,I48) -> 0.43713477 | L48: =AVERAGE(F48,H48,J48) -> 0.40561652 | M48: =K48-$K$51 -> 0.0023187564 | N48: =L48-$L$51 -> -1.1853974e-05
A49: =A21 -> 0 | B49: =B21 -> 0 | C49: =C19 -> 120 | D49: =C49*$D$7 -> 120 | E49: =データ貼り付け!S6 -> 0.43609862 | F49: =データ貼り付け!T6 -> 0.40535354 | G49: =データ貼り付け!S27 -> 0.43641004 | H49: =データ貼り付け!T27 -> 0.40587755 | I49: 記入 | J49: 記入 | K49: =AVERAGE(E49,G49,I49) -> 0.43625433 | L49: =AVERAGE(F49,H49,J49) -> 0.40561555 | M49: =K49-$K$51 -> 0.0014383174 | N49: =L49-$L$51 -> -1.2823638e-05
A50: =A22 -> 0 | B50: =B22 -> 0 | C50: =C20 -> 150 | D50: =C50*$D$7 -> 150 | E50: =データ貼り付け!S7 -> 0.43529968 | F50: =データ貼り付け!T7 -> 0.40543141 | G50: =データ貼り付け!S28 -> 0.43561314 | H50: =データ貼り付け!T28 -> 0.40587196 | I50: 記入 | J50: 記入 | K50: =AVERAGE(E50,G50,I50) -> 0.43545641 | L50: =AVERAGE(F50,H50,J50) -> 0.40565169 | M50: =K50-$K$51 -> 0.00064039661 | N50: =L50-$L$51 -> 2.3317013e-05
A51: =A21 -> 0 | B51: =B21 -> 0 | C51: =C21 -> 175 | D51: =C51*$D$7 -> 175 | E51: =データ貼り付け!S8 -> 0.43467891 | F51: =データ貼り付け!T8 -> 0.40539543 | G51: =データ貼り付け!S29 -> 0.43495312 | H51: =データ貼り付け!T29 -> 0.4058613 | I51: 記入 | J51: 記入 | K51: =AVERAGE(E51,G51,I51) -> 0.43481601 | L51: =AVERAGE(F51,H51,J51) -> 0.40562837 | M51: =K51-$K$51 -> 0 | N51: =L51-$L$51 -> 0
A52: =A22 -> 0 | B52: =B22 -> 0 | C52: =C22 -> 210 | D52: =C52*$D$7 -> 210 | E52: =データ貼り付け!S9 -> 0.43402314 | F52: =データ貼り付け!T9 -> 0.40544605 | G52: =データ貼り付け!S30 -> 0.43418664 | H52: =データ貼り付け!T30 -> 0.4058701 | I52: 記入 | J52: 記入 | K52: =AVERAGE(E52,G52,I52) -> 0.43410489 | L52: =AVERAGE(F52,H52,J52) -> 0.40565807 | M52: =K52-$K$51 -> -0.00071112148 | N52: =L52-$L$51 -> 2.9704709e-05
A53: =A23 -> 0 | B53: =B23 -> 0 | C53: =C23 -> 240 | D53: =C53*$D$7 -> 240 | E53: =データ貼り付け!S10 -> 0.43340439 | F53: =データ貼り付け!T10 -> 0.40540476 | G53: =データ貼り付け!S31 -> 0.43364467 | H53: =データ貼り付け!T31 -> 0.40597034 | I53: 記入 | J53: 記入 | K53: =AVERAGE(E53,G53,I53) -> 0.43352453 | L53: =AVERAGE(F53,H53,J53) -> 0.40568755 | M53: =K53-$K$51 -> -0.0012914851 | N53: =L53-$L$51 -> 5.918048e-05
A54: =A24 -> 0 | B54: =B24 -> 0 | C54: =C24 -> 270 | D54: =C54*$D$7 -> 270 | E54: =データ貼り付け!S11 -> 0.43290527 | F54: =データ貼り付け!T11 -> 0.40539298 | G54: =データ貼り付け!S32 -> 0.43304028 | H54: =データ貼り付け!T32 -> 0.405889 | I54: 記入 | J54: 記入 | K54: =AVERAGE(E54,G54,I54) -> 0.43297277 | L54: =AVERAGE(F54,H54,J54) -> 0.40564099 | M54: =K54-$K$51 -> -0.0018432405 | N54: =L54-$L$51 -> 1.2621913e-05
A55: =A25 -> 0 | B55: =B25 -> 0 | C55: =C25 -> 300 | D55: =C55*$D$7 -> 300 | E55: =データ貼り付け!S12 -> 0.43238318 | F55: =データ貼り付け!T12 -> 0.40535324 | G55: =データ貼り付け!S33 -> 0.43248633 | H55: =データ貼り付け!T33 -> 0.40577773 | I55: 記入 | J55: 記入 | K55: =AVERAGE(E55,G55,I55) -> 0.43243476 | L55: =AVERAGE(F55,H55,J55) -> 0.40556548 | M55: =K55-$K$51 -> -0.002381257 | N55: =L55-$L$51 -> -6.2886316e-05
A56: =A26 -> 0 | B56: =B26 -> 0 | C56: =C26 -> 350 | D56: =C56*$D$7 -> 350 | E56: =データ貼り付け!S13 -> 0.43157347 | F56: =データ貼り付け!T13 -> 0.4051944 | G56: =データ貼り付け!S34 -> 0.43172113 | H56: =データ貼り付け!T34 -> 0.40577028 | I56: 記入 | J56: 記入 | K56: =AVERAGE(E56,G56,I56) -> 0.4316473 | L56: =AVERAGE(F56,H56,J56) -> 0.40548234 | M56: =K56-$K$51 -> -0.0031687126 | N56: =L56-$L$51 -> -0.00014602631
A57: =A27 -> 0 | B57: =B27 -> 0 | C57: =C27 -> 400 | D57: =C57*$D$7 -> 400 | E57: =データ貼り付け!S14 -> 0.43086006 | F57: =データ貼り付け!T14 -> 0.40513443 | G57: =データ貼り付け!S35 -> 0.43109033 | H57: =データ貼り付け!T35 -> 0.40578409 | I57: 記入 | J57: 記入 | K57: =AVERAGE(E57,G57,I57) -> 0.4309752 | L57: =AVERAGE(F57,H57,J57) -> 0.40545926 | M57: =K57-$K$51 -> -0.0038408154 | N57: =L57-$L$51 -> -0.00016911194
J85: 色度範囲の情報貼り付け
J86: 303 | M86: =座標!H59 -> 5000K(ANSI)
M87: x | N87: y
J88: 中心x | K88: 中心y
J89: 0.4339 | K89: 0.4032
J91: 楕円θ° | K91: 長軸a | L91: 短軸b
J92: 53.17 | K92: 0.00834 | L92: 0.00408
J94: 楕円x | K94: 楕円y
J95: 0.43889935 | K95: 0.40987548
J96: 0.4388416 | K96: 0.40991715
J97: 0.43878234 | K97: 0.40995677
J98: 0.43872159 | K98: 0.40999433
J99: 0.43865937 | K99: 0.41002983
J100: 0.4385957 | K100: 0.41006324
J101: 0.43853061 | K101: 0.41009456
J102: 0.4384641 | K102: 0.41012378
J103: 0.4383962 | K103: 0.4101509
J104: 0.43832693 | K104: 0.41017589
J105: 0.43825632 | K105: 0.41019876
J106: 0.43818437 | K106: 0.4102195
... J455: 0.43889935 | K455: 0.40987548

Sheet Tc特性
A1: 140317@代表特性測定フォーマット_5.00
C2: 測定日： | D2: =IF特性!D2 -> 43250 | F2: 下の黄色グラフで個別データを確認しながら測定
C3: 機種名： | D3: =IF特性!D3 -> CQ7A03H1201C9-303H5R2
C4: 試作No.： | D4: 記入
C5: 素子波長： | D5: 記入
C6: 直列数： | D6: =IF特性!D6 -> 12
C7: 並列数： | D7: =IF特性!D7 -> 1
C8: 測定方法： | D8: PLS
C10: ※青文字：計算値
C11: ※緑文字：3回測定平均値
I12: =I14/H17 -> #VALUE! | J12: ←VF typ.係数
A13: ペルチェIF | B13: 露光時間 | C13: Tc-VF特性 | E13: VF [V] | I13: typ.換算 | J13: ⊿VF
A14: ［A］(参考) | B14: [ms](参考) | C14: Tc ［℃］ | D14: IF/PKG | E14: =IF特性!E15 -> No.1 | F14: =IF特性!F15 -> No.2 | G14: =IF特性!G15 -> No.** | H14: ave. | I14: 記入 | J14: %
A15: -1.8 | C15: 0 | D15: =D7*175 -> 175 | E15: =データ貼り付け!H15 -> 37.018 | F15: =データ貼り付け!H36 -> 36.979 | G15: 記入 | H15: =AVERAGE(E15:G15) -> 36.9985 | I15: =H15*$I$12 -> #VALUE! | J15: =H15/$H$16 -> 1.0191301
A16: -0.05 | C16: 25 | D16: =$D$15 -> 175 | E16: =データ貼り付け!H16 -> 36.315 | F16: =データ貼り付け!H37 -> 36.293 | G16: 記入 | H16: =AVERAGE(E16:G16) -> 36.304 | I16: =H16*$I$12 -> #VALUE! | J16: =H16/$H$16 -> 1
A17: 0.58 | C17: 45 | D17: =$D$15 -> 175 | E17: =データ貼り付け!H17 -> 35.878 | F17: =データ貼り付け!H38 -> 35.848 | G17: 記入 | H17: =AVERAGE(E17:G17) -> 35.863 | I17: =H17*$I$12 -> #VALUE! | J17: =H17/$H$16 -> 0.98785258
A18: 1.01 | C18: 65 | D18: =$D$15 -> 175 | E18: =データ貼り付け!H18 -> 35.493 | F18: =データ貼り付け!H39 -> 35.462 | G18: 記入 | H18: =AVERAGE(E18:G18) -> 35.4775 | I18: =H18*$I$12 -> #VALUE! | J18: =H18/$H$16 -> 0.97723391
A19: 1.05 | C19: 66.3 | D19: =$D$15 -> 175 | E19: =データ貼り付け!H19 -> 35.465 | F19: =データ貼り付け!H40 -> 35.435 | G19: 記入 | H19: =AVERAGE(E19:G19) -> 35.45 | I19: =H19*$I$12 -> #VALUE! | J19: =H19/$H$16 -> 0.97647642
A20: 1.35 | C20: 85 | D20: =$D$15 -> 175 | E20: =データ貼り付け!H20 -> 35.133 | F20: =データ貼り付け!H41 -> 35.12 | G20: 記入 | H20: =AVERAGE(E20:G20) -> 35.1265 | I20: =H20*$I$12 -> #VALUE! | J20: =H20/$H$16 -> 0.96756556
A21: 1.56 | C21: 105 | D21: =$D$15 -> 175 | E21: =データ貼り付け!H21 -> 34.822 | F21: =データ貼り付け!H42 -> 34.79 | G21: 記入 | H21: =AVERAGE(E21:G21) -> 34.806 | I21: =H21*$I$12 -> #VALUE! | J21: =H21/$H$16 -> 0.95873733
A22: 1.75 | C22: 125 | D22: =$D$15 -> 175 | E22: =データ貼り付け!H22 -> 34.514 | F22: =データ貼り付け!H43 -> 34.486 | G22: 記入 | H22: =AVERAGE(E22:G22) -> 34.5 | I22: =H22*$I$12 -> #VALUE! | J22: =H22/$H$16 -> 0.95030851
A23: 1.85 | C23: 135 | D23: =$D$15 -> 175 | E23: =データ貼り付け!H23 -> 34.363 | F23: =データ貼り付け!H44 -> 34.338 | G23: 記入 | H23: =AVERAGE(E23:G23) -> 34.3505 | I23: =H23*$I$12 -> #VALUE! | J23: =H23/$H$16 -> 0.9461905
I26: =K28/J31 -> #VALUE! | J26: ←Φv typ.係数
A27: ペルチェIF | B27: 露光時間 | C27: Tc-φv特性 | E27: φv[lm] | K27: typ.換算 | L27: ⊿φv
A28: ［A］(参考) | B28: [ms](参考) | C28: Tc ［℃］ | D28: IF/PKG | E28: =E14 -> No.1 | G28: =F14 -> No.2 | I28: =G14 -> No.** | J28: ave. | K28: 記入 | L28: %
A29: =A15 -> -1.8 | B29: =B15 -> 0 | C29: 0 | D29: =$D$15 -> 175 | E29: =データ貼り付け!D15 -> 731.96803 | F29: =E29/$E$30 -> 1.0413755 | G29: =データ貼り付け!D36 -> 724.63209 | H29: =G29/$G$30 -> 1.0338451 | I29: 記入 | J29: =AVERAGE(E29:I29) -> 364.66883 | K29: =$K$28*J29/$J$31 -> #VALUE! | L29: =J29/$J$30 -> 1.0376156
A30: =A16 -> -0.05 | B30: =B16 -> 0 | C30: 25 | D30: =$D$15 -> 175 | E30: =データ貼り付け!D16 -> 702.88577 | F30: =E30/$E$30 -> 1 | G30: =データ貼り付け!D37 -> 700.90973 | H30: =G30/$G$30 -> 1 | I30: 記入 | J30: =AVERAGE(E30:I30) -> 351.44887 | K30: =$K$28*J30/$J$31 -> #VALUE! | L30: =J30/$J$30 -> 1
A31: =A17 -> 0.58 | B31: =B17 -> 0 | C31: 45 | D31: =$D$15 -> 175 | E31: =データ貼り付け!D17 -> 679.77924 | F31: =E31/$E$30 -> 0.96712619 | G31: =データ貼り付け!D38 -> 676.15551 | H31: =G31/$G$30 -> 0.96468273 | I31: 記入 | J31: =AVERAGE(E31:I31) -> 339.46664 | K31: =$K$28*J31/$J$31 -> #VALUE! | L31: =J31/$J$30 -> 0.96590618
A32: =A18 -> 1.01 | B32: =B18 -> 0 | C32: 65 | D32: =$D$15 -> 175 | E32: =データ貼り付け!D18 -> 651.96679 | F32: =E32/$E$30 -> 0.92755725 | G32: =データ貼り付け!D39 -> 647.25572 | H32: =G32/$G$30 -> 0.9234509 | I32: 記入 | J32: =AVERAGE(E32:I32) -> 325.26838 | K32: =J32*$I$12 -> #VALUE! | L32: =J32/$J$30 -> 0.92550696
A33: =A19 -> 1.05 | B33: =B19 -> 0 | C33: =C19 -> 66.3 | D33: =$D$15 -> 175 | E33: =データ貼り付け!D19 -> 649.32494 | F33: =E33/$E$30 -> 0.92379867 | G33: =データ貼り付け!D40 -> 645.08418 | H33: =G33/$G$30 -> 0.92035273 | I33: 記入 | J33: =AVERAGE(E33:I33) -> 324.06332 | K33: =J33*$I$12 -> #VALUE! | L33: =J33/$J$30 -> 0.92207812
A34: =A20 -> 1.35 | B34: =B20 -> 0 | C34: 85 | D34: =$D$15 -> 175 | E34: =データ貼り付け!D20 -> 617.3404 | F34: =E34/$E$30 -> 0.87829406 | G34: =データ貼り付け!D41 -> 615.77202 | H34: =G34/$G$30 -> 0.87853256 | I34: 記入 | J34: =AVERAGE(E34:I34) -> 308.71731 | K34: =$K$28*J34/$J$31 -> #VALUE! | L34: =J34/$J$30 -> 0.87841314
A35: =A21 -> 1.56 | B35: =B21 -> 0 | C35: 105 | D35: =$D$15 -> 175 | E35: =データ貼り付け!D21 -> 583.67157 | F35: =E35/$E$30 -> 0.83039321 | G35: =データ貼り付け!D42 -> 578.6024 | H35: =G35/$G$30 -> 0.82550202 | I35: 記入 | J35: =AVERAGE(E35:I35) -> 290.98247 | K35: =$K$28*J35/$J$31 -> #VALUE! | L35: =J35/$J$30 -> 0.82795105
A36: =A22 -> 1.75 | B36: =B22 -> 0 | C36: 125 | D36: =$D$15 -> 175 | E36: =データ貼り付け!D22 -> 543.91777 | F36: =E36/$E$30 -> 0.77383523 | G36: =データ貼り付け!D43 -> 539.23899 | H36: =G36/$G$30 -> 0.76934157 | I36: 記入 | J36: =AVERAGE(E36:I36) -> 271.17498 | K36: =$K$28*J36/$J$31 -> #VALUE! | L36: =J36/$J$30 -> 0.77159156
A37: =A23 -> 1.85 | B37: =B23 -> 0 | C37: 135 | D37: =$D$15 -> 175 | E37: =データ貼り付け!D23 -> 522.43044 | F37: =E37/$E$30 -> 0.74326508 | G37: =データ貼り付け!D44 -> 518.12547 | H37: =G37/$G$30 -> 0.73921855 | I37: 記入 | J37: =AVERAGE(E37:I37) -> 260.5096 | K37: =$K$28*J37/$J$31 -> #VALUE! | L37: =J37/$J$30 -> 0.74124466
A41: ペルチェIF | B41: 露光時間 | C41: Tc-xy特性 | E41: =E14 -> No.1 | G41: =F14 -> No.2 | I41: =G14 -> No.** | K41: ave.
A42: ［A］(参考) | B42: [ms](参考) | C42: Tc ［℃］ | D42: IF/PKG | E42: x | F42: y | G42: x | H42: y | I42: x | J42: y | K42: x | L42: y | M42: ⊿x | N42: ⊿y
A43: =A15 -> -1.8 | B43: =B15 -> 0 | C43: 0 | D43: =$D$15 -> 175 | E43: =データ貼り付け!S15 -> 0.43377853 | F43: =データ貼り付け!T15 -> 0.41134888 | G43: =データ貼り付け!S36 -> 0.43673072 | H43: =データ貼り付け!T36 -> 0.41047911 | K43: =AVERAGE(E43,G43) -> 0.43525463 | L43: =AVERAGE(F43,H43) -> 0.41091399 | M43: =K43-$K$44 -> 0.00061544505 | N43: =L43-$L$44 -> 0.0053283641
A44: =A16 -> -0.05 | B44: =B16 -> 0 | C44: 25 | D44: =$D$15 -> 175 | E44: =データ貼り付け!S16 -> 0.43476078 | F44: =データ貼り付け!T16 -> 0.40539988 | G44: =データ貼り付け!S37 -> 0.43451759 | H44: =データ貼り付け!T37 -> 0.40577138 | K44: =AVERAGE(E44,G44) -> 0.43463918 | L44: =AVERAGE(F44,H44) -> 0.40558563 | M44: =K44-$K$44 -> 0 | N44: =L44-$L$44 -> 0
A45: =A17 -> 0.58 | B45: =B17 -> 0 | C45: 45 | D45: =$D$15 -> 175 | E45: =データ貼り付け!S17 -> 0.43505908 | F45: =データ貼り付け!T17 -> 0.40496833 | G45: =データ貼り付け!S38 -> 0.4350731 | H45: =データ貼り付け!T38 -> 0.4055746 | K45: =AVERAGE(E45,G45) -> 0.43506609 | L45: =AVERAGE(F45,H45) -> 0.40527146 | M45: =K45-$K$44 -> 0.0004269062 | N45: =L45-$L$44 -> -0.00031416501
A46: =A18 -> 1.01 | B46: =B18 -> 0 | C46: 65 | D46: =$D$15 -> 175 | E46: =データ貼り付け!S18 -> 0.43504506 | F46: =データ貼り付け!T18 -> 0.40476374 | G46: =データ貼り付け!S39 -> 0.43498415 | H46: =データ貼り付け!T39 -> 0.40515992 | K46: =AVERAGE(E46,G46) -> 0.43501461 | L46: =AVERAGE(F46,H46) -> 0.40496183 | M46: =K46-$K$44 -> 0.00037542302 | N46: =L46-$L$44 -> -0.00062379571
A47: =A19 -> 1.05 | B47: =B19 -> 0 | C47: =C19 -> 66.3 | D47: =$D$15 -> 175 | E47: =データ貼り付け!S19 -> 0.43494757 | F47: =データ貼り付け!T19 -> 0.40468961 | G47: =データ貼り付け!S40 -> 0.4349803 | H47: =データ貼り付け!T40 -> 0.40516633 | K47: =AVERAGE(E47,G47) -> 0.43496394 | L47: =AVERAGE(F47,H47) -> 0.40492797 | M47: =K47-$K$44 -> 0.00032475379 | N47: =L47-$L$44 -> -0.00065765486
A48: =A20 -> 1.35 | B48: =B20 -> 0 | C48: 85 | D48: =$D$15 -> 175 | E48: =データ貼り付け!S20 -> 0.4344098 | F48: =データ貼り付け!T20 -> 0.40455191 | G48: =データ貼り付け!S41 -> 0.43443232 | H48: =データ貼り付け!T41 -> 0.40494941 | K48: =AVERAGE(E48,G48) -> 0.43442106 | L48: =AVERAGE(F48,H48) -> 0.40475066 | M48: =K48-$K$44 -> -0.00021812512 | N48: =L48-$L$44 -> -0.000834967
A49: =A21 -> 1.56 | B49: =B21 -> 0 | C49: 105 | D49: =$D$15 -> 175 | E49: =データ貼り付け!S21 -> 0.43324387 | F49: =データ貼り付け!T21 -> 0.40452372 | G49: =データ貼り付け!S42 -> 0.43319565 | H49: =データ貼り付け!T42 -> 0.40501388 | K49: =AVERAGE(E49,G49) -> 0.43321976 | L49: =AVERAGE(F49,H49) -> 0.4047688 | M49: =K49-$K$44 -> -0.0014194263 | N49: =L49-$L$44 -> -0.0008168257
A50: =A22 -> 1.75 | B50: =B22 -> 0 | C50: 125 | D50: =$D$15 -> 175 | E50: =データ貼り付け!S22 -> 0.43132839 | F50: =データ貼り付け!T22 -> 0.40476871 | G50: =データ貼り付け!S43 -> 0.43111214 | H50: =データ貼り付け!T43 -> 0.4050815 | K50: =AVERAGE(E50,G50) -> 0.43122026 | L50: =AVERAGE(F50,H50) -> 0.4049251 | M50: =K50-$K$44 -> -0.0034189201 | N50: =L50-$L$44 -> -0.0006605278
A51: =A23 -> 1.85 | B51: =B23 -> 0 | C51: 135 | D51: =$D$15 -> 175 | E51: =データ貼り付け!S23 -> 0.43007566 | F51: =データ貼り付け!T23 -> 0.40500712 | G51: =データ貼り付け!S44 -> 0.42991844 | H51: =データ貼り付け!T44 -> 0.40535115 | K51: =AVERAGE(E51,G51) -> 0.42999705 | L51: =AVERAGE(F51,H51) -> 0.40517914 | M51: =K51-$K$44 -> -0.0046421337 | N51: =L51-$L$44 -> -0.00040649304

Sheet スペ
A1: 130318@代表特性測定フォーマット_4.00
C2: 測定日： | D2: =IF特性!D2 -> 43250
C3: 機種名： | D3: =IF特性!D3 -> CQ7A03H1201C9-303H5R2
C4: 試作No.： | D4: 記入
C5: 素子波長： | D5: 記入
C6: 直列数： | D6: =IF特性!D6 -> 12
C7: 並列数： | D7: =IF特性!D7 -> 1
C8: 測定方法： | D8: PLS
C10: ※青文字：計算値
C11: ※緑文字：3回測定平均値
B13: スペクトル
B14: 波長ランク | C14: =$D$5 -> 記入
B15: Tc | C15: 25℃ | F15: =MAX(F18:F112) -> 0.014153136 | G15: ←max.
B16: 単位 | C16: W/nm | D16: W/nm | E16: W/nm | F16: W/nm | G16: 相対値(%)
B17: WD[nm] | C17: =IF特性!E15 -> No.1 | D17: =IF特性!F15 -> No.2 | E17: =IF特性!G15 -> No.** | F17: ave. | G17: ave.
B18: 360 | C18: 0.00023646654 | D18: 0.00027713526 | E18: =$D$5 -> 記入 | F18: =AVERAGE(C18:E18) -> 0.0002568009 | G18: =F18/$F$15 -> 0.018144452
B19: 365 | C19: 0.00019717605 | D19: 0.00033457412 | E19: =$D$5 -> 記入 | F19: =AVERAGE(C19:E19) -> 0.00026587508 | G19: =F19/$F$15 -> 0.018785595
B20: 370 | C20: 0.00024759766 | D20: 0.00051622254 | E20: =$D$5 -> 記入 | F20: =AVERAGE(C20:E20) -> 0.0003819101 | G20: =F20/$F$15 -> 0.026984133
B21: 375 | C21: 0.00062998021 | D21: 0.00046923002 | E21: =$D$5 -> 記入 | F21: =AVERAGE(C21:E21) -> 0.00054960512 | G21: =F21/$F$15 -> 0.038832745
B22: 380 | C22: 0.00037915899 | D22: 0.00050826933 | E22: =$D$5 -> 記入 | F22: =AVERAGE(C22:E22) -> 0.00044371416 | G22: =F22/$F$15 -> 0.031350943
B23: 385 | C23: 0.0004572307 | D23: 0.00036060687 | E23: =$D$5 -> 記入 | F23: =AVERAGE(C23:E23) -> 0.00040891878 | G23: =F23/$F$15 -> 0.028892451
B24: 390 | C24: 0.00017677915 | D24: 0.00014153206 | E24: =$D$5 -> 記入 | F24: =AVERAGE(C24:E24) -> 0.00015915561 | G24: =F24/$F$15 -> 0.011245254
B25: 395 | C25: 0.00017168643 | D25: 0.00022218932 | E25: =$D$5 -> 記入 | F25: =AVERAGE(C25:E25) -> 0.00019693788 | G25: =F25/$F$15 -> 0.013914787
B26: 400 | C26: 0.00020066119 | D26: 0.00021246853 | E26: =$D$5 -> 記入 | F26: =AVERAGE(C26:E26) -> 0.00020656486 | G26: =F26/$F$15 -> 0.014594989
B27: 405 | C27: 0.00011055968 | D27: 0.00011536528 | E27: =$D$5 -> 記入 | F27: =AVERAGE(C27:E27) -> 0.00011296248 | G27: =F27/$F$15 -> 0.0079814453
B28: 410 | C28: 9.7173787e-05 | D28: 9.3900025e-05 | E28: =$D$5 -> 記入 | F28: =AVERAGE(C28:E28) -> 9.5536906e-05 | G28: =F28/$F$15 -> 0.0067502288
B29: 415 | C29: 0.00012787236 | D29: 0.00013737686 | E29: =$D$5 -> 記入 | F29: =AVERAGE(C29:E29) -> 0.00013262461 | G29: =F29/$F$15 -> 0.0093706872
... B112: 830 | C112: 0.00010241771 | D112: 0.0001017443 | E112: =$D$5 -> 記入 | F112: =AVERAGE(C112:E112) -> 0.000102081 | G112: =F112/$F$15 -> 0.0072126067
C113: 9.3581071e-05 | D113: 9.0987204e-05
C114: 8.0815469e-05 | D114: 7.8597405e-05
C115: 7.3037075e-05 | D115: 6.9888943e-05
C116: 6.4234797e-05 | D116: 5.7412622e-05
C117: 5.3819421e-05 | D117: 4.9044356e-05
C118: 4.4134061e-05 | D118: 4.3825457e-05
C119: 3.9246057e-05 | D119: 4.3102149e-05
C120: 3.6674645e-05 | D120: 3.8807294e-05
C121: 3.418881e-05 | D121: 2.660224e-05
C122: 2.8184384e-05 | D122: 2.9332984e-05
C123: 2.4969558e-05 | D123: 2.5440398e-05
C124: 2.495919e-05 | D124: 2.9414385e-05
... C134: 2.1869357e-05 | D134: 7.3785119e-06

Sheet 座標
D2: x | E2: y | I2: x | J2: y | N2: x | O2: y | S2: x | T2: y | X2: x | Y2: y | AA2: 1 | AB2: ｘ | AC2: ｙ
B3: D | C3: a | D3: 0.301 | E3: 0.342 | G3: N | H3: a | I3: 0.331 | J3: 0.373 | L3: W | M3: a | N3: 0.367 | O3: 0.402 | Q3: WW | R3: a | S3: 0.404 | T3: 0.427 | V3: L | W3: a | X3: 0.445 | Y3: 0.448 | AA3: a | AB3: 0.307 | AC3: 0.316
C4: b | D4: 0.31 | E4: 0.302 | H4: b | I4: 0.331 | J4: 0.322 | M4: b | N4: 0.359 | O4: 0.352 | R4: b | S4: 0.386 | T4: 0.37 | W4: b | X4: 0.417 | Y4: 0.386 | AA4: b | AB4: 0.3034 | AC4: 0.3304
C5: c | D5: 0.331 | E5: 0.322 | H5: c | I5: 0.357 | J5: 0.341 | M5: c | N5: 0.386 | O5: 0.37 | R5: c | S5: 0.417 | T5: 0.386 | W5: c | X5: 0.459 | Y5: 0.398 | AA5: c | AB5: 0.3158 | AC5: 0.3434
C6: d | D6: 0.331 | E6: 0.373 | H6: d | I6: 0.367 | J6: 0.402 | M6: d | N6: 0.404 | O6: 0.427 | R6: d | S6: 0.445 | T6: 0.448 | W6: d | X6: 0.499 | Y6: 0.466 | AA6: d | AB6: 0.317 | AC6: 0.331
D7: 0.301 | E7: 0.342 | I7: 0.331 | J7: 0.373 | N7: 0.367 | O7: 0.402 | S7: 0.404 | T7: 0.427 | X7: 0.445 | Y7: 0.448 | AB7: 0.307 | AC7: 0.316
AA8: 2 | AB8: ｘ | AC8: ｙ
B9: BIN code | D9: x | E9: y | G9: BIN code | I9: x | J9: y | L9: BIN code | N9: x | O9: y | Q9: BIN code | S9: x | T9: y | V9: BIN code | X9: x | Y9: y | AA9: a | AB9: 0.317 | AC9: 0.331
B10: DR1 | C10: a | D10: 0.303 | E10: 0.333 | G10: NR1 | H10: a | I10: 0.331 | J10: 0.358 | L10: WR1 | M10: a | N10: 0.363 | O10: 0.376 | Q10: WWR1 | R10: a | S10: 0.397 | T10: 0.405 | V10: LR1 | W10: a | X10: 0.433 | Y10: 0.421 | AA10: b | AB10: 0.3158 | AC10: 0.3434
C11: b | D11: 0.301 | E11: 0.342 | H11: b | I11: 0.331 | J11: 0.373 | M11: b | N11: 0.367 | O11: 0.402 | R11: b | S11: 0.404 | T11: 0.427 | W11: b | X11: 0.445 | Y11: 0.448 | AA11: c | AB11: 0.331 | AC11: 0.3585
C12: c | D12: 0.314 | E12: 0.356 | H12: c | I12: 0.348 | J12: 0.387 | M12: c | N12: 0.381 | O12: 0.4115 | R12: c | S12: 0.422 | T12: 0.436 | W12: c | X12: 0.469 | Y12: 0.456 | AA12: d | AB12: 0.331 | AC12: 0.353
C13: d | D13: 0.315 | E13: 0.345 | H13: d | I13: 0.347 | J13: 0.373 | M13: d | N13: 0.375 | O13: 0.385 | R13: d | S13: 0.413 | T13: 0.412 | W13: d | X13: 0.456 | Y13: 0.429 | AA13: e | AB13: 0.317 | AC13: 0.331
D14: =D10 -> 0.303 | E14: =E10 -> 0.333 | I14: =I10 -> 0.331 | J14: =J10 -> 0.358 | N14: =N10 -> 0.363 | O14: =O10 -> 0.376 | S14: =S10 -> 0.397 | T14: =T10 -> 0.405 | X14: =X10 -> 0.433 | Y14: =Y10 -> 0.421 | AA14: 3 | AB14: ｘ | AC14: ｙ
B15: DR2 | C15: a | D15: 0.315 | E15: 0.345 | G15: NR2 | H15: a | I15: 0.347 | J15: 0.373 | L15: WR2 | M15: a | N15: 0.375 | O15: 0.385 | Q15: WWR2 | R15: a | S15: 0.413 | T15: 0.412 | V15: LR2 | W15: a | X15: 0.456 | Y15: 0.429 | AA15: a | AB15: 0.3174 | AC15: 0.327
C16: b | D16: 0.314 | E16: 0.356 | H16: b | I16: 0.348 | J16: 0.387 | M16: b | N16: 0.381 | O16: 0.4113 | R16: b | S16: 0.422 | T16: 0.436 | W16: b | X16: 0.469 | Y16: 0.456 | AA16: b | AB16: 0.317 | AC16: 0.331
C17: c | D17: 0.331 | E17: 0.373 | H17: c | I17: 0.367 | J17: 0.402 | M17: c | N17: 0.404 | O17: 0.427 | R17: c | S17: 0.445 | T17: 0.448 | W17: c | X17: 0.499 | Y17: 0.466 | AA17: c | AB17: 0.331 | AC17: 0.353
C18: d | D18: 0.331 | E18: 0.36 | H18: d | I18: 0.36472 | J18: 0.388 | M18: d | N18: 0.39453 | O18: 0.397 | R18: d | S18: 0.433 | T18: 0.421 | W18: d | X18: 0.481 | Y18: 0.435 | AA18: d | AB18: 0.331 | AC18: 0.34
D19: =D15 -> 0.315 | E19: =E15 -> 0.345 | I19: =I15 -> 0.347 | J19: =J15 -> 0.373 | N19: =N15 -> 0.375 | O19: =O15 -> 0.385 | S19: =S15 -> 0.413 | T19: =T15 -> 0.412 | X19: =X15 -> 0.456 | Y19: =Y15 -> 0.429 | AB19: 0.3174 | AC19: 0.327
B20: DR3 | C20: a | D20: 0.307 | E20: 0.316 | G20: NR3 | H20: a | I20: 0.331 | J20: 0.338 | L20: WR3 | M20: a | N20: 0.359 | O20: 0.352 | Q20: WWR3 | R20: a | S20: 0.39 | T20: 0.383 | V20: LR3 | W20: a | X20: 0.417 | Y20: 0.386 | AA20: 4 | AB20: ｘ | AC20: ｙ
C21: b | D21: 0.303 | E21: 0.333 | H21: b | I21: 0.331 | J21: 0.358 | M21: b | N21: 0.363 | O21: 0.376 | R21: b | S21: 0.397 | T21: 0.405 | W21: b | X21: 0.433 | Y21: 0.421 | AA21: a | AB21: 0.31 | AC21: 0.302
C22: c | D22: 0.315 | E22: 0.345 | H22: c | I22: 0.347 | J22: 0.373 | M22: c | N22: 0.375 | O22: 0.385 | R22: c | S22: 0.413 | T22: 0.412 | W22: c | X22: 0.456 | Y22: 0.429 | AA22: b | AB22: 0.307 | AC22: 0.316
C23: d | D23: 0.317 | E23: 0.327 | H23: d | I23: 0.345 | J23: 0.35 | M23: d | N23: 0.37 | O23: 0.3598 | R23: d | S23: 0.405 | T23: 0.39 | W23: d | X23: 0.437 | Y23: 0.392 | AA23: c | AB23: 0.317 | AC23: 0.331
D24: =D20 -> 0.307 | E24: =E20 -> 0.316 | I24: =I20 -> 0.331 | J24: =J20 -> 0.338 | N24: =N20 -> 0.359 | O24: =O20 -> 0.352 | S24: =S20 -> 0.39 | T24: =T20 -> 0.383 | X24: =X20 -> 0.417 | Y24: =Y20 -> 0.386 | AA24: d | AB24: 0.319 | AC24: 0.311
B25: DR4 | C25: a | D25: 0.317 | E25: 0.327 | G25: NR4 | H25: a | I25: 0.345 | J25: 0.35 | L25: WR4 | M25: a | N25: 0.37 | O25: 0.36 | Q25: WWR4 | R25: a | S25: 0.405 | T25: 0.39 | V25: LR4 | W25: a | X25: 0.437 | Y25: 0.392 | AB25: 0.31 | AC25: 0.302
C26: b | D26: 0.315 | E26: 0.345 | H26: b | I26: 0.347 | J26: 0.373 | M26: b | N26: 0.375 | O26: 0.385 | R26: b | S26: 0.413 | T26: 0.412 | W26: b | X26: 0.456 | Y26: 0.429 | AA26: 5 | AB26: x | AC26: y
C27: c | D27: 0.331 | E27: 0.36 | H27: c | I27: 0.36472 | J27: 0.388 | M27: c | N27: 0.39452 | O27: 0.3972 | R27: c | S27: 0.433 | T27: 0.421 | W27: c | X27: 0.481 | Y27: 0.435 | AA27: a | AB27: 0.319 | AC27: 0.311
C28: d | D28: 0.331 | E28: 0.34 | H28: d | I28: 0.3605 | J28: 0.363 | M28: d | N28: 0.386 | O28: 0.37 | R28: d | S28: 0.423 | T28: 0.399 | W28: d | X28: 0.459 | Y28: 0.398 | AA28: b | AB28: 0.3174 | AC28: 0.327
D29: =D25 -> 0.317 | E29: =E25 -> 0.327 | I29: =I25 -> 0.345 | J29: =J25 -> 0.35 | N29: =N25 -> 0.37 | O29: =O25 -> 0.36 | S29: =S25 -> 0.405 | T29: =T25 -> 0.39 | X29: =X25 -> 0.437 | Y29: =Y25 -> 0.392 | AA29: c | AB29: 0.331 | AC29: 0.34
B30: DR5 | C30: a | D30: 0.31 | E30: 0.302 | G30: NR5 | H30: a | I30: 0.331 | J30: 0.322 | Q30: WWR5 | R30: a | S30: 0.386 | T30: 0.37 | AA30: d | AB30: 0.331 | AC30: 0.322
C31: b | D31: 0.307 | E31: 0.316 | H31: b | I31: 0.331 | J31: 0.338 | R31: b | S31: 0.39 | T31: 0.383 | AB31: 0.319 | AC31: 0.311
C32: c | D32: 0.317 | E32: 0.327 | H32: c | I32: 0.345 | J32: 0.3501 | R32: c | S32: 0.405 | T32: 0.39
C33: d | D33: 0.319 | E33: 0.311 | H33: d | I33: 0.343 | J33: 0.331 | R33: d | S33: 0.4 | T33: 0.377
D34: =D30 -> 0.31 | E34: =E30 -> 0.302 | I34: =I30 -> 0.331 | J34: =J30 -> 0.322 | S34: =S30 -> 0.386 | T34: =T30 -> 0.37
B35: DR6 | C35: a | D35: 0.331 | E35: 0.34 | G35: NR6 | H35: a | I35: 0.343 | J35: 0.331 | Q35: WWR6 | R35: a | S35: 0.4 | T35: 0.377
C36: b | D36: 0.317 | E36: 0.327 | H36: b | I36: 0.345 | J36: 0.3502 | R36: b | S36: 0.405 | T36: 0.39
C37: c | D37: 0.319 | E37: 0.311 | H37: c | I37: 0.36056 | J37: 0.363 | R37: c | S37: 0.423 | T37: 0.399
C38: d | D38: 0.331 | E38: 0.322 | H38: d | I38: 0.357 | J38: 0.341 | R38: d | S38: 0.417 | T38: 0.386
I39: =I35 -> 0.343 | J39: =J35 -> 0.331
B40: 新色度範囲(09.02.24)より抜粋
C42: 2700K(ANSI) | E42: 3000K(ANSI) | G42: 3500K(ANSI) | I42: 4000K(ANSI) | K42: 4500K(ANSI) | M42: 5000K(CL-824) | O42: 6300K(CL-824)
C43: ML2 | E43: ML1 | G43: MWW1 | I43: MW1 | K43: MN2 (保留) | M43: MN | O43: MD
C44: x | D44: y | E44: x | F44: y | G44: x | H44: y | I44: x | J44: y | K44: x | L44: y | M44: x | N44: y | O44: x | P44: y
B45: center point | C45: 0.4578 | D45: 0.4101 | E45: 0.4338 | F45: 0.403 | G45: 0.4073 | H45: 0.3917 | I45: 0.3818 | J45: 0.3797 | K45: 0.3611 | L45: 0.3658
B46: a | C46: 0.4813 | D46: 0.4319 | E46: 0.4562 | F46: 0.426 | G46: 0.4299 | H46: 0.4165 | I46: 0.4006 | J46: 0.4044 | K46: 0.3736 | L46: 0.3874 | M46: 0.35509733 | N46: 0.37600959 | O46: 0.31 | P46: 0.302
B47: b | C47: 0.4562 | D47: 0.426 | E47: 0.4299 | F47: 0.4165 | G47: 0.3996 | H47: 0.4015 | I47: 0.3736 | J47: 0.3874 | K47: 0.3548 | L47: 0.3736 | M47: 0.331 | N47: 0.3561799 | O47: 0.3028 | P47: 0.3304
B48: c | C48: 0.4373 | D48: 0.3893 | E48: 0.4147 | F48: 0.3814 | G48: 0.3889 | H48: 0.369 | I48: 0.367 | J48: 0.3578 | K48: 0.3512 | L48: 0.3465 | M48: 0.331 | N48: 0.322 | O48: 0.331 | P48: 0.3585
B49: d | C49: 0.4593 | D49: 0.3944 | E49: 0.4373 | F49: 0.3893 | G49: 0.4147 | H49: 0.3814 | I49: 0.3898 | J49: 0.3716 | K49: 0.367 | L49: 0.3578 | M49: 0.34978475 | N49: 0.3357227 | O49: 0.331 | P49: 0.322
B50: a | C50: 0.4813 | D50: 0.4319 | E50: =E46 -> 0.4562 | F50: =F46 -> 0.426 | G50: =G46 -> 0.4299 | H50: =H46 -> 0.4165 | I50: =I46 -> 0.4006 | J50: =J46 -> 0.4044 | K50: =K46 -> 0.3736 | L50: =L46 -> 0.3874 | ... P50: =P46 -> 0.302
B52: 黒体軌跡
C53: K | D53: 2000 | E53: 2200 | F53: 2400 | G53: 2600 | H53: 2800 | I53: 3000 | J53: 3200 | K53: 3400 | L53: 3600 | M53: 3800 | N53: 4000 | O53: 4200 | P53: 4400 | Q53: 4600 | R53: 4800 | S53: 5000 | T53: 5200 | U53: 5400 | V53: 5600 | W53: 5800 | X53: 6000 | Y53: 6200 | Z53: 6400 | AA53: 6600 | AB53: 6800 | AC53: 7000 | AD53: 7200 | AE53: 7400 | AF53: 7600 | AG53: 7800 | AH53: 8000 | AI53: 8200 | AJ53: 8400 | AK53: 8600 | AL53: 8800 | AM53: 9000 | AN53: 9200 | AO53: 9400 | AP53: 9600 | AQ53: 9800 | AR53: 10000
C54: x | D54: 0.52667723 | E54: 0.505625 | F54: 0.48614334 | G54: 0.46823502 | H54: 0.4518566 | I54: 0.4369308 | J54: 0.42335934 | K54: 0.41103369 | L54: 0.39984288 | M54: 0.38967879 | N54: 0.38043933 | O54: 0.37203013 | P54: 0.36436523 | Q54: 0.35736711 | R54: 0.35096633 | S54: 0.34510101 | T54: 0.3397161 | U54: 0.33476277 | V54: 0.33019771 | W54: 0.32598251 | X54: 0.32208309 | Y54: 0.31846921 | Z54: 0.31511397 | AA54: 0.31199345 | AB54: 0.30908631 | AC54: 0.30637352 | AD54: 0.30383806 | AE54: 0.30146467 | AF54: 0.29923968 | AG54: 0.29715079 | AH54: 0.29518694 | AI54: 0.29333815 | AJ54: 0.2915954 | AK54: 0.28995053 | AL54: 0.28839616 | AM54: 0.28692556 | AN54: 0.28553263 | AO54: 0.28421182 | AP54: 0.28295805 | AQ54: 0.28176669 | AR54: 0.28063351
C55: y | D55: 0.41329704 | E55: 0.41520762 | F55: 0.41466573 | G55: 0.41229913 | H55: 0.40862994 | I55: 0.40407388 | J55: 0.39895153 | K55: 0.39350387 | L55: 0.38790825 | M55: 0.38229248 | N55: 0.3767467 | O55: 0.37133277 | P55: 0.36609163 | Q55: 0.36104883 | R55: 0.35621879 | S55: 0.35160791 | T55: 0.34721694 | U55: 0.34304268 | V55: 0.33907925 | W55: 0.33531901 | X55: 0.33175326 | Y55: 0.32837269 | Z55: 0.32516777 | AA55: 0.32212895 | AB55: 0.31924687 | AC55: 0.31651245 | AD55: 0.31391699 | AE55: 0.31145217 | AF55: 0.30911013 | AG55: 0.30688344 | AH55: 0.30476511 | AI55: 0.30274858 | AJ55: 0.3008277 | AK55: 0.29899673 | AL55: 0.29725028 | AM55: 0.29558334 | AN55: 0.29399122 | AO55: 0.29246955 | AP55: 0.29101425 | AQ55: 0.2896215 | AR55: 0.28828776
B58: 日亜D
B59: b3 | E59: b4 | H59: 5000K(ANSI)
B60: x | C60: y | E60: x | F60: y | H60: x | I60: y
B61: 0.287 | C61: 0.295 | E61: 0.307 | F61: 0.315 | H61: 0.3551 | I61: 0.376
B62: 0.283 | C62: 0.305 | E62: 0.304 | F62: 0.33 | H62: 0.3376 | I62: 0.3616
B63: 0.304 | C63: 0.33 | E63: 0.33 | F63: 0.36 | H63: 0.3366 | I63: 0.3369
B64: 0.307 | C64: 0.315 | E64: 0.33 | F64: 0.339 | H64: 0.3515 | I64: 0.3487
B65: =B61 -> 0.287 | C65: =C61 -> 0.295 | E65: =E61 -> 0.307 | F65: =F61 -> 0.315 | H65: 0.3551 | I65: 0.376 | M65: =AVERAGE(M69:M72) -> 0.31355 | N65: =AVERAGE(N69:N72) -> 0.32335 | P65: =AVERAGE(P69:P72) -> 0.314075 | Q65: =AVERAGE(Q69:Q72) -> 0.324075
P66: =P65-M65 -> 0.000525 | Q66: =Q65-N65 -> 0.000725
B67: b5 | E67: b6 | H67: パナライティング2800K | J67: パナライティング6700K | L67: 6700K±0.002 Ta25℃ | O67: 新色度範囲 | P67: =P63 -> 0 | Q67: =Q63 -> 0
B68: x | C68: y | E68: x | F68: y | H68: x | I68: y | J68: x | K68: y | L68: 1 | M68: ｘ | N68: ｙ | O68: 3 | P68: ｘ | Q68: ｙ
B69: 0.296 | C69: 0.276 | E69: 0.311 | F69: 0.294 | H69: 0.4672 | I69: 0.424 | J69: 0.3147 | K69: 0.3319 | L69: a | M69: 0.3195 | N69: 0.3352 | O69: a | P69: 0.3195 | Q69: 0.3352
B70: 0.287 | C70: 0.295 | E70: 0.307 | F70: 0.315 | H70: 0.4468 | I70: 0.4188 | J70: 0.2988 | K70: 0.3166 | L70: b | M70: 0.3061 | N70: 0.3217 | O70: b | P70: 0.3072 | Q70: 0.3227
B71: 0.307 | C71: 0.315 | E71: 0.33 | F71: 0.339 | H71: 0.4345 | I71: 0.3936 | J71: 0.3018 | K71: 0.3038 | L71: c | M71: 0.3082 | N71: 0.3126 | O71: c | P71: 0.3092 | Q71: 0.314
B72: 0.311 | C72: 0.294 | E72: 0.33 | F72: 0.318 | H72: 0.4532 | I72: 0.3984 | J72: 0.3159 | K72: 0.3169 | L72: d | M72: 0.3204 | N72: 0.3239 | O72: d | P72: 0.3204 | Q72: 0.3244
B73: =B69 -> 0.296 | C73: =C69 -> 0.276 | E73: =E69 -> 0.311 | F73: =F69 -> 0.294 | H73: =H69 -> 0.4672 | I73: =I69 -> 0.424 | J73: =J69 -> 0.3147 | K73: =K69 -> 0.3319 | M73: 0.31951522 | N73: 0.335 | P73: 0.3195 | Q73: 0.3352
O75: 現行右上シフト | P75: x | Q75: y
G76: Tc=25℃：色シフト込み | O76: a | P76: =M69+P$66*2 -> 0.32055 | Q76: =N69+Q$66*2 -> 0.33665
H77: x | I77: y | L77: x | M77: y | O77: b | P77: =M70+P$66*2 -> 0.30715 | Q77: =N70+Q$66*2 -> 0.32315
G78: 仕様書 電球色(L) 2800K | H78: 0.452781 | I78: 0.397609 | K78: 昼光色(D) | L78: 0.3153 | M78: 0.3129 | O78: c | P78: =M71+P$66*2 -> 0.30925 | Q78: =N71+Q$66*2 -> 0.31405
H79: 0.435281 | I79: 0.392909 | L79: 0.3131 | M79: 0.3296 | O79: d | P79: =M72+P$66*2 -> 0.32145 | Q79: =N72+Q$66*2 -> 0.32535
H80: 0.447581 | I80: 0.417309 | L80: 0.2949 | M80: 0.3107 | P80: =P76 -> 0.32055 | Q80: =Q76 -> 0.33665
H81: 0.466781 | I81: 0.422409 | L81: 0.2993 | M81: 0.2968
H82: 0.452781 | I82: 0.397609 | L82: =L78 -> 0.3153 | M82: =M78 -> 0.3129 | O82: 色度範囲右上シフト
G83: 中心 | H83: 0.450481 | I83: 0.407509 | K83: 中心 | L83: 0.3056 | M83: 0.3126 | O83: 3 | P83: ｘ | Q83: ｙ
O84: a | P84: =P76 -> 0.32055 | Q84: =Q76 -> 0.33665
O85: b | P85: 0.3072 | Q85: 0.3227
O86: c | P86: 0.3092 | Q86: 0.314
O87: d | P87: =P79 -> 0.32145 | Q87: =Q79 -> 0.32535
G88: 01(DE) | H88: ｘ | I88: ｙ | P88: =P84 -> 0.32055 | Q88: =Q84 -> 0.33665
G89: a | H89: 0.3083 | I89: 0.3239
G90: b | H90: 0.3193 | I90: 0.335
G91: c | H91: 0.32 | I91: 0.3263
G92: d | H92: 0.3099 | I92: 0.3169
H93: 0.3083 | I93: 0.3239
G94: 02(D) | H94: ｘ | I94: ｙ
G95: a | H95: 0.31931522 | I95: 0.33499818
G96: b | H96: 0.30594201 | I96: 0.32152444
G97: c | H97: 0.30802693 | I97: 0.31244897
G98: d | H98: 0.32021384 | I98: 0.3236744
G99: ＊上記、01を除いた部分 | H99: =H95 -> 0.31931522 | I99: =I95 -> 0.33499818
G100: 03(E) | H100: ｘ | I100: ｙ
G101: a | H101: 0.3079 | I101: 0.3258
G102: b | H102: 0.3099 | I102: 0.3169
G103: c | H103: 0.3219 | I103: 0.3281
G104: d | H104: 0.322 | I104: 0.3405
G105: ＊上記、01を除いた部分 | H105: =H101 -> 0.3079 | I105: =I101 -> 0.3258
AG107: 公差込み
...

Sheet Selector
P3: A number of LEDs
P5: Series | S5: Parallel | X5: Total Q'ty
B6: CCT,Ra | C6: 1 | D6: 1 | E6: 2 | G6: 150 | H6: =VLOOKUP(E6,Calculation!A24:I25,9,FALSE) -> mA | J6: Tc (C) | L6: 25 | P6: 1 | S6: 1 | X6: =P6*S6 -> 1
Q8: Reference | R8: ★ | T8: ★ | U8: Reference | W8: ★ | X8: Reference | Z8: ★
B9: Product code | E9: =VLOOKUP($E6,#REF!,3,FALSE) -> #REF! | G9: =VLOOKUP($E6,#REF!,4,FALSE) -> #REF! | I9: =VLOOKUP($E6,#REF!,7,FALSE) -> #REF! | K9: =VLOOKUP($E6,#REF!,8,FALSE) -> #REF! | M9: Tj (C) | P9: If [mA] | Q9: Vf [V] | V9: Pd [W] | W9: Pd [W] | X9: φv (lm) | Z9: lm/W
Q10: min | R10: Vf rate | S10: typ | T10: Vf rate | U10: max | V10: typ | W10: max | X10: min | Y10: typ | Z10: min | AA10: typ
B11: Code | E11: =CONCATENATE($E6,E9) -> #REF! | G11: =CONCATENATE($E6,G9) -> #REF! | I11: =CONCATENATE($E6,I9) -> #REF! | K11: =CONCATENATE($E6,K9) -> #REF! | M11: =CONCATENATE($E6,M9) -> 2Tj (C) | P11: N/A | S11: N/A | V11: N/A | X11: 0.879 | Y11: N/A
B12: =CONCATENATE(#REF!,"-",#REF!,#REF!,"-",#REF!) -> #REF! | E12: =HLOOKUP(E$11,#REF!,2,FALSE) -> #REF! | G12: =HLOOKUP(G$11,#REF!,2,FALSE) -> #REF! | I12: =HLOOKUP(I$11,#REF!,2,FALSE) -> #REF! | K12: =HLOOKUP(K$11,#REF!,2,FALSE) -> #REF! | M12: =HLOOKUP(M$11,#REF!,2,FALSE) -> #REF! | P12: =IF(G12="Not Applicable","Not Applicable",IF($H$6="mA",$G$6*$S$6,E12*$S$6)) -> #REF! | Q12: =IF(G12="Not Applicable","Not Applicable",S12*R12) -> #REF! | R12: 0.917647 | S12: =IF(G12="Not Applicable","Not Applicable",G12*$P$6) -> #REF! | T12: 0.082353 | U12: =IF(G12="Not Applicable","Not Applicable",S12*(1+T12)) -> #REF! | V12: =IF(G12="Not Applicable","Not Applicable",P12/1000*S12) -> #REF! | W12: =IF(G12="Not Applicable","Not Applicable",P12/1000*U12) -> #REF! | X12: =IF(G12="Not Applicable","Not Applicable",ROUNDDOWN(Y12*X$11,0)) -> #REF! | Y12: =IF(G12="Not Applicable","Not Applicable",IF($H$6="mA",E12*$P$6*$S$6,$G$6*$P$6*$S$6)) -> #REF! | Z12: =IF(E12="Not Applicable","Not Applicable",ROUNDDOWN(X12/W12,0)) -> #REF! | AA12: =IF(E12="Not Applicable","Not Applicable",Y12/V12) -> #REF!
B13: =CONCATENATE(#REF!,"-",#REF!,#REF!,"-",#REF!) -> #REF! | E13: =HLOOKUP(E$11,#REF!,3,FALSE) -> #REF! | G13: =HLOOKUP(G$11,#REF!,3,FALSE) -> #REF! | I13: =HLOOKUP(I$11,#REF!,3,FALSE) -> #REF! | K13: =HLOOKUP(K$11,#REF!,3,FALSE) -> #REF! | M13: =HLOOKUP(M$11,#REF!,3,FALSE) -> #REF! | P13: =IF(G13="Not Applicable","Not Applicable",IF($H$6="mA",$G$6*$S$6,E13*$S$6)) -> #REF! | Q13: =IF(G13="Not Applicable","Not Applicable",S13*R13) -> #REF! | R13: =R12 -> 0.917647 | S13: =IF(G13="Not Applicable","Not Applicable",G13*$P$6) -> #REF! | T13: =T12 -> 0.082353 | U13: =IF(G13="Not Applicable","Not Applicable",S13*(1+T13)) -> #REF! | V13: =IF(G13="Not Applicable","Not Applicable",P13/1000*S13) -> #REF! | W13: =IF(G13="Not Applicable","Not Applicable",P13/1000*U13) -> #REF! | X13: =IF(G13="Not Applicable","Not Applicable",ROUNDDOWN(Y13*X$11,0)) -> #REF! | Y13: =IF(G13="Not Applicable","Not Applicable",IF($H$6="mA",E13*$P$6*$S$6,$G$6*$P$6*$S$6)) -> #REF! | Z13: =IF(E13="Not Applicable","Not Applicable",ROUNDDOWN(X13/W13,0)) -> #REF! | AA13: =IF(E13="Not Applicable","Not Applicable",Y13/V13) -> #REF!
B14: =CONCATENATE(#REF!,"-",#REF!,#REF!,"-",#REF!) -> #REF! | E14: =HLOOKUP(E$11,#REF!,4,FALSE) -> #REF! | G14: =HLOOKUP(G$11,#REF!,4,FALSE) -> #REF! | I14: =HLOOKUP(I$11,#REF!,4,FALSE) -> #REF! | K14: =HLOOKUP(K$11,#REF!,4,FALSE) -> #REF! | M14: =HLOOKUP(M$11,#REF!,4,FALSE) -> #REF! | P14: =IF(G14="Not Applicable","Not Applicable",IF($H$6="mA",$G$6*$S$6,E14*$S$6)) -> #REF! | Q14: =IF(G14="Not Applicable","Not Applicable",S14*R14) -> #REF! | R14: =R13 -> 0.917647 | S14: =IF(G14="Not Applicable","Not Applicable",G14*$P$6) -> #REF! | T14: =T13 -> 0.082353 | U14: =IF(G14="Not Applicable","Not Applicable",S14*(1+T14)) -> #REF! | V14: =IF(G14="Not Applicable","Not Applicable",P14/1000*S14) -> #REF! | W14: =IF(G14="Not Applicable","Not Applicable",P14/1000*U14) -> #REF! | X14: =IF(G14="Not Applicable","Not Applicable",ROUNDDOWN(Y14*X$11,0)) -> #REF! | Y14: =IF(G14="Not Applicable","Not Applicable",IF($H$6="mA",E14*$P$6*$S$6,$G$6*$P$6*$S$6)) -> #REF! | Z14: =IF(E14="Not Applicable","Not Applicable",ROUNDDOWN(X14/W14,0)) -> #REF! | AA14: =IF(E14="Not Applicable","Not Applicable",Y14/V14) -> #REF!
B15: =CONCATENATE(#REF!,"-",#REF!,#REF!,"-",#REF!) -> #REF! | E15: =HLOOKUP(E$11,#REF!,5,FALSE) -> #REF! | G15: =HLOOKUP(G$11,#REF!,5,FALSE) -> #REF! | I15: =HLOOKUP(I$11,#REF!,5,FALSE) -> #REF! | K15: =HLOOKUP(K$11,#REF!,5,FALSE) -> #REF! | M15: =HLOOKUP(M$11,#REF!,5,FALSE) -> #REF! | P15: =IF(G15="Not Applicable","Not Applicable",IF($H$6="mA",$G$6*$S$6,E15*$S$6)) -> #REF! | Q15: =IF(G15="Not Applicable","Not Applicable",S15*R15) -> #REF! | R15: =R14 -> 0.917647 | S15: =IF(G15="Not Applicable","Not Applicable",G15*$P$6) -> #REF! | T15: =T14 -> 0.082353 | U15: =IF(G15="Not Applicable","Not Applicable",S15*(1+T15)) -> #REF! | V15: =IF(G15="Not Applicable","Not Applicable",P15/1000*S15) -> #REF! | W15: =IF(G15="Not Applicable","Not Applicable",P15/1000*U15) -> #REF! | X15: =IF(G15="Not Applicable","Not Applicable",ROUNDDOWN(Y15*X$11,0)) -> #REF! | Y15: =IF(G15="Not Applicable","Not Applicable",IF($H$6="mA",E15*$P$6*$S$6,$G$6*$P$6*$S$6)) -> #REF! | Z15: =IF(E15="Not Applicable","Not Applicable",ROUNDDOWN(X15/W15,0)) -> #REF! | AA15: =IF(E15="Not Applicable","Not Applicable",Y15/V15) -> #REF!
A16: ★ | B16: =CONCATENATE(#REF!,"-",#REF!,#REF!,"-",#REF!) -> #REF! | E16: =HLOOKUP(E$11,#REF!,6,FALSE) -> #REF! | G16: =HLOOKUP(G$11,#REF!,6,FALSE) -> #REF! | I16: =HLOOKUP(I$11,#REF!,6,FALSE) -> #REF! | K16: =HLOOKUP(K$11,#REF!,6,FALSE) -> #REF! | M16: =HLOOKUP(M$11,#REF!,6,FALSE) -> #REF! | P16: =IF(G16="Not Applicable","Not Applicable",IF($H$6="mA",$G$6*$S$6,E16*$S$6)) -> #REF! | Q16: =IF(G16="Not Applicable","Not Applicable",S16*R16) -> #REF! | R16: =R15 -> 0.917647 | S16: =IF(G16="Not Applicable","Not Applicable",G16*$P$6) -> #REF! | T16: =T15 -> 0.082353 | U16: =IF(G16="Not Applicable","Not Applicable",S16*(1+T16)) -> #REF! | V16: =IF(G16="Not Applicable","Not Applicable",P16/1000*S16) -> #REF! | W16: =IF(G16="Not Applicable","Not Applicable",P16/1000*U16) -> #REF! | X16: =IF(G16="Not Applicable","Not Applicable",ROUNDDOWN(Y16*X$11,0)) -> #REF! | Y16: =IF(G16="Not Applicable","Not Applicable",IF($H$6="mA",E16*$P$6*$S$6,$G$6*$P$6*$S$6)) -> #REF! | Z16: =IF(E16="Not Applicable","Not Applicable",ROUNDDOWN(X16/W16,0)) -> #REF! | AA16: =IF(E16="Not Applicable","Not Applicable",Y16/V16) -> #REF!
B17: =CONCATENATE(#REF!,"-",#REF!,#REF!,"-",#REF!) -> #REF! | E17: =HLOOKUP(E$11,#REF!,7,FALSE) -> #REF! | G17: =HLOOKUP(G$11,#REF!,7,FALSE) -> #REF! | I17: =HLOOKUP(I$11,#REF!,7,FALSE) -> #REF! | K17: =HLOOKUP(K$11,#REF!,7,FALSE) -> #REF! | M17: =HLOOKUP(M$11,#REF!,7,FALSE) -> #REF! | P17: =IF(G17="Not Applicable","Not Applicable",IF($H$6="mA",$G$6*$S$6,E17*$S$6)) -> #REF! | Q17: =IF(G17="Not Applicable","Not Applicable",S17*R17) -> #REF! | R17: =R16 -> 0.917647 | S17: =IF(G17="Not Applicable","Not Applicable",G17*$P$6) -> #REF! | T17: =T16 -> 0.082353 | U17: =IF(G17="Not Applicable","Not Applicable",S17*(1+T17)) -> #REF! | V17: =IF(G17="Not Applicable","Not Applicable",P17/1000*S17) -> #REF! | W17: =IF(G17="Not Applicable","Not Applicable",P17/1000*U17) -> #REF! | X17: =IF(G17="Not Applicable","Not Applicable",ROUNDDOWN(Y17*X$11,0)) -> #REF! | Y17: =IF(G17="Not Applicable","Not Applicable",IF($H$6="mA",E17*$P$6*$S$6,$G$6*$P$6*$S$6)) -> #REF! | Z17: =IF(E17="Not Applicable","Not Applicable",ROUNDDOWN(X17/W17,0)) -> #REF! | AA17: =IF(E17="Not Applicable","Not Applicable",Y17/V17) -> #REF!
B18: =CONCATENATE(#REF!,"-",#REF!,#REF!,"-",#REF!) -> #REF! | E18: =HLOOKUP(E$11,#REF!,8,FALSE) -> #REF! | G18: =HLOOKUP(G$11,#REF!,8,FALSE) -> #REF! | I18: =HLOOKUP(I$11,#REF!,8,FALSE) -> #REF! | K18: =HLOOKUP(K$11,#REF!,8,FALSE) -> #REF! | M18: =HLOOKUP(M$11,#REF!,8,FALSE) -> #REF! | P18: =IF(G18="Not Applicable","Not Applicable",IF($H$6="mA",$G$6*$S$6,E18*$S$6)) -> #REF! | Q18: =IF(G18="Not Applicable","Not Applicable",S18*R18) -> #REF! | R18: =R17 -> 0.917647 | S18: =IF(G18="Not Applicable","Not Applicable",G18*$P$6) -> #REF! | T18: =T17 -> 0.082353 | U18: =IF(G18="Not Applicable","Not Applicable",S18*(1+T18)) -> #REF! | V18: =IF(G18="Not Applicable","Not Applicable",P18/1000*S18) -> #REF! | W18: =IF(G18="Not Applicable","Not Applicable",P18/1000*U18) -> #REF! | X18: =IF(G18="Not Applicable","Not Applicable",ROUNDDOWN(Y18*X$11,0)) -> #REF! | Y18: =IF(G18="Not Applicable","Not Applicable",IF($H$6="mA",E18*$P$6*$S$6,$G$6*$P$6*$S$6)) -> #REF! | Z18: =IF(E18="Not Applicable","Not Applicable",ROUNDDOWN(X18/W18,0)) -> #REF! | AA18: =IF(E18="Not Applicable","Not Applicable",Y18/V18) -> #REF!
B19: =CONCATENATE(#REF!,"-",#REF!,#REF!,"-",#REF!) -> #REF! | E19: =HLOOKUP(E$11,#REF!,9,FALSE) -> #REF! | G19: =HLOOKUP(G$11,#REF!,9,FALSE) -> #REF! | I19: =HLOOKUP(I$11,#REF!,9,FALSE) -> #REF! | K19: =HLOOKUP(K$11,#REF!,9,FALSE) -> #REF! | M19: =HLOOKUP(M$11,#REF!,9,FALSE) -> #REF! | P19: =IF(G19="Not Applicable","Not Applicable",IF($H$6="mA",$G$6*$S$6,E19*$S$6)) -> #REF! | Q19: =IF(G19="Not Applicable","Not Applicable",S19*R19) -> #REF! | R19: =R18 -> 0.917647 | S19: =IF(G19="Not Applicable","Not Applicable",G19*$P$6) -> #REF! | T19: =T18 -> 0.082353 | U19: =IF(G19="Not Applicable","Not Applicable",S19*(1+T19)) -> #REF! | V19: =IF(G19="Not Applicable","Not Applicable",P19/1000*S19) -> #REF! | W19: =IF(G19="Not Applicable","Not Applicable",P19/1000*U19) -> #REF! | X19: =IF(G19="Not Applicable","Not Applicable",ROUNDDOWN(Y19*X$11,0)) -> #REF! | Y19: =IF(G19="Not Applicable","Not Applicable",IF($H$6="mA",E19*$P$6*$S$6,$G$6*$P$6*$S$6)) -> #REF! | Z19: =IF(E19="Not Applicable","Not Applicable",ROUNDDOWN(X19/W19,0)) -> #REF! | AA19: =IF(E19="Not Applicable","Not Applicable",Y19/V19) -> #REF!
B20: =CONCATENATE(#REF!,"-",#REF!,#REF!,"-",#REF!) -> #REF! | E20: =HLOOKUP(E$11,#REF!,10,FALSE) -> #REF! | G20: =HLOOKUP(G$11,#REF!,10,FALSE) -> #REF! | I20: =HLOOKUP(I$11,#REF!,10,FALSE) -> #REF! | K20: =HLOOKUP(K$11,#REF!,10,FALSE) -> #REF! | M20: =HLOOKUP(M$11,#REF!,10,FALSE) -> #REF! | P20: =IF(G20="Not Applicable","Not Applicable",IF($H$6="mA",$G$6*$S$6,E20*$S$6)) -> #REF! | Q20: =IF(G20="Not Applicable","Not Applicable",S20*R20) -> #REF! | R20: =R19 -> 0.917647 | S20: =IF(G20="Not Applicable","Not Applicable",G20*$P$6) -> #REF! | T20: =T19 -> 0.082353 | U20: =IF(G20="Not Applicable","Not Applicable",S20*(1+T20)) -> #REF! | V20: =IF(G20="Not Applicable","Not Applicable",P20/1000*S20) -> #REF! | W20: =IF(G20="Not Applicable","Not Applicable",P20/1000*U20) -> #REF! | X20: =IF(G20="Not Applicable","Not Applicable",ROUNDDOWN(Y20*X$11,0)) -> #REF! | Y20: =IF(G20="Not Applicable","Not Applicable",IF($H$6="mA",E20*$P$6*$S$6,$G$6*$P$6*$S$6)) -> #REF! | Z20: =IF(E20="Not Applicable","Not Applicable",ROUNDDOWN(X20/W20,0)) -> #REF! | AA20: =IF(E20="Not Applicable","Not Applicable",Y20/V20) -> #REF!
B21: =CONCATENATE(#REF!,"-",#REF!,#REF!,"-",#REF!) -> #REF! | E21: =HLOOKUP(E$11,#REF!,11,FALSE) -> #REF! | G21: =HLOOKUP(G$11,#REF!,11,FALSE) -> #REF! | I21: =HLOOKUP(I$11,#REF!,11,FALSE) -> #REF! | K21: =HLOOKUP(K$11,#REF!,11,FALSE) -> #REF! | M21: =HLOOKUP(M$11,#REF!,11,FALSE) -> #REF! | P21: =IF(G21="Not Applicable","Not Applicable",IF($H$6="mA",$G$6*$S$6,E21*$S$6)) -> #REF! | Q21: =IF(G21="Not Applicable","Not Applicable",S21*R21) -> #REF! | R21: =R20 -> 0.917647 | S21: =IF(G21="Not Applicable","Not Applicable",G21*$P$6) -> #REF! | T21: =T20 -> 0.082353 | U21: =IF(G21="Not Applicable","Not Applicable",S21*(1+T21)) -> #REF! | V21: =IF(G21="Not Applicable","Not Applicable",P21/1000*S21) -> #REF! | W21: =IF(G21="Not Applicable","Not Applicable",P21/1000*U21) -> #REF! | X21: =IF(G21="Not Applicable","Not Applicable",ROUNDDOWN(Y21*X$11,0)) -> #REF! | Y21: =IF(G21="Not Applicable","Not Applicable",IF($H$6="mA",E21*$P$6*$S$6,$G$6*$P$6*$S$6)) -> #REF! | Z21: =IF(E21="Not Applicable","Not Applicable",ROUNDDOWN(X21/W21,0)) -> #REF! | AA21: =IF(E21="Not Applicable","Not Applicable",Y21/V21) -> #REF!
B22: =CONCATENATE(#REF!,"-",#REF!,#REF!,"-",#REF!) -> #REF! | E22: =HLOOKUP(E$11,#REF!,12,FALSE) -> #REF! | G22: =HLOOKUP(G$11,#REF!,12,FALSE) -> #REF! | I22: =HLOOKUP(I$11,#REF!,12,FALSE) -> #REF! | K22: =HLOOKUP(K$11,#REF!,12,FALSE) -> #REF! | M22: =HLOOKUP(M$11,#REF!,12,FALSE) -> #REF! | P22: =IF(G22="Not Applicable","Not Applicable",IF($H$6="mA",$G$6*$S$6,E22*$S$6)) -> #REF! | Q22: =IF(G22="Not Applicable","Not Applicable",S22*R22) -> #REF! | R22: =R21 -> 0.917647 | S22: =IF(G22="Not Applicable","Not Applicable",G22*$P$6) -> #REF! | T22: =T21 -> 0.082353 | U22: =IF(G22="Not Applicable","Not Applicable",S22*(1+T22)) -> #REF! | V22: =IF(G22="Not Applicable","Not Applicable",P22/1000*S22) -> #REF! | W22: =IF(G22="Not Applicable","Not Applicable",P22/1000*U22) -> #REF! | X22: =IF(G22="Not Applicable","Not Applicable",ROUNDDOWN(Y22*X$11,0)) -> #REF! | Y22: =IF(G22="Not Applicable","Not Applicable",IF($H$6="mA",E22*$P$6*$S$6,$G$6*$P$6*$S$6)) -> #REF! | Z22: =IF(E22="Not Applicable","Not Applicable",ROUNDDOWN(X22/W22,0)) -> #REF! | AA22: =IF(E22="Not Applicable","Not Applicable",Y22/V22) -> #REF!
B23: =CONCATENATE(#REF!,"-",#REF!,#REF!,"-",#REF!) -> #REF! | E23: =HLOOKUP(E$11,#REF!,13,FALSE) -> #REF! | G23: =HLOOKUP(G$11,#REF!,13,FALSE) -> #REF! | I23: =HLOOKUP(I$11,#REF!,13,FALSE) -> #REF! | K23: =HLOOKUP(K$11,#REF!,13,FALSE) -> #REF! | M23: =HLOOKUP(M$11,#REF!,13,FALSE) -> #REF! | P23: =IF(G23="Not Applicable","Not Applicable",IF($H$6="mA",$G$6*$S$6,E23*$S$6)) -> #REF! | Q23: =IF(G23="Not Applicable","Not Applicable",S23*R23) -> #REF! | R23: =R22 -> 0.917647 | S23: =IF(G23="Not Applicable","Not Applicable",G23*$P$6) -> #REF! | T23: =T22 -> 0.082353 | U23: =IF(G23="Not Applicable","Not Applicable",S23*(1+T23)) -> #REF! | V23: =IF(G23="Not Applicable","Not Applicable",P23/1000*S23) -> #REF! | W23: =IF(G23="Not Applicable","Not Applicable",P23/1000*U23) -> #REF! | X23: =IF(G23="Not Applicable","Not Applicable",ROUNDDOWN(Y23*X$11,0)) -> #REF! | Y23: =IF(G23="Not Applicable","Not Applicable",IF($H$6="mA",E23*$P$6*$S$6,$G$6*$P$6*$S$6)) -> #REF! | Z23: =IF(E23="Not Applicable","Not Applicable",ROUNDDOWN(X23/W23,0)) -> #REF! | AA23: =IF(E23="Not Applicable","Not Applicable",Y23/V23) -> #REF!
B24: =CONCATENATE(#REF!,"-",#REF!,#REF!,"-",#REF!) -> #REF! | E24: =HLOOKUP(E$11,#REF!,14,FALSE) -> #REF! | G24: =HLOOKUP(G$11,#REF!,14,FALSE) -> #REF! | I24: =HLOOKUP(I$11,#REF!,14,FALSE) -> #REF! | K24: =HLOOKUP(K$11,#REF!,14,FALSE) -> #REF! | M24: =HLOOKUP(M$11,#REF!,14,FALSE) -> #REF! | P24: =IF(G24="Not Applicable","Not Applicable",IF($H$6="mA",$G$6*$S$6,E24*$S$6)) -> #REF! | Q24: =IF(G24="Not Applicable","Not Applicable",S24*R24) -> #REF! | R24: 0.919765 | S24: =IF(G24="Not Applicable","Not Applicable",G24*$P$6) -> #REF! | T24: 0.080235 | U24: =IF(G24="Not Applicable","Not Applicable",S24*(1+T24)) -> #REF! | V24: =IF(G24="Not Applicable","Not Applicable",P24/1000*S24) -> #REF! | W24: =IF(G24="Not Applicable","Not Applicable",P24/1000*U24) -> #REF! | X24: =IF(G24="Not Applicable","Not Applicable",ROUNDDOWN(Y24*X$11,0)) -> #REF! | Y24: =IF(G24="Not Applicable","Not Applicable",IF($H$6="mA",E24*$P$6*$S$6,$G$6*$P$6*$S$6)) -> #REF! | Z24: =IF(E24="Not Applicable","Not Applicable",ROUNDDOWN(X24/W24,0)) -> #REF! | AA24: =IF(E24="Not Applicable","Not Applicable",Y24/V24) -> #REF!
B25: =CONCATENATE(#REF!,"-",#REF!,#REF!,"-",#REF!) -> #REF! | E25: =HLOOKUP(E$11,#REF!,15,FALSE) -> #REF! | G25: =HLOOKUP(G$11,#REF!,15,FALSE) -> #REF! | I25: =HLOOKUP(I$11,#REF!,15,FALSE) -> #REF! | K25: =HLOOKUP(K$11,#REF!,15,FALSE) -> #REF! | M25: =HLOOKUP(M$11,#REF!,15,FALSE) -> #REF! | P25: =IF(G25="Not Applicable","Not Applicable",IF($H$6="mA",$G$6*$S$6,E25*$S$6)) -> #REF! | Q25: =IF(G25="Not Applicable","Not Applicable",S25*R25) -> #REF! | R25: =R24 -> 0.919765 | S25: =IF(G25="Not Applicable","Not Applicable",G25*$P$6) -> #REF! | T25: =T24 -> 0.080235 | U25: =IF(G25="Not Applicable","Not Applicable",S25*(1+T25)) -> #REF! | V25: =IF(G25="Not Applicable","Not Applicable",P25/1000*S25) -> #REF! | W25: =IF(G25="Not Applicable","Not Applicable",P25/1000*U25) -> #REF! | X25: =IF(G25="Not Applicable","Not Applicable",ROUNDDOWN(Y25*X$11,0)) -> #REF! | Y25: =IF(G25="Not Applicable","Not Applicable",IF($H$6="mA",E25*$P$6*$S$6,$G$6*$P$6*$S$6)) -> #REF! | Z25: =IF(E25="Not Applicable","Not Applicable",ROUNDDOWN(X25/W25,0)) -> #REF! | AA25: =IF(E25="Not Applicable","Not Applicable",Y25/V25) -> #REF!
B26: =CONCATENATE(#REF!,"-",#REF!,#REF!,"-",#REF!) -> #REF! | E26: =HLOOKUP(E$11,#REF!,16,FALSE) -> #REF! | G26: =HLOOKUP(G$11,#REF!,16,FALSE) -> #REF! | I26: =HLOOKUP(I$11,#REF!,16,FALSE) -> #REF! | K26: =HLOOKUP(K$11,#REF!,16,FALSE) -> #REF! | M26: =HLOOKUP(M$11,#REF!,16,FALSE) -> #REF! | P26: =IF(G26="Not Applicable","Not Applicable",IF($H$6="mA",$G$6*$S$6,E26*$S$6)) -> #REF! | Q26: =IF(G26="Not Applicable","Not Applicable",S26*R26) -> #REF! | R26: =R25 -> 0.919765 | S26: =IF(G26="Not Applicable","Not Applicable",G26*$P$6) -> #REF! | T26: =T25 -> 0.080235 | U26: =IF(G26="Not Applicable","Not Applicable",S26*(1+T26)) -> #REF! | V26: =IF(G26="Not Applicable","Not Applicable",P26/1000*S26) -> #REF! | W26: =IF(G26="Not Applicable","Not Applicable",P26/1000*U26) -> #REF! | X26: =IF(G26="Not Applicable","Not Applicable",ROUNDDOWN(Y26*X$11,0)) -> #REF! | Y26: =IF(G26="Not Applicable","Not Applicable",IF($H$6="mA",E26*$P$6*$S$6,$G$6*$P$6*$S$6)) -> #REF! | Z26: =IF(E26="Not Applicable","Not Applicable",ROUNDDOWN(X26/W26,0)) -> #REF! | AA26: =IF(E26="Not Applicable","Not Applicable",Y26/V26) -> #REF!
B27: =CONCATENATE(#REF!,"-",#REF!,#REF!,"-",#REF!) -> #REF! | E27: =HLOOKUP(E$11,#REF!,17,FALSE) -> #REF! | G27: =HLOOKUP(G$11,#REF!,17,FALSE) -> #REF! | I27: =HLOOKUP(I$11,#REF!,17,FALSE) -> #REF! | K27: =HLOOKUP(K$11,#REF!,17,FALSE) -> #REF! | M27: =HLOOKUP(M$11,#REF!,17,FALSE) -> #REF! | P27: =IF(G27="Not Applicable","Not Applicable",IF($H$6="mA",$G$6*$S$6,E27*$S$6)) -> #REF! | Q27: =IF(G27="Not Applicable","Not Applicable",S27*R27) -> #REF! | R27: 0.9196866 | S27: =IF(G27="Not Applicable","Not Applicable",G27*$P$6) -> #REF! | T27: 0.0803134 | U27: =IF(G27="Not Applicable","Not Applicable",S27*(1+T27)) -> #REF! | V27: =IF(G27="Not Applicable","Not Applicable",P27/1000*S27) -> #REF! | W27: =IF(G27="Not Applicable","Not Applicable",P27/1000*U27) -> #REF! | X27: =IF(G27="Not Applicable","Not Applicable",ROUNDDOWN(Y27*X$11,0)) -> #REF! | Y27: =IF(G27="Not Applicable","Not Applicable",IF($H$6="mA",E27*$P$6*$S$6,$G$6*$P$6*$S$6)) -> #REF! | Z27: =IF(E27="Not Applicable","Not Applicable",ROUNDDOWN(X27/W27,0)) -> #REF! | AA27: =IF(E27="Not Applicable","Not Applicable",Y27/V27) -> #REF!
B29: Product code | E29: =VLOOKUP($E6,Calculation!A24:I25,3,FALSE) -> φv (lm) | G29: =VLOOKUP($E6,Calculation!A24:I25,4,FALSE) -> Vf (V) | I29: =VLOOKUP($E6,Calculation!A24:I25,7,FALSE) -> Pd (W) | K29: =VLOOKUP($E6,Calculation!A24:I25,8,FALSE) -> lm/W | M29: Tj (C)
B31: Code | E31: =CONCATENATE($E6,E29) -> 2φv (lm) | G31: =CONCATENATE($E6,G29) -> 2Vf (V) | I31: =CONCATENATE($E6,I29) -> 2Pd (W) | K31: =CONCATENATE($E6,K29) -> 2lm/W | M31: =CONCATENATE($E6,M29) -> 2Tj (C)
B32: =CONCATENATE(Calculation!B3,"-",Calculation!C3,Calculation!D3,Calculation!E3,"-",VLOOKUP($C$6,Calculation!$G$3:$I$21,3,FALSE)) -> CLU7B2-0701C4-403M2R1 | E32: =HLOOKUP(E$31,Calculation!$C$31:$P$49,2,FALSE) -> 450.85556 | G32: =HLOOKUP(G$31,Calculation!$C$31:$P$49,2,FALSE) -> 21.508662 | I32: =HLOOKUP(I$31,Calculation!$C$31:$P$49,2,FALSE) -> 3.2262993 | K32: =HLOOKUP(K$31,Calculation!$C$31:$P$49,2,FALSE) -> 139.74387 | M32: =HLOOKUP(M$31,Calculation!$C$31:$P$49,2,FALSE) -> 42.422016
B33: =CONCATENATE(Calculation!B4,"-",Calculation!C4,Calculation!D4,Calculation!E4,"-",VLOOKUP($C$6,Calculation!$G$3:$I$21,3,FALSE)) -> CLU7A2-0403C9-403M2R1 | E33: =HLOOKUP(E$31,Calculation!$C$31:$P$49,3,FALSE) -> 283.2827 | G33: =HLOOKUP(G$31,Calculation!$C$31:$P$49,3,FALSE) -> 11.117566 | I33: =HLOOKUP(I$31,Calculation!$C$31:$P$49,3,FALSE) -> 1.6676349 | K33: =HLOOKUP(K$31,Calculation!$C$31:$P$49,3,FALSE) -> 169.87093 | M33: =HLOOKUP(M$31,Calculation!$C$31:$P$49,3,FALSE) -> 30.002905
B34: =CONCATENATE(Calculation!B5,"-",Calculation!C5,Calculation!D5,Calculation!E5,"-",VLOOKUP($C$6,Calculation!$G$3:$I$21,3,FALSE)) -> CLU7A2-1201C9-403M2R1 | E34: =HLOOKUP(E$31,Calculation!$C$31:$P$49,4,FALSE) -> 777.40591 | G34: =HLOOKUP(G$31,Calculation!$C$31:$P$49,4,FALSE) -> 35.917919 | I34: =HLOOKUP(I$31,Calculation!$C$31:$P$49,4,FALSE) -> 5.3876878 | K34: =HLOOKUP(K$31,Calculation!$C$31:$P$49,4,FALSE) -> 144.29305 | M34: =HLOOKUP(M$31,Calculation!$C$31:$P$49,4,FALSE) -> 41.163063
B35: =CONCATENATE(Calculation!B6,"-",Calculation!C6,Calculation!D6,Calculation!E6,"-",VLOOKUP($C$6,Calculation!$G$3:$I$21,3,FALSE)) -> CLU702-1202C9-403M2R1 | E35: =HLOOKUP(E$31,Calculation!$C$31:$P$49,5,FALSE) -> 838.94003 | G35: =HLOOKUP(G$31,Calculation!$C$31:$P$49,5,FALSE) -> 34.008958 | I35: =HLOOKUP(I$31,Calculation!$C$31:$P$49,5,FALSE) -> 5.1013437 | K35: =HLOOKUP(K$31,Calculation!$C$31:$P$49,5,FALSE) -> 164.45472 | M35: =HLOOKUP(M$31,Calculation!$C$31:$P$49,5,FALSE) -> 33.16215
B36: =CONCATENATE(Calculation!B7,"-",Calculation!C7,Calculation!D7,Calculation!E7,"-",VLOOKUP($C$6,Calculation!$G$3:$I$21,3,FALSE)) -> CLU712-1204C9-403M2R1 | E36: =HLOOKUP(E$31,Calculation!$C$31:$P$49,6,FALSE) -> 876.47948 | G36: =HLOOKUP(G$31,Calculation!$C$31:$P$49,6,FALSE) -> 32.930905 | I36: =HLOOKUP(I$31,Calculation!$C$31:$P$49,6,FALSE) -> 4.9396358 | K36: =HLOOKUP(K$31,Calculation!$C$31:$P$49,6,FALSE) -> 177.43808 | M36: =HLOOKUP(M$31,Calculation!$C$31:$P$49,6,FALSE) -> 29.495069
C37: CITILED is a registered trademark of CITIZEN ELECTRONICS CO., LTD. Japan. | N37: Ver6.0
B39: This selection tool is the reference material for selecting suitable products.
B40: When electing to use a product, please be sure to request a delivery and specifications manual and check the contents.
B41: CITIZEN ELECTRONICS CO., LTD. shall not be liable for any disadvantages or damages, which your company may receive, resulting from the use of selection tool.
B42: Product names and specifications in this selection tool are subject to change without notice for the purpose of improvement, or manufacturing may be discontinued.

Sheet Calculation
B1: ①機種情報
B2: Product | C2: Series | D2: Parallel | E2: chip | G2: No. | H2: CCT&Ra | I2: Color code & Phosphor
B3: CLU7B2 | C3: 07 | D3: 01 | E3: C4 | G3: 1 | H3: 4000K,80Min | I3: 403M2R1
B4: CLU7A2 | C4: 04 | D4: 03 | E4: C9 | G4: 2 | H4: 3500K,80Min | I4: 353M2R1
B5: CLU7A2 | C5: 12 | D5: 01 | E5: C9 | G5: 3 | H5: 3000K,80Min | I5: 303M2R1
B6: CLU702 | C6: 12 | D6: 02 | E6: C9 | G6: 4 | H6: 2700K,80Min | I6: 273M2R1
B7: CLU712 | C7: 12 | D7: 04 | E7: C9 | G7: 5 | H7: 4000K,90Min On BBL | I7: 403H5R2
G8: 6 | H8: 3500K,90Min On BBL | I8: 353H5R2
G9: 7 | H9: 3000K,90Min On BBL | I9: 303H5R2
G10: 8 | H10: 2700K,90Min On BBL | I10: 273H5R2
G11: 9 | H11: 4000K,97Typ | I11: 403H7R4
G12: 10 | H12: 3500K,97Typ | I12: 353H7R4
G13: 11 | H13: 3000K,97Typ | I13: 303H7R4
G14: 12 | H14: 2700K,97Typ | I14: 273H7R4
A24: 1 | B24: Luminous flux | C24: If (mA) | D24: Vf (V) | E24: Vf_min (V) | F24: Vf_max (V) | G24: Pd (W) | H24: lm/W | I24: lm
A25: 2 | B25: Forward current | C25: φv (lm) | D25: Vf (V) | E25: Vf_min (V) | F25: Vf_max (V) | G25: Pd (W) | H25: lm/W | I25: mA
A26: 3 | C26: lm | D26: If | E26: Vf | F26: lm/W | G26: Vf | H26: lm/W | I26: W
C29: [Luminous flux] | J29: [Forward current]
C30: =C24 -> If (mA) | D30: =D24 -> Vf (V) | E30: =E24 -> Vf_min (V) | F30: =F24 -> Vf_max (V) | G30: =G24 -> Pd (W) | H30: =H24 -> lm/W | I30: =Selector!M9 -> Tj (C) | J30: =C25 -> φv (lm) | K30: =D25 -> Vf (V) | L30: =E25 -> Vf_min (V) | M30: =F25 -> Vf_max (V) | N30: =G25 -> Pd (W) | O30: =H25 -> lm/W | P30: =Selector!M9 -> Tj (C)
C31: =CONCATENATE($A24,C24) -> 1If (mA) | D31: =CONCATENATE($A24,D24) -> 1Vf (V) | E31: =CONCATENATE($A24,E24) -> 1Vf_min (V) | F31: =CONCATENATE($A24,F24) -> 1Vf_max (V) | G31: =CONCATENATE($A24,G24) -> 1Pd (W) | H31: =CONCATENATE($A24,H24) -> 1lm/W | I31: =CONCATENATE($A24,I30) -> 1Tj (C) | J31: =CONCATENATE($A25,C25) -> 2φv (lm) | K31: =CONCATENATE($A25,D25) -> 2Vf (V) | L31: =CONCATENATE($A25,E25) -> 2Vf_min (V) | M31: =CONCATENATE($A25,F25) -> 2Vf_max (V) | N31: =CONCATENATE($A25,G25) -> 2Pd (W) | O31: =CONCATENATE($A25,H25) -> 2lm/W | P31: =CONCATENATE($A25,P30) -> 2Tj (C)
B32: =B3 -> CLU7B2 | C32: =IF(Calculation!U121,Calculation!N98,"Not Applicable") -> 45.003033 | D32: =IF(Calculation!U121,Calculation!R98,"Not Applicable") -> 19.34509 | E32: =IF(Calculation!U121,Calculation!P98,"Not Applicable") -> 17.797483 | F32: =IF(Calculation!U121,Calculation!Q98,"Not Applicable") -> 20.892697 | G32: =IF(Calculation!U121,Calculation!S98,"Not Applicable") -> 0.87058773 | H32: =IF(Calculation!U121,Calculation!U98,"Not Applicable") -> 172.2974 | I32: =IF(Calculation!W121,Calculation!X98,"Not Applicable") -> 29.701174 | J32: =IF(Calculation!U167,Calculation!N144,"Not Applicable") -> 450.85556 | K32: =IF(Calculation!U167,Calculation!R144,"Not Applicable") -> 21.508662 | L32: =IF(Calculation!U167,Calculation!P144,"Not Applicable") -> 19.787969 | M32: =IF(Calculation!U167,Calculation!Q144,"Not Applicable") -> 23.229355 | N32: =IF(Calculation!U167,Calculation!S144,"Not Applicable") -> 3.2262993 | O32: =IF(Calculation!U167,Calculation!U144,"Not Applicable") -> 139.74387 | P32: =IF(Calculation!W167,Calculation!X144,"Not Applicable") -> 42.422016
B33: =B4 -> CLU7A2 | C33: =IF(Calculation!U122,Calculation!N99,"Not Applicable") -> 76.867859 | D33: =IF(Calculation!U122,Calculation!R99,"Not Applicable") -> 10.888543 | E33: =IF(Calculation!U122,Calculation!P99,"Not Applicable") -> 10.01746 | F33: =IF(Calculation!U122,Calculation!Q99,"Not Applicable") -> 11.759626 | G33: =IF(Calculation!U122,Calculation!S99,"Not Applicable") -> 0.83697899 | H33: =IF(Calculation!U122,Calculation!U99,"Not Applicable") -> 179.21597 | I33: =IF(Calculation!W122,Calculation!X99,"Not Applicable") -> 27.510937 | J33: =IF(Calculation!U168,Calculation!N145,"Not Applicable") -> 283.2827 | K33: =IF(Calculation!U168,Calculation!R145,"Not Applicable") -> 11.117566 | L33: =IF(Calculation!U168,Calculation!P145,"Not Applicable") -> 10.228161 | M33: =IF(Calculation!U168,Calculation!Q145,"Not Applicable") -> 12.006971 | N33: =IF(Calculation!U168,Calculation!S145,"Not Applicable") -> 1.6676349 | O33: =IF(Calculation!U168,Calculation!U145,"Not Applicable") -> 169.87093 | P33: =IF(Calculation!W168,Calculation!X145,"Not Applicable") -> 30.002905
B34: =B5 -> CLU7A2 | C34: =IF(Calculation!U123,Calculation!N100,"Not Applicable") -> 25.62262 | D34: =IF(Calculation!U123,Calculation!R100,"Not Applicable") -> 32.665629 | E34: =IF(Calculation!U123,Calculation!P100,"Not Applicable") -> 30.052379 | F34: =IF(Calculation!U123,Calculation!Q100,"Not Applicable") -> 35.278879 | G34: =IF(Calculation!U123,Calculation!S100,"Not Applicable") -> 0.83697899 | H34: =IF(Calculation!U123,Calculation!U100,"Not Applicable") -> 179.21597 | I34: =IF(Calculation!W123,Calculation!X100,"Not Applicable") -> 27.510937 | J34: =IF(Calculation!U169,Calculation!N146,"Not Applicable") -> 777.40591 | K34: =IF(Calculation!U169,Calculation!R146,"Not Applicable") -> 35.917919 | L34: =IF(Calculation!U169,Calculation!P146,"Not Applicable") -> 33.044485 | M34: =IF(Calculation!U169,Calculation!Q146,"Not Applicable") -> 38.791352 | N34: =IF(Calculation!U169,Calculation!S146,"Not Applicable") -> 5.3876878 | O34: =IF(Calculation!U169,Calculation!U146,"Not Applicable") -> 144.29305 | P34: =IF(Calculation!W169,Calculation!X146,"Not Applicable") -> 41.163063
B35: =B6 -> CLU702 | C35: =IF(Calculation!U124,Calculation!N101,"Not Applicable") -> 23.958891 | D35: =IF(Calculation!U124,Calculation!R101,"Not Applicable") -> 32.248516 | E35: =IF(Calculation!U124,Calculation!P101,"Not Applicable") -> 29.668635 | F35: =IF(Calculation!U124,Calculation!Q101,"Not Applicable") -> 34.828397 | G35: =IF(Calculation!U124,Calculation!S101,"Not Applicable") -> 0.77263868 | H35: =IF(Calculation!U124,Calculation!U101,"Not Applicable") -> 194.13991 | I35: =IF(Calculation!W124,Calculation!X101,"Not Applicable") -> 26.236222 | J35: =IF(Calculation!U170,Calculation!N147,"Not Applicable") -> 838.94003 | K35: =IF(Calculation!U170,Calculation!R147,"Not Applicable") -> 34.008958 | L35: =IF(Calculation!U170,Calculation!P147,"Not Applicable") -> 31.288241 | M35: =IF(Calculation!U170,Calculation!Q147,"Not Applicable") -> 36.729675 | N35: =IF(Calculation!U170,Calculation!S147,"Not Applicable") -> 5.1013437 | O35: =IF(Calculation!U170,Calculation!U147,"Not Applicable") -> 164.45472 | P35: =IF(Calculation!W170,Calculation!X147,"Not Applicable") -> 33.16215
B36: =B7 -> CLU712 | C36: =IF(Calculation!U125,Calculation!N102,"Not Applicable") -> 21.240752 | D36: =IF(Calculation!U125,Calculation!R102,"Not Applicable") -> 32.004178 | E36: =IF(Calculation!U125,Calculation!P102,"Not Applicable") -> 29.443844 | F36: =IF(Calculation!U125,Calculation!Q102,"Not Applicable") -> 34.564512 | G36: =IF(Calculation!U125,Calculation!S102,"Not Applicable") -> 0.6797928 | H36: =IF(Calculation!U125,Calculation!U102,"Not Applicable") -> 220.65547 | I36: =IF(Calculation!W125,Calculation!X102,"Not Applicable") -> 25.618611 | J36: =IF(Calculation!U171,Calculation!N148,"Not Applicable") -> 876.47948 | K36: =IF(Calculation!U171,Calculation!R148,"Not Applicable") -> 32.930905 | L36: =IF(Calculation!U171,Calculation!P148,"Not Applicable") -> 30.296433 | M36: =IF(Calculation!U171,Calculation!Q148,"Not Applicable") -> 35.565377 | N36: =IF(Calculation!U171,Calculation!S148,"Not Applicable") -> 4.9396358 | O36: =IF(Calculation!U171,Calculation!U148,"Not Applicable") -> 177.43808 | P36: =IF(Calculation!W171,Calculation!X148,"Not Applicable") -> 29.495069
B37: =B8 -> 0 | C37: =IF(Calculation!U126,Calculation!N103,"Not Applicable") -> Not Applicable | D37: =IF(Calculation!U126,Calculation!R103,"Not Applicable") -> Not Applicable | E37: =IF(Calculation!U126,Calculation!P103,"Not Applicable") -> Not Applicable | F37: =IF(Calculation!U126,Calculation!Q103,"Not Applicable") -> Not Applicable | G37: =IF(Calculation!U126,Calculation!S103,"Not Applicable") -> Not Applicable | H37: =IF(Calculation!U126,Calculation!U103,"Not Applicable") -> Not Applicable | I37: =IF(Calculation!W126,Calculation!X103,"Not Applicable") -> Not Applicable | J37: =IF(Calculation!U172,Calculation!N149,"Not Applicable") -> #VALUE! | K37: =IF(Calculation!U172,Calculation!R149,"Not Applicable") -> #VALUE! | L37: =IF(Calculation!U172,Calculation!P149,"Not Applicable") -> #VALUE! | M37: =IF(Calculation!U172,Calculation!Q149,"Not Applicable") -> #VALUE! | N37: =IF(Calculation!U172,Calculation!S149,"Not Applicable") -> #VALUE! | O37: =IF(Calculation!U172,Calculation!U149,"Not Applicable") -> #VALUE! | P37: =IF(Calculation!W172,Calculation!X149,"Not Applicable") -> #VALUE!
B38: =B9 -> 0 | C38: =IF(Calculation!U127,Calculation!N104,"Not Applicable") -> Not Applicable | D38: =IF(Calculation!U127,Calculation!R104,"Not Applicable") -> Not Applicable | E38: =IF(Calculation!U127,Calculation!P104,"Not Applicable") -> Not Applicable | F38: =IF(Calculation!U127,Calculation!Q104,"Not Applicable") -> Not Applicable | G38: =IF(Calculation!U127,Calculation!S104,"Not Applicable") -> Not Applicable | H38: =IF(Calculation!U127,Calculation!U104,"Not Applicable") -> Not Applicable | I38: =IF(Calculation!W127,Calculation!X104,"Not Applicable") -> Not Applicable | J38: =IF(Calculation!U173,Calculation!N150,"Not Applicable") -> #VALUE! | K38: =IF(Calculation!U173,Calculation!R150,"Not Applicable") -> #VALUE! | L38: =IF(Calculation!U173,Calculation!P150,"Not Applicable") -> #VALUE! | M38: =IF(Calculation!U173,Calculation!Q150,"Not Applicable") -> #VALUE! | N38: =IF(Calculation!U173,Calculation!S150,"Not Applicable") -> #VALUE! | O38: =IF(Calculation!U173,Calculation!U150,"Not Applicable") -> #VALUE! | P38: =IF(Calculation!W173,Calculation!X150,"Not Applicable") -> #VALUE!
B39: =B10 -> 0 | C39: =IF(Calculation!U128,Calculation!N105,"Not Applicable") -> Not Applicable | D39: =IF(Calculation!U128,Calculation!R105,"Not Applicable") -> Not Applicable | E39: =IF(Calculation!U128,Calculation!P105,"Not Applicable") -> Not Applicable | F39: =IF(Calculation!U128,Calculation!Q105,"Not Applicable") -> Not Applicable | G39: =IF(Calculation!U128,Calculation!S105,"Not Applicable") -> Not Applicable | H39: =IF(Calculation!U128,Calculation!U105,"Not Applicable") -> Not Applicable | I39: =IF(Calculation!W128,Calculation!X105,"Not Applicable") -> Not Applicable | J39: =IF(Calculation!U174,Calculation!N151,"Not Applicable") -> #VALUE! | K39: =IF(Calculation!U174,Calculation!R151,"Not Applicable") -> #VALUE! | L39: =IF(Calculation!U174,Calculation!P151,"Not Applicable") -> #VALUE! | M39: =IF(Calculation!U174,Calculation!Q151,"Not Applicable") -> #VALUE! | N39: =IF(Calculation!U174,Calculation!S151,"Not Applicable") -> #VALUE! | O39: =IF(Calculation!U174,Calculation!U151,"Not Applicable") -> #VALUE! | P39: =IF(Calculation!W174,Calculation!X151,"Not Applicable") -> #VALUE!
B40: =B11 -> 0 | C40: =IF(Calculation!U129,Calculation!N106,"Not Applicable") -> Not Applicable | D40: =IF(Calculation!U129,Calculation!R106,"Not Applicable") -> Not Applicable | E40: =IF(Calculation!U129,Calculation!P106,"Not Applicable") -> Not Applicable | F40: =IF(Calculation!U129,Calculation!Q106,"Not Applicable") -> Not Applicable | G40: =IF(Calculation!U129,Calculation!S106,"Not Applicable") -> Not Applicable | H40: =IF(Calculation!U129,Calculation!U106,"Not Applicable") -> Not Applicable | I40: =IF(Calculation!W129,Calculation!X106,"Not Applicable") -> Not Applicable | J40: =IF(Calculation!U175,Calculation!N152,"Not Applicable") -> #VALUE! | K40: =IF(Calculation!U175,Calculation!R152,"Not Applicable") -> #VALUE! | L40: =IF(Calculation!U175,Calculation!P152,"Not Applicable") -> #VALUE! | M40: =IF(Calculation!U175,Calculation!Q152,"Not Applicable") -> #VALUE! | N40: =IF(Calculation!U175,Calculation!S152,"Not Applicable") -> #VALUE! | O40: =IF(Calculation!U175,Calculation!U152,"Not Applicable") -> #VALUE! | P40: =IF(Calculation!W175,Calculation!X152,"Not Applicable") -> #VALUE!
B41: =B12 -> 0 | C41: =IF(Calculation!U130,Calculation!N107,"Not Applicable") -> Not Applicable | D41: =IF(Calculation!U130,Calculation!R107,"Not Applicable") -> Not Applicable | E41: =IF(Calculation!U130,Calculation!P107,"Not Applicable") -> Not Applicable | F41: =IF(Calculation!U130,Calculation!Q107,"Not Applicable") -> Not Applicable | G41: =IF(Calculation!U130,Calculation!S107,"Not Applicable") -> Not Applicable | H41: =IF(Calculation!U130,Calculation!U107,"Not Applicable") -> Not Applicable | I41: =IF(Calculation!W130,Calculation!X107,"Not Applicable") -> Not Applicable | J41: =IF(Calculation!U176,Calculation!N153,"Not Applicable") -> #VALUE! | K41: =IF(Calculation!U176,Calculation!R153,"Not Applicable") -> #VALUE! | L41: =IF(Calculation!U176,Calculation!P153,"Not Applicable") -> #VALUE! | M41: =IF(Calculation!U176,Calculation!Q153,"Not Applicable") -> #VALUE! | N41: =IF(Calculation!U176,Calculation!S153,"Not Applicable") -> #VALUE! | O41: =IF(Calculation!U176,Calculation!U153,"Not Applicable") -> #VALUE! | P41: =IF(Calculation!W176,Calculation!X153,"Not Applicable") -> #VALUE!
B42: =B13 -> 0 | C42: =IF(Calculation!U131,Calculation!N108,"Not Applicable") -> Not Applicable | D42: =IF(Calculation!U131,Calculation!R108,"Not Applicable") -> Not Applicable | E42: =IF(Calculation!U131,Calculation!P108,"Not Applicable") -> Not Applicable | F42: =IF(Calculation!U131,Calculation!Q108,"Not Applicable") -> Not Applicable | G42: =IF(Calculation!U131,Calculation!S108,"Not Applicable") -> Not Applicable | H42: =IF(Calculation!U131,Calculation!U108,"Not Applicable") -> Not Applicable | I42: =IF(Calculation!W131,Calculation!X108,"Not Applicable") -> Not Applicable | J42: =IF(Calculation!U177,Calculation!N154,"Not Applicable") -> #VALUE! | K42: =IF(Calculation!U177,Calculation!R154,"Not Applicable") -> #VALUE! | L42: =IF(Calculation!U177,Calculation!P154,"Not Applicable") -> #VALUE! | M42: =IF(Calculation!U177,Calculation!Q154,"Not Applicable") -> #VALUE! | N42: =IF(Calculation!U177,Calculation!S154,"Not Applicable") -> #VALUE! | O42: =IF(Calculation!U177,Calculation!U154,"Not Applicable") -> #VALUE! | P42: =IF(Calculation!W177,Calculation!X154,"Not Applicable") -> #VALUE!
B43: =B14 -> 0 | C43: =IF(Calculation!U132,Calculation!N109,"Not Applicable") -> Not Applicable | D43: =IF(Calculation!U132,Calculation!R109,"Not Applicable") -> Not Applicable | E43: =IF(Calculation!U132,Calculation!P109,"Not Applicable") -> Not Applicable | F43: =IF(Calculation!U132,Calculation!Q109,"Not Applicable") -> Not Applicable | G43: =IF(Calculation!U132,Calculation!S109,"Not Applicable") -> Not Applicable | H43: =IF(Calculation!U132,Calculation!U109,"Not Applicable") -> Not Applicable | I43: =IF(Calculation!W132,Calculation!X109,"Not Applicable") -> Not Applicable | J43: =IF(Calculation!U178,Calculation!N155,"Not Applicable") -> #VALUE! | K43: =IF(Calculation!U178,Calculation!R155,"Not Applicable") -> #VALUE! | L43: =IF(Calculation!U178,Calculation!P155,"Not Applicable") -> #VALUE! | M43: =IF(Calculation!U178,Calculation!Q155,"Not Applicable") -> #VALUE! | N43: =IF(Calculation!U178,Calculation!S155,"Not Applicable") -> #VALUE! | O43: =IF(Calculation!U178,Calculation!U155,"Not Applicable") -> #VALUE! | P43: =IF(Calculation!W178,Calculation!X155,"Not Applicable") -> #VALUE!
... B49: =B20 -> 0 | C49: =IF(Calculation!U138,Calculation!N115,"Not Applicable") -> Not Applicable | D49: =IF(Calculation!U138,Calculation!R115,"Not Applicable") -> Not Applicable | E49: =IF(Calculation!U138,Calculation!P115,"Not Applicable") -> Not Applicable | F49: =IF(Calculation!U138,Calculation!Q115,"Not Applicable") -> Not Applicable | G49: =IF(Calculation!U138,Calculation!S115,"Not Applicable") -> Not Applicable | H49: =IF(Calculation!U138,Calculation!U115,"Not Applicable") -> Not Applicable | I49: =IF(Calculation!W138,Calculation!X115,"Not Applicable") -> Not Applicable | J49: =IF(Calculation!U184,Calculation!N161,"Not Applicable") -> #VALUE! | K49: =IF(Calculation!U184,Calculation!R161,"Not Applicable") -> #VALUE! | L49: =IF(Calculation!U184,Calculation!P161,"Not Applicable") -> #VALUE! | M49: =IF(Calculation!U184,Calculation!Q161,"Not Applicable") -> #VALUE! | N49: =IF(Calculation!U184,Calculation!S161,"Not Applicable") -> #VALUE! | O49: =IF(Calculation!U184,Calculation!U161,"Not Applicable") -> #VALUE! | P49: =IF(Calculation!W184,Calculation!X161,"Not Applicable") -> #VALUE!
B51: ②Limit | L51: ④全光束(Tj=85℃,定格駆動)
B52: IF Limit | C52: L/L | D52: U/L | K52: 175mA/die,Tj=85C | L52: 1 | M52: 2 | N52: 3 | O52: 4 | P52: 5 | Q52: 6 | R52: 7 | S52: 8 | T52: 9 | U52: 10 | V52: 11 | W52: 12 | X52: 13 | Y52: 14 | Z52: 15 | AA52: 16 | AB52: 17 | AC52: 18 | AD52: 19
C53: 5 | D53: 300 | J53: Tc=25C定格Lm係数 | L53: =VLOOKUP(L52,$G$3:$I$21,2,FALSE) -> 4000K,80Min | M53: =VLOOKUP(M52,$G$3:$I$21,2,FALSE) -> 3500K,80Min | N53: =VLOOKUP(N52,$G$3:$I$21,2,FALSE) -> 3000K,80Min | O53: =VLOOKUP(O52,$G$3:$I$21,2,FALSE) -> 2700K,80Min | P53: =VLOOKUP(P52,$G$3:$I$21,2,FALSE) -> 4000K,90Min On BBL | Q53: =VLOOKUP(Q52,$G$3:$I$21,2,FALSE) -> 3500K,90Min On BBL | R53: =VLOOKUP(R52,$G$3:$I$21,2,FALSE) -> 3000K,90Min On BBL | S53: =VLOOKUP(S52,$G$3:$I$21,2,FALSE) -> 2700K,90Min On BBL | ... AD53: =VLOOKUP(AD52,$G$3:$I$21,2,FALSE) -> #N/A
B54: Tc Limit | C54: U/L | D54: L/L | J54: =IF(B3="","",B3) -> CLU7B2 | K54: =Tcスペック算出!K11 -> 0.92688457 | L54: ='初期全光束(Tj=85℃)_0306更新'!F41 -> 477 | M54: ='初期全光束(Tj=85℃)_0306更新'!F50 -> 470 | N54: ='初期全光束(Tj=85℃)_0306更新'!F42 -> 451 | O54: ='初期全光束(Tj=85℃)_0306更新'!F43 -> 431 | P54: ='初期全光束(Tj=85℃)_0306更新'!F44 -> 416 | Q54: ='初期全光束(Tj=85℃)_0306更新'!F51 -> 407 | R54: ='初期全光束(Tj=85℃)_0306更新'!F45 -> 389 | S54: ='初期全光束(Tj=85℃)_0306更新'!F46 -> 368 | T54: ='初期全光束(Tj=85℃)_0306更新'!F47 -> 378 | U54: ='初期全光束(Tj=85℃)_0306更新'!F52 -> 372 | V54: ='初期全光束(Tj=85℃)_0306更新'!F48 -> 343 | W54: ='初期全光束(Tj=85℃)_0306更新'!F49 -> 326
C55: 105 | D55: -40 | J55: =IF(B4="","",B4) -> CLU7A2 | K55: =Tcスペック算出!K16 -> 0.92139306 | L55: ='初期全光束(Tj=85℃)_0306更新'!F76 -> 818 | M55: ='初期全光束(Tj=85℃)_0306更新'!F86 -> 799 | N55: ='初期全光束(Tj=85℃)_0306更新'!F77 -> 779 | O55: ='初期全光束(Tj=85℃)_0306更新'!F78 -> 745 | P55: ='初期全光束(Tj=85℃)_0306更新'!F79 -> 716 | Q55: ='初期全光束(Tj=85℃)_0306更新'!F85 -> 707 | R55: ='初期全光束(Tj=85℃)_0306更新'!F80 -> 660 | S55: ='初期全光束(Tj=85℃)_0306更新'!F81 -> 625 | T55: ='初期全光束(Tj=85℃)_0306更新'!F82 -> 660 | U55: ='初期全光束(Tj=85℃)_0306更新'!F87 -> 629 | V55: ='初期全光束(Tj=85℃)_0306更新'!F83 -> 586 | W55: ='初期全光束(Tj=85℃)_0306更新'!F84 -> 562
B56: Tj Limit | C56: U/L | D56: L/L | J56: =IF(B5="","",B5) -> CLU7A2 | K56: =Tcスペック算出!K12 -> 0.92139306 | L56: ='初期全光束(Tj=85℃)_0306更新'!F58 -> 818 | M56: ='初期全光束(Tj=85℃)_0306更新'!F86 -> 799 | N56: ='初期全光束(Tj=85℃)_0306更新'!F77 -> 779 | O56: ='初期全光束(Tj=85℃)_0306更新'!F78 -> 745 | P56: ='初期全光束(Tj=85℃)_0306更新'!F79 -> 716 | Q56: ='初期全光束(Tj=85℃)_0306更新'!F85 -> 707 | R56: ='初期全光束(Tj=85℃)_0306更新'!F80 -> 660 | S56: ='初期全光束(Tj=85℃)_0306更新'!F81 -> 625 | T56: ='初期全光束(Tj=85℃)_0306更新'!F82 -> 660 | U56: ='初期全光束(Tj=85℃)_0306更新'!F87 -> 629 | V56: ='初期全光束(Tj=85℃)_0306更新'!F83 -> 586 | W56: ='初期全光束(Tj=85℃)_0306更新'!F84 -> 562
C57: 140 | D57: -25 | J57: =IF(B6="","",B6) -> CLU702 | K57: =Tcスペック算出!K13 -> 0.92409344 | L57: ='初期全光束(Tj=85℃)_0306更新'!S41 -> 1658 | M57: ='初期全光束(Tj=85℃)_0306更新'!S42 -> 1627 | N57: ='初期全光束(Tj=85℃)_0306更新'!S43 -> 1576 | O57: ='初期全光束(Tj=85℃)_0306更新'!S44 -> 1502 | P57: ='初期全光束(Tj=85℃)_0306更新'!S45 -> 1424 | Q57: ='初期全光束(Tj=85℃)_0306更新'!S46 -> 1420 | R57: ='初期全光束(Tj=85℃)_0306更新'!S47 -> 1342 | S57: ='初期全光束(Tj=85℃)_0306更新'!S48 -> 1246 | T57: ='初期全光束(Tj=85℃)_0306更新'!S49 -> 1363 | U57: ='初期全光束(Tj=85℃)_0306更新'!S52 -> 1274 | V57: ='初期全光束(Tj=85℃)_0306更新'!S50 -> 1187 | W57: ='初期全光束(Tj=85℃)_0306更新'!S51 -> 1130
J58: =IF(B7="","",B7) -> CLU712 | K58: =Tcスペック算出!K14 -> 0.92996207 | L58: ='初期全光束(Tj=85℃)_0306更新'!S59 -> 3363 | M58: ='初期全光束(Tj=85℃)_0306更新'!S60 -> 3325 | N58: ='初期全光束(Tj=85℃)_0306更新'!S61 -> 3196 | O58: ='初期全光束(Tj=85℃)_0306更新'!S62 -> 3094 | P58: ='初期全光束(Tj=85℃)_0306更新'!S64 -> 2920 | Q58: ='初期全光束(Tj=85℃)_0306更新'!S65 -> 2879 | R58: ='初期全光束(Tj=85℃)_0306更新'!S66 -> 2728 | S58: ='初期全光束(Tj=85℃)_0306更新'!S67 -> 2560 | T58: ='初期全光束(Tj=85℃)_0306更新'!S69 -> 2696 | U58: ='初期全光束(Tj=85℃)_0306更新'!S72 -> 2545 | V58: ='初期全光束(Tj=85℃)_0306更新'!S70 -> 2446 | W58: ='初期全光束(Tj=85℃)_0306更新'!S71 -> 2319
J59: =IF(B8="","",B8)
J60: =IF(B9="","",B9)
J61: =IF(B10="","",B10)
J62: =IF(B11="","",B11)
B63: ③代表特性 | C63: y=ax3+bx2+cx+d/y=ax2+bx+c | J63: =IF(B12="","",B12)
C64: CLU7B2-0701C4 | J64: =IF(B13="","",B13)
C65: ='代表特性(C4)'!C3 -> IF(x)-lm%(y) | D65: ='代表特性(C4)'!D3 -> lm%(x)-IF(y) | E65: ='代表特性(C4)'!E3 -> IF(x)-VF%(y) | F65: ='代表特性(C4)'!F3 -> Tc(x)-lm%(y) | G65: ='代表特性(C4)'!G3 -> Tc(x)-VF%(y) | J65: =IF(B14="","",B14)
B66: a | C66: ='代表特性(C4)'!C4 -> 5.6231687e-09 | D66: ='代表特性(C4)'!D4 -> 1.0968818 | E66: ='代表特性(C4)'!E4 -> -1.5740769e-06 | F66: ='代表特性(C4)'!F4 -> -1.1152155e-08 | G66: ='代表特性(C4)'!G4 -> 2.7366883e-06 | J66: =IF(B15="","",B15)
B67: b | C67: ='代表特性(C4)'!C5 -> -6.8430471e-06 | D67: ='代表特性(C4)'!D5 -> 28.364492 | E67: ='代表特性(C4)'!E5 -> 0.0012473617 | F67: ='代表特性(C4)'!F5 -> -4.1294483e-06 | G67: ='代表特性(C4)'!G5 -> -0.00094613757 | J67: =IF(B16="","",B16)
B68: c | C68: ='代表特性(C4)'!C6 -> 0.0067343757 | D68: ='代表特性(C4)'!D6 -> 145.51791 | E68: ='代表特性(C4)'!E6 -> 0.82991781 | F68: ='代表特性(C4)'!F6 -> -0.0013906687 | G68: ='代表特性(C4)'!G6 -> 1.021943 | J68: =IF(B17="","",B17)
B69: d | C69: ='代表特性(C4)'!C7 -> 0.00091590531 | D69: ='代表特性(C4)'!D7 -> 0.1515608 | F69: ='代表特性(C4)'!F7 -> 1.0375219 | J69: =IF(B18="","",B18)
C70: CLU7A2-1201C9,CLU702-1202C9,CLU712-1204C9,CLU7A2-1001C9,CLU7A2-0403C9 | J70: =IF(B19="","",B19)
C71: ='代表特性(C9)'!C3 -> IF(x)-lm%(y) | D71: ='代表特性(C9)'!D3 -> lm%(x)-IF(y) | E71: ='代表特性(C9)'!E3 -> IF(x)-VF%(y) | F71: ='代表特性(C9)'!F3 -> Tc(x)-lm%(y) | G71: ='代表特性(C9)'!G3 -> Tc(x)-VF%(y) | J71: =IF(B20="","",B20)
B72: a | C72: ='代表特性(C9)'!C4 -> 2.482767e-09 | D72: ='代表特性(C9)'!D4 -> 10.281994 | E72: ='代表特性(C9)'!E4 -> -5.5791916e-07 | F72: ='代表特性(C9)'!F4 -> -1.8910606e-10 | G72: ='代表特性(C9)'!G4 -> 1.4835966e-06
B73: b | C73: ='代表特性(C9)'!C5 -> -5.6711192e-06 | D73: ='代表特性(C9)'!D5 -> 8.8473438 | E73: ='代表特性(C9)'!E5 -> 0.00081446875 | F73: ='代表特性(C9)'!F5 -> -6.5694857e-06 | G73: ='代表特性(C9)'!G5 -> -0.00072950695
B74: c | C74: ='代表特性(C9)'!C6 -> 0.0066193248 | D74: ='代表特性(C9)'!D6 -> 157.09249 | E74: ='代表特性(C9)'!E6 -> 0.87455424 | F74: ='代表特性(C9)'!F6 -> -0.0013017321 | G74: ='代表特性(C9)'!G6 -> 1.0173104 | L74: ⑤全光束(Tc=25℃,定格駆動)
B75: d | C75: ='代表特性(C9)'!C7 -> 0.0019901085 | D75: ='代表特性(C9)'!D7 -> -1.2218276 | F75: ='代表特性(C9)'!F7 -> 1.0366522 | L75: 1 | M75: 2 | N75: 3 | O75: 4 | P75: 5 | Q75: 6 | R75: 7 | S75: 8 | T75: 9 | U75: 10 | V75: 11 | W75: 12 | X75: 13 | Y75: 14 | Z75: 15 | AA75: 16 | AB75: 17 | AC75: 18 | AD75: 19
H76: Series | I76: Parallel | K76: VF | L76: =L53 -> 4000K,80Min | M76: =M53 -> 3500K,80Min | N76: =N53 -> 3000K,80Min | O76: =O53 -> 2700K,80Min | P76: =P53 -> 4000K,90Min On BBL | Q76: =Q53 -> 3500K,90Min On BBL | R76: =R53 -> 3000K,90Min On BBL | S76: =S53 -> 2700K,90Min On BBL | ... AD76: =AD53 -> #N/A
G77: =IF(H77="","",H77*I77) -> 7 | H77: =IF(C3="","",C3) -> 07 | I77: =IF(D3="","",D3) -> 01 | J77: =B3 -> CLU7B2 | K77: =Tcスペック算出!J11 -> 21.911721 | L77: =L54/$K54 -> 514.62719 | M77: =M54/$K54 -> 507.075 | N77: =N54/$K54 -> 486.57623 | O77: =O54/$K54 -> 464.99857 | P77: =P54/$K54 -> 448.81532 | Q77: =Q54/$K54 -> 439.10538 | R77: =R54/$K54 -> 419.68548 | S77: =S54/$K54 -> 397.02894 | ... W77: =W54/$K54 -> 351.71585
G78: =IF(H78="","",H78*I78) -> 12 | H78: =IF(C4="","",C4) -> 04 | I78: =IF(D4="","",D4) -> 03 | J78: =B4 -> CLU7A2 | K78: =Tcスペック算出!J16 -> 12.165198 | L78: =L55/$K55 -> 887.78615 | M78: =M55/$K55 -> 867.1652 | N78: =N55/$K55 -> 845.45894 | O78: =O55/$K55 -> 808.55829 | P78: =P55/$K55 -> 777.08421 | Q78: =Q55/$K55 -> 767.31639 | R78: =R55/$K55 -> 716.30668 | S78: =S55/$K55 -> 678.32072 | ... W78: =W55/$K55 -> 609.94599
G79: =IF(H79="","",H79*I79) -> 12 | H79: =IF(C5="","",C5) -> 12 | I79: =IF(D5="","",D5) -> 01 | J79: =B5 -> CLU7A2 | K79: =Tcスペック算出!J12 -> 36.495594 | L79: =L56/$K56 -> 887.78615 | M79: =M56/$K56 -> 867.1652 | N79: =N56/$K56 -> 845.45894 | O79: =O56/$K56 -> 808.55829 | P79: =P56/$K56 -> 777.08421 | Q79: =Q56/$K56 -> 767.31639 | R79: =R56/$K56 -> 716.30668 | S79: =S56/$K56 -> 678.32072 | ... W79: =W56/$K56 -> 609.94599
G80: =IF(H80="","",H80*I80) -> 24 | H80: =IF(C6="","",C6) -> 12 | I80: =IF(D6="","",D6) -> 02 | J80: =B6 -> CLU702 | K80: =Tcスペック算出!J13 -> 36.470689 | L80: =L57/$K57 -> 1794.1909 | M80: =M57/$K57 -> 1760.6445 | N80: =N57/$K57 -> 1705.4552 | O80: =O57/$K57 -> 1625.3768 | P80: =P57/$K57 -> 1540.9697 | Q80: =Q57/$K57 -> 1536.6411 | R80: =R57/$K57 -> 1452.2341 | S80: =S57/$K57 -> 1348.3485 | ... W80: =W57/$K57 -> 1222.8201
G81: =IF(H81="","",H81*I81) -> 48 | H81: =IF(C7="","",C7) -> 12 | I81: =IF(D7="","",D7) -> 04 | J81: =B7 -> CLU712 | K81: =Tcスペック算出!J14 -> 36.415414 | L81: =L58/$K58 -> 3616.2765 | M81: =M58/$K58 -> 3575.4146 | N81: =N58/$K58 -> 3436.6993 | O81: =O58/$K58 -> 3327.0174 | P81: =P58/$K58 -> 3139.913 | Q81: =Q58/$K58 -> 3095.8252 | R81: =R58/$K58 -> 2933.453 | S81: =S58/$K58 -> 2752.8004 | ... W81: =W58/$K58 -> 2493.6501
G82: =IF(H82="","",H82*I82) | H82: =IF(C8="","",C8) | I82: =IF(D8="","",D8)
G83: =IF(H83="","",H83*I83) | H83: =IF(C9="","",C9) | I83: =IF(D9="","",D9)
G84: =IF(H84="","",H84*I84) | H84: =IF(C10="","",C10) | I84: =IF(D10="","",D10)
G85: =IF(H85="","",H85*I85) | H85: =IF(C11="","",C11) | I85: =IF(D11="","",D11)
G86: =IF(H86="","",H86*I86) | H86: =IF(C12="","",C12) | I86: =IF(D12="","",D12)
G87: =IF(H87="","",H87*I87) | H87: =IF(C13="","",C13) | I87: =IF(D13="","",D13)
G88: =IF(H88="","",H88*I88) | H88: =IF(C14="","",C14) | I88: =IF(D14="","",D14)
G89: =IF(H89="","",H89*I89) | H89: =IF(C15="","",C15) | I89: =IF(D15="","",D15)
G90: =IF(H90="","",H90*I90) | H90: =IF(C16="","",C16) | I90: =IF(D16="","",D16)
G91: =IF(H91="","",H91*I91) | H91: =IF(C17="","",C17) | I91: =IF(D17="","",D17)
G92: =IF(H92="","",H92*I92) | H92: =IF(C18="","",C18) | I92: =IF(D18="","",D18)
G93: =IF(H93="","",H93*I93) | H93: =IF(C19="","",C19) | I93: =IF(D19="","",D19)
G94: =IF(H94="","",H94*I94) | H94: =IF(C20="","",C20) | I94: =IF(D20="","",D20)
P96: 0.92 | Q96: 1.08
E97: CLU7B2 | F97: CLU7A2,702,712 | H97: lm/die | K97: =HLOOKUP(Selector!$C$6,Calculation!L$75:AD$94,2,FALSE) -> 4000K,80Min | L97: lm% | M97: IF/die | N97: IF/PKG | O97: Vftyp | P97: Vfmin | Q97: Vfmax | R97: VF Tc-compensation | S97: W | U97: lm/W | V97: Rj-c | W97: ⊿T j-c | X97: Tj
D98: =CONCATENATE("lm(%,@",ROUNDDOWN(E100,0),"C)") -> lm(%,@25C) | E98: =F66*$E$100^3+F67*$E$100^2+F68*$E$100+F69 -> 1 | F98: =F72*$F$100^3+F73*$F$100^2+F74*$F$100+F75 -> 1 | H98: =K98/G77 -> 73.518169 | J98: =J77 -> CLU7B2 | K98: =HLOOKUP(Selector!$C$6,Calculation!L$75:AD$94,3,FALSE) -> 514.62719 | L98: =E$101/K98 -> 0.29147314 | M98: =D$66*$L98^3+D$67*$L98^2+D$68*$L98+D$69 -> 45.003033 | N98: =M98*I77 -> 45.003033 | O98: =(E$66*$M98^2+E$67*$M98+E$68)*K77 -> 19.34509 | P98: =O98*$P$96 -> 17.797483 | Q98: =O98*$Q$96 -> 20.892697 | R98: =(G$66*$E$100^2+G$67*$E$100+G$68)*O98 -> 19.34509 | S98: =N98*R98/1000 -> 0.87058773 | U98: =E$99/S98 -> 172.2974 | V98: =Tcスペック算出!G11 -> 5.4 | W98: =S98*V98 -> 4.7011737 | X98: =IFERROR(E$100+W98,FALSE) -> 29.701174
D99: lm | E99: =Selector!G6 -> 150 | F99: =Selector!G6 -> 150 | H99: =K99/G78 -> 73.982179 | J99: =J78 -> CLU7A2 | K99: =HLOOKUP(Selector!$C$6,Calculation!L$75:AD$94,4,FALSE) -> 887.78615 | L99: =E$101/K99 -> 0.16895961 | M99: =D$72*$L99^3+D$73*$L99^2+D$74*$L99+D$75 -> 25.62262 | N99: =M99*I78 -> 76.867859 | O99: =(E$72*$M99^2+E$73*$M99+E$74)*K78 -> 10.888543 | P99: =O99*$P$96 -> 10.01746 | Q99: =O99*$Q$96 -> 11.759626 | R99: =(G$72*$E$100^2+G$73*$E$100+G$74)*O99 -> 10.888543 | S99: =N99*R99/1000 -> 0.83697899 | U99: =E$99/S99 -> 179.21597 | V99: =Tcスペック算出!G16 -> 3 | W99: =S99*V99 -> 2.510937 | X99: =IFERROR(E$100+W99,FALSE) -> 27.510937
D100: Tc | E100: =Selector!L6 -> 25 | F100: =Selector!L6 -> 25 | H100: =K100/G79 -> 73.982179 | J100: =J79 -> CLU7A2 | K100: =HLOOKUP(Selector!$C$6,Calculation!L$75:AD$94,5,FALSE) -> 887.78615 | L100: =E$101/K100 -> 0.16895961 | M100: =D$72*$L100^3+D$73*$L100^2+D$74*$L100+D$75 -> 25.62262 | N100: =M100*I79 -> 25.62262 | O100: =(E$72*$M100^2+E$73*$M100+E$74)*K79 -> 32.665629 | P100: =O100*$P$96 -> 30.052379 | Q100: =O100*$Q$96 -> 35.278879 | R100: =(G$72*$E$100^2+G$73*$E$100+G$74)*O100 -> 32.665629 | S100: =N100*R100/1000 -> 0.83697899 | U100: =E$99/S100 -> 179.21597 | V100: =Tcスペック算出!G12 -> 3 | W100: =S100*V100 -> 2.510937 | X100: =IFERROR(E$100+W100,FALSE) -> 27.510937
D101: lm Tc-compensation | E101: =E99/E98 -> 150 | F101: =F99/F98 -> 150 | H101: =K101/G80 -> 74.757952 | J101: =J80 -> CLU702 | K101: =HLOOKUP(Selector!$C$6,Calculation!L$75:AD$94,6,FALSE) -> 1794.1909 | L101: =E$101/K101 -> 0.083603146 | M101: =D$72*$L101^3+D$73*$L101^2+D$74*$L101+D$75 -> 11.979445 | N101: =M101*I80 -> 23.958891 | O101: =(E$72*$M101^2+E$73*$M101+E$74)*K80 -> 32.248516 | P101: =O101*$P$96 -> 29.668635 | Q101: =O101*$Q$96 -> 34.828397 | R101: =(G$72*$E$100^2+G$73*$E$100+G$74)*O101 -> 32.248516 | S101: =N101*R101/1000 -> 0.77263868 | U101: =E$99/S101 -> 194.13991 | V101: =Tcスペック算出!G13 -> 1.6 | W101: =S101*V101 -> 1.2362219 | X101: =IFERROR(E$100+W101,FALSE) -> 26.236222
H102: =K102/G81 -> 75.339094 | J102: =J81 -> CLU712 | K102: =HLOOKUP(Selector!$C$6,Calculation!L$75:AD$94,7,FALSE) -> 3616.2765 | L102: =E$101/K102 -> 0.041479129 | M102: =D$72*$L102^3+D$73*$L102^2+D$74*$L102+D$75 -> 5.3101879 | N102: =M102*I81 -> 21.240752 | O102: =(E$72*$M102^2+E$73*$M102+E$74)*K81 -> 32.004178 | P102: =O102*$P$96 -> 29.443844 | Q102: =O102*$Q$96 -> 34.564512 | R102: =(G$72*$E$100^2+G$73*$E$100+G$74)*O102 -> 32.004178 | S102: =N102*R102/1000 -> 0.6797928 | U102: =E$99/S102 -> 220.65547 | V102: =Tcスペック算出!G14 -> 0.91 | W102: =S102*V102 -> 0.61861145 | X102: =IFERROR(E$100+W102,FALSE) -> 25.618611
H103: =K103/G82 -> #VALUE! | J103: =J82 -> 0 | K103: =HLOOKUP(Selector!$C$6,Calculation!L$75:AD$94,8,FALSE) -> 0 | L103: =E$101/K103 -> #DIV/0! | M103: =D$72*$L103^3+D$73*$L103^2+D$74*$L103+D$75 -> #DIV/0! | N103: =M103*I82 -> #DIV/0! | O103: =(E$72*$M103^2+E$73*$M103+E$74)*K82 -> #DIV/0! | P103: =O103*$P$96 -> #DIV/0! | Q103: =O103*$Q$96 -> #DIV/0! | R103: =(G$72*$E$100^2+G$73*$E$100+G$74)*O103 -> #DIV/0! | S103: =N103*R103/1000 -> #DIV/0! | U103: =E$99/S103 -> #DIV/0! | W103: =S103*V103 -> #DIV/0! | X103: =IFERROR(E$100+W103,FALSE) -> FALSE
H104: =K104/#REF! -> #REF! | J104: =J83 -> 0 | K104: =HLOOKUP(Selector!$C$6,Calculation!L$75:AD$94,9,FALSE) -> 0 | L104: =E$101/K104 -> #DIV/0! | M104: =D$72*$L104^3+D$73*$L104^2+D$74*$L104+D$75 -> #DIV/0! | N104: =M104*I83 -> #DIV/0! | O104: =(E$72*$M104^2+E$73*$M104+E$74)*K83 -> #DIV/0! | P104: =O104*$P$96 -> #DIV/0! | Q104: =O104*$Q$96 -> #DIV/0! | R104: =(G$72*$E$100^2+G$73*$E$100+G$74)*O104 -> #DIV/0! | S104: =N104*R104/1000 -> #DIV/0! | U104: =E$99/S104 -> #DIV/0! | W104: =S104*V104 -> #DIV/0! | X104: =IFERROR(E$100+W104,FALSE) -> FALSE
H105: =K105/#REF! -> #REF! | J105: =J84 -> 0 | K105: =HLOOKUP(Selector!$C$6,Calculation!L$75:AD$94,10,FALSE) -> 0 | L105: =E$101/K105 -> #DIV/0! | M105: =D$72*$L105^3+D$73*$L105^2+D$74*$L105+D$75 -> #DIV/0! | N105: =M105*I84 -> #DIV/0! | O105: =(E$72*$M105^2+E$73*$M105+E$74)*K84 -> #DIV/0! | P105: =O105*$P$96 -> #DIV/0! | Q105: =O105*$Q$96 -> #DIV/0! | R105: =(G$72*$E$100^2+G$73*$E$100+G$74)*O105 -> #DIV/0! | S105: =N105*R105/1000 -> #DIV/0! | U105: =E$99/S105 -> #DIV/0! | W105: =S105*V105 -> #DIV/0! | X105: =IFERROR(E$100+W105,FALSE) -> FALSE
H106: =K106/#REF! -> #REF! | J106: =J85 -> 0 | K106: =HLOOKUP(Selector!$C$6,Calculation!L$75:AD$94,11,FALSE) -> 0 | L106: =E$101/K106 -> #DIV/0! | M106: =D$72*$L106^3+D$73*$L106^2+D$74*$L106+D$75 -> #DIV/0! | N106: =M106*I85 -> #DIV/0! | O106: =(E$72*$M106^2+E$73*$M106+E$74)*K85 -> #DIV/0! | P106: =O106*$P$96 -> #DIV/0! | Q106: =O106*$Q$96 -> #DIV/0! | R106: =(G$72*$E$100^2+G$73*$E$100+G$74)*O106 -> #DIV/0! | S106: =N106*R106/1000 -> #DIV/0! | U106: =E$99/S106 -> #DIV/0! | W106: =S106*V106 -> #DIV/0! | X106: =IFERROR(E$100+W106,FALSE) -> FALSE
H107: =K107/#REF! -> #REF! | J107: =J86 -> 0 | K107: =HLOOKUP(Selector!$C$6,Calculation!L$75:AD$94,12,FALSE) -> 0 | L107: =E$101/K107 -> #DIV/0! | M107: =D$72*$L107^3+D$73*$L107^2+D$74*$L107+D$75 -> #DIV/0! | N107: =M107*I86 -> #DIV/0! | O107: =(E$72*$M107^2+E$73*$M107+E$74)*K86 -> #DIV/0! | P107: =O107*$P$96 -> #DIV/0! | Q107: =O107*$Q$96 -> #DIV/0! | R107: =(G$72*$E$100^2+G$73*$E$100+G$74)*O107 -> #DIV/0! | S107: =N107*R107/1000 -> #DIV/0! | U107: =E$99/S107 -> #DIV/0! | W107: =S107*V107 -> #DIV/0! | X107: =IFERROR(E$100+W107,FALSE) -> FALSE
H108: =K108/#REF! -> #REF! | J108: =J87 -> 0 | K108: =HLOOKUP(Selector!$C$6,Calculation!L$75:AD$94,13,FALSE) -> 0 | L108: =E$101/K108 -> #DIV/0! | M108: =D$72*$L108^3+D$73*$L108^2+D$74*$L108+D$75 -> #DIV/0! | N108: =M108*I87 -> #DIV/0! | O108: =(E$72*$M108^2+E$73*$M108+E$74)*K87 -> #DIV/0! | P108: =O108*$P$96 -> #DIV/0! | Q108: =O108*$Q$96 -> #DIV/0! | R108: =(G$72*$E$100^2+G$73*$E$100+G$74)*O108 -> #DIV/0! | S108: =N108*R108/1000 -> #DIV/0! | U108: =E$99/S108 -> #DIV/0! | W108: =S108*V108 -> #DIV/0! | X108: =IFERROR(E$100+W108,FALSE) -> FALSE
H109: =K109/G88 -> #VALUE! | J109: =J88 -> 0 | K109: =HLOOKUP(Selector!$C$6,Calculation!L$75:AD$94,14,FALSE) -> 0 | L109: =E$101/K109 -> #DIV/0! | M109: =D$72*$L109^3+D$73*$L109^2+D$74*$L109+D$75 -> #DIV/0! | N109: =M109*I88 -> #DIV/0! | O109: =(E$72*$M109^2+E$73*$M109+E$74)*K88 -> #DIV/0! | P109: =O109*$P$96 -> #DIV/0! | Q109: =O109*$Q$96 -> #DIV/0! | R109: =(G$72*$E$100^2+G$73*$E$100+G$74)*O109 -> #DIV/0! | S109: =N109*R109/1000 -> #DIV/0! | U109: =E$99/S109 -> #DIV/0! | W109: =S109*V109 -> #DIV/0! | X109: =IFERROR(E$100+W109,FALSE) -> FALSE
H110: =K110/G89 -> #VALUE! | J110: =J89 -> 0 | K110: =HLOOKUP(Selector!$C$6,Calculation!L$75:AD$94,15,FALSE) -> 0 | L110: =E$101/K110 -> #DIV/0! | M110: =D$72*$L110^3+D$73*$L110^2+D$74*$L110+D$75 -> #DIV/0! | N110: =M110*I89 -> #DIV/0! | O110: =(E$72*$M110^2+E$73*$M110+E$74)*K89 -> #DIV/0! | P110: =O110*$P$96 -> #DIV/0! | Q110: =O110*$Q$96 -> #DIV/0! | R110: =(G$72*$E$100^2+G$73*$E$100+G$74)*O110 -> #DIV/0! | S110: =N110*R110/1000 -> #DIV/0! | U110: =E$99/S110 -> #DIV/0! | W110: =S110*V110 -> #DIV/0! | X110: =IFERROR(E$100+W110,FALSE) -> FALSE
H111: =K111/G90 -> #VALUE! | J111: =J90 -> 0 | K111: =HLOOKUP(Selector!$C$6,Calculation!L$75:AD$94,16,FALSE) -> 0 | L111: =E$101/K111 -> #DIV/0! | M111: =D$72*$L111^3+D$73*$L111^2+D$74*$L111+D$75 -> #DIV/0! | N111: =M111*I90 -> #DIV/0! | O111: =(E$72*$M111^2+E$73*$M111+E$74)*K90 -> #DIV/0! | P111: =O111*$P$96 -> #DIV/0! | Q111: =O111*$Q$96 -> #DIV/0! | R111: =(G$72*$E$100^2+G$73*$E$100+G$74)*O111 -> #DIV/0! | S111: =N111*R111/1000 -> #DIV/0! | U111: =E$99/S111 -> #DIV/0! | W111: =S111*V111 -> #DIV/0! | X111: =IFERROR(E$100+W111,FALSE) -> FALSE
H112: =K112/G91 -> #VALUE! | J112: =J91 -> 0 | K112: =HLOOKUP(Selector!$C$6,Calculation!L$75:AD$94,17,FALSE) -> 0 | L112: =E$101/K112 -> #DIV/0! | M112: =D$72*$L112^3+D$73*$L112^2+D$74*$L112+D$75 -> #DIV/0! | N112: =M112*I91 -> #DIV/0! | O112: =(E$72*$M112^2+E$73*$M112+E$74)*K91 -> #DIV/0! | P112: =O112*$P$96 -> #DIV/0! | Q112: =O112*$Q$96 -> #DIV/0! | R112: =(G$72*$E$100^2+G$73*$E$100+G$74)*O112 -> #DIV/0! | S112: =N112*R112/1000 -> #DIV/0! | U112: =E$99/S112 -> #DIV/0! | W112: =S112*V112 -> #DIV/0! | X112: =IFERROR(E$100+W112,FALSE) -> FALSE
H113: =K113/G92 -> #VALUE! | J113: =J92 -> 0 | K113: =HLOOKUP(Selector!$C$6,Calculation!L$75:AD$94,18,FALSE) -> 0 | L113: =E$101/K113 -> #DIV/0! | M113: =D$72*$L113^3+D$73*$L113^2+D$74*$L113+D$75 -> #DIV/0! | N113: =M113*I92 -> #DIV/0! | O113: =(E$72*$M113^2+E$73*$M113+E$74)*K92 -> #DIV/0! | P113: =O113*$P$96 -> #DIV/0! | Q113: =O113*$Q$96 -> #DIV/0! | R113: =(G$72*$E$100^2+G$73*$E$100+G$74)*O113 -> #DIV/0! | S113: =N113*R113/1000 -> #DIV/0! | U113: =E$99/S113 -> #DIV/0! | W113: =S113*V113 -> #DIV/0! | X113: =IFERROR(E$100+W113,FALSE) -> FALSE
H114: =K114/G93 -> #VALUE! | J114: =J93 -> 0 | K114: =HLOOKUP(Selector!$C$6,Calculation!L$75:AD$94,19,FALSE) -> 0 | L114: =E$101/K114 -> #DIV/0! | M114: =D$72*$L114^3+D$73*$L114^2+D$74*$L114+D$75 -> #DIV/0! | N114: =M114*I93 -> #DIV/0! | O114: =(E$72*$M114^2+E$73*$M114+E$74)*K93 -> #DIV/0! | P114: =O114*$P$96 -> #DIV/0! | Q114: =O114*$Q$96 -> #DIV/0! | R114: =(G$72*$E$100^2+G$73*$E$100+G$74)*O114 -> #DIV/0! | S114: =N114*R114/1000 -> #DIV/0! | U114: =E$99/S114 -> #DIV/0! | W114: =S114*V114 -> #DIV/0! | X114: =IFERROR(E$100+W114,FALSE) -> FALSE
H115: =K115/G94 -> #VALUE! | J115: =J94 -> 0 | K115: =HLOOKUP(Selector!$C$6,Calculation!L$75:AD$94,20,FALSE) -> 0 | L115: =E$101/K115 -> #DIV/0! | M115: =D$72*$L115^3+D$73*$L115^2+D$74*$L115+D$75 -> #DIV/0! | N115: =M115*I94 -> #DIV/0! | O115: =(E$72*$M115^2+E$73*$M115+E$74)*K94 -> #DIV/0! | P115: =O115*$P$96 -> #DIV/0! | Q115: =O115*$Q$96 -> #DIV/0! | R115: =(G$72*$E$100^2+G$73*$E$100+G$74)*O115 -> #DIV/0! | S115: =N115*R115/1000 -> #DIV/0! | U115: =E$99/S115 -> #DIV/0! | W115: =S115*V115 -> #DIV/0! | X115: =IFERROR(E$100+W115,FALSE) -> FALSE
I119: ディレーティングカーブ | Q119: Tc Limit | R119: IF Limit | V119: Tj Limit | W119: Tj
I120: 傾き | J120: 切片 | K120: IF Limit | N120: U/L | Q120: Judgement | R120: L/L | T120: U/L | U120: Judgement | V120: Judgement | W120: Shown
H121: =B3 -> CLU7B2 | I121: ='最大定格(信頼性) (3)'!G3 -> -6 | J121: ='最大定格(信頼性) (3)'!G4 -> 860 | L121: =$D$53*I77 -> 300 | M121: =(I121*$E$100)+J121 -> 710 | N121: =IF(L121>=M121,M121,L121) -> 300 | O121: =N121/I77 -> 300 | P121: =J98 -> CLU7B2 | Q121: =AND(D$55<=$E$100,C$55>=$E$100) -> TRUE | R121: =C$53*I77 -> 5 | T121: =N121 -> 300 | U121: =IFERROR(AND(Q121,R121<=N98,T121>=N98),FALSE) -> TRUE | V121: =AND(Q121,D$57<X98,C$57>X98) -> TRUE | W121: =AND(U121,Q121,V121) -> TRUE
...

Sheet Tcスペック算出
S1: 30.680328 | X1: 145.55733
B2: HI-ver.3 | O2: =AVERAGE(O3:Q34) -> 12.403922 | S2: =AVERAGE(S3:V34) -> 30.680328 | X2: =AVERAGE(X3:X17) -> 145.55733
B3: CLU7B2-0701C4(HI-ver.2と同様) | F3: CLU7A2,702,712 | O3: 12.4216 | P3: 12.4489 | Q3: 12.3583 | S3: 30.585 | T3: 30.729 | U3: 30.79 | V3: 30.742 | X3: 145.85
B4: Tc-VF係数 | C4: Tc-LM係数 | D4: IF-VF係数 | F4: Tc-VF係数 | G4: Tc-LM係数 | H4: IF-VF係数 | O4: 12.4256 | P4: 12.3894 | Q4: 12.3711 | S4: 30.749 | T4: 30.62 | U4: 30.757 | V4: 30.781 | X4: 145.66
B5: ='代表特性(C4)'!G4 -> 2.7366883e-06 | C5: ='代表特性(C4)'!F4 -> -1.1152155e-08 | D5: ='代表特性(C4)'!E4 -> -1.5740769e-06 | F5: ='代表特性(C9)'!G4 -> 1.4835966e-06 | G5: ='代表特性(C9)'!F4 -> -1.8910606e-10 | H5: ='代表特性(C9)'!E4 -> -5.5791916e-07 | O5: 12.433 | P5: 12.4822 | Q5: 12.3622 | S5: 30.574 | T5: 30.726 | U5: 30.804 | V5: 30.817 | X5: 145.48
B6: ='代表特性(C4)'!G5 -> -0.00094613757 | C6: ='代表特性(C4)'!F5 -> -4.1294483e-06 | D6: ='代表特性(C4)'!E5 -> 0.0012473617 | F6: ='代表特性(C9)'!G5 -> -0.00072950695 | G6: ='代表特性(C9)'!F5 -> -6.5694857e-06 | H6: ='代表特性(C9)'!E5 -> 0.00081446875 | O6: 12.4178 | P6: 12.4637 | Q6: 12.4507 | S6: 30.546 | T6: 30.541 | U6: 30.807 | V6: 30.775 | X6: 145.65
B7: ='代表特性(C4)'!G6 -> 1.021943 | C7: ='代表特性(C4)'!F6 -> -0.0013906687 | D7: ='代表特性(C4)'!E6 -> 0.82991781 | F7: ='代表特性(C9)'!G6 -> 1.0173104 | G7: ='代表特性(C9)'!F6 -> -0.0013017321 | H7: ='代表特性(C9)'!E6 -> 0.87455424 | O7: 12.4008 | P7: 12.4762 | Q7: 12.3638 | S7: 30.633 | T7: 30.488 | U7: 30.804 | V7: 30.804 | X7: 145.57
C8: ='代表特性(C4)'!F7 -> 1.0375219 | G8: ='代表特性(C9)'!F7 -> 1.0366522 | O8: 12.4181 | P8: 12.4327 | Q8: 12.3753 | S8: 30.722 | T8: 30.577 | U8: 30.787 | V8: 30.796 | X8: 145.37
E9: 175 | M9: IF(x)-VF%(y)で算出 | O9: 12.421 | P9: 12.4411 | Q9: 12.3835 | S9: 30.529 | T9: 30.569 | U9: 30.781 | V9: 30.724 | X9: 145.57
A10: PKG | B10: S | C10: P | D10: Tj | E10: IF(mA) | F10: VF(V) | G10: Rjc(℃/W) | H10: Tc | I10: VF@Tc=25C | K10: φv@Tc=25C | M10: VF@Tc=25C | O10: 12.4952 | P10: 12.4866 | Q10: 12.3836 | S10: 30.726 | T10: 30.436 | U10: 30.781 | V10: 30.794 | X10: 145.43
A11: CLU7B2 | B11: 7 | C11: 1 | D11: 85 | E11: =$E$9*C11 -> 175 | F11: 21.3 | G11: =熱抵抗!K6 -> 5.4 | H11: =D11-(E11*F11/1000*G11) -> 64.8715 | I11: =$B$5*H11^2+$B$6*H11+$B$7 -> 0.97208248 | J11: =F11/I11 -> 21.911721 | K11: =$C$5*H11^3+$C$6*H11^2+$C$7*H11+$C$8 -> 0.92688457 | M11: =(D$5*$E$9^2+D$6*$E$9+D$7)*J11 -> 21.911721 | O11: 12.4166 | P11: 12.4408 | Q11: 12.3694 | S11: 30.675 | T11: 30.518 | U11: 30.79 | V11: 30.728 | X11: 145.68
A12: CLU7A2 | B12: 12 | C12: 1 | D12: 85 | E12: =$E$9*C12 -> 175 | F12: 35.6 | G12: =熱抵抗!K7 -> 3 | H12: =D12-(E12*F12/1000*G12) -> 66.31 | I12: =$F$5*H12^2+$F$6*H12+$F$7 -> 0.97546022 | J12: =F12/I12 -> 36.495594 | K12: 0.92139306 | M12: =(H$5*$E$9^2+H$6*$E$9+H$7)*J12 -> 36.495594 | O12: 12.4122 | P12: 12.473 | Q12: 12.3839 | S12: 30.734 | T12: 30.633 | U12: 30.773 | V12: 30.805 | X12: 145.6
A13: CLU702 | B13: 12 | C13: 2 | D13: 85 | E13: =$E$9*C13 -> 350 | F13: 35.6 | G13: =熱抵抗!K8 -> 1.6 | H13: =D13-(E13*F13/1000*G13) -> 65.064 | I13: =$F$5*H13^2+$F$6*H13+$F$7 -> 0.97612633 | J13: =F13/I13 -> 36.470689 | K13: =$G$5*H13^3+$G$6*H13^2+$G$7*H13+$G$8 -> 0.92409344 | M13: =(H$5*$E$9^2+H$6*$E$9+H$7)*J13 -> 36.470689 | O13: 12.4087 | P13: 12.4539 | Q13: 12.3795 | S13: 30.67 | T13: 30.506 | U13: 30.75 | V13: 30.77 | X13: 145.69
A14: CLU712 | B14: 12 | C14: 4 | D14: 85 | E14: =$E$9*C14 -> 700 | F14: 35.6 | G14: =熱抵抗!K9 -> 0.91 | H14: =D14-(E14*F14/1000*G14) -> 62.3228 | I14: =$F$5*H14^2+$F$6*H14+$F$7 -> 0.97760799 | J14: =F14/I14 -> 36.415414 | K14: =$G$5*H14^3+$G$6*H14^2+$G$7*H14+$G$8 -> 0.92996207 | M14: =(H$5*$E$9^2+H$6*$E$9+H$7)*J14 -> 36.415414 | O14: 12.4233 | P14: 12.4182 | Q14: 12.3802 | S14: 30.603 | T14: 30.589 | U14: 30.739 | V14: 30.792 | X14: 145.51
O15: 12.3904 | P15: 12.4473 | Q15: 12.4277 | S15: 30.649 | T15: 30.585 | U15: 30.75 | V15: 30.803 | X15: 145.47
A16: CLU7A2 | B16: 4 | C16: 3 | D16: 85 | E16: =$E$9*C16 -> 525 | F16: =(F12/12)*4 -> 11.866667 | G16: =熱抵抗!K7 -> 3 | H16: =D16-(E16*F16/1000*G16) -> 66.31 | I16: =$F$5*H16^2+$F$6*H16+$F$7 -> 0.97546022 | J16: =F16/I16 -> 12.165198 | K16: =$G$5*H16^3+$G$6*H16^2+$G$7*H16+$G$8 -> 0.92139306 | M16: =(H$5*$E$9^2+H$6*$E$9+H$7)*J16 -> 12.165198 | O16: 12.4156 | P16: 12.4548 | Q16: 12.4261 | S16: 30.676 | T16: 30.645 | U16: 30.765 | V16: 30.768 | X16: 145.54
A17: CLU7A2 | B17: 10 | C17: 1 | D17: 85 | E17: =$E$9*C17 -> 175 | F17: 29.9 | G17: =熱抵抗!K10 -> 3.7 | H17: =D17-(E17*F17/1000*G17) -> 65.63975 | I17: =$F$5*H17^2+$F$6*H17+$F$7 -> 0.97581796 | J17: =F17/I17 -> 30.640961 | K17: =$G$5*H17^3+$G$6*H17^2+$G$7*H17+$G$8 -> 0.9228482 | M17: =(H$5*$E$9^2+H$6*$E$9+H$7)*J17 -> 30.640961 | O17: 12.4143 | P17: 12.3939 | Q17: 12.4562 | S17: 30.674 | T17: 30.593 | U17: 30.772 | V17: 30.721 | X17: 145.29
A18: CLU712 | B18: 48 | C18: 1 | D18: 85 | E18: =$E$9*C18 -> 175 | F18: 142.29671 | G18: =熱抵抗!K11 -> 0.91 | H18: =D18-(E18*F18/1000*G18) -> 62.339249 | I18: =$F$5*H18^2+$F$6*H18+$F$7 -> 0.97759904 | J18: =F18/I18 -> 145.55733 | K18: =$G$5*H18^3+$G$6*H18^2+$G$7*H18+$G$8 -> 0.92992715 | M18: =(H$5*$E$9^2+H$6*$E$9+H$7)*J18 -> 145.55733 | O18: 12.4009 | P18: 12.4663 | Q18: 12.4036 | S18: 30.664 | T18: 30.613 | U18: 30.644 | V18: 30.779
O19: 12.4084 | P19: 12.4471 | Q19: 12.3541 | S19: 30.612 | T19: 30.749 | U19: 30.747 | V19: 30.809
O20: 12.4014 | P20: 12.4137 | Q20: 12.344 | S20: 30.615 | T20: 30.543 | U20: 30.526 | V20: 30.775
O21: 12.3866 | P21: 12.3715 | Q21: 12.3602 | S21: 30.566 | T21: 30.553 | U21: 30.79 | V21: 30.792
O22: 12.3889 | P22: 12.4647 | Q22: 12.369 | S22: 30.708 | T22: 30.558 | U22: 30.645 | V22: 30.764
O23: 12.3949 | P23: 12.3917 | Q23: 12.3632 | S23: 30.65 | T23: 30.53 | U23: 30.746 | V23: 30.724
O24: 12.3891 | P24: 12.3804 | Q24: 12.3601 | S24: 30.718 | T24: 30.619 | U24: 30.673 | V24: 30.757
O25: 12.4372 | P25: 12.3759 | Q25: 12.3583 | S25: 30.685 | T25: 30.501 | U25: 30.777 | V25: 30.767
O26: 12.4476 | P26: 12.3784 | Q26: 12.3423 | S26: 30.648 | T26: 30.603 | U26: 30.693 | V26: 30.781
O27: 12.4409 | P27: 12.4099 | Q27: 12.3616 | S27: 30.64 | T27: 30.774 | U27: 30.649 | V27: 30.734
O28: 12.3862 | P28: 12.3725 | Q28: 12.352 | S28: 30.493 | T28: 30.543 | U28: 30.592 | V28: 30.761
O29: 12.396 | P29: 12.4366 | Q29: 12.3475 | S29: 30.653 | T29: 30.483 | U29: 30.58 | V29: 30.795
O30: 12.406 | P30: 12.4481 | Q30: 12.3513 | S30: 30.684 | T30: 30.587 | U30: 30.622 | V30: 30.736
... O34: 12.393 | P34: 12.3811 | Q34: 12.3406 | S34: 30.638 | T34: 30.534 | U34: 30.705 | V34: 30.77

Sheet 熱抵抗
C4: 機種 | D4: LED | E4: 直パラ素子 | F4: HI-ver.2 | G4: HI-ver.3 | K4: HI-V3最終仕様
F5: 230mA/Tj140℃ | G5: 230mA/Tj140℃ | H5: 350mA/Tj140℃ | I5: 230mA/Tj150℃ | J5: 350mA/Tj150℃ | K5: 230mA/Tj140℃ | M5: 熱抵抗算出条件は基本230mA/Tj140℃
B6: 7 | C6: CLU7B2 | D6: Φ3.3 | E6: 0701C4 | F6: - | G6: 4.803 | H6: 5.336 | I6: 4.97 | J6: 5.506 | K6: 5.4 | M6: HI-V2の熱抵抗は4.2だがPKGが小さく素子狭GAPであるためマージン含めそれより大きい数値で設定。5.34からマージンをとって繰り上げて5.4とする
B7: 12 | C7: CLU7A2 | D7: Φ4.2 | E7: 1201C9/0403C9 | F7: - | G7: 2.526 | H7: 2.981 | I7: 2.615 | J7: 3.085 | K7: 3 | M7: 2.98からマージンをとって繰り上げて3.0とする
A8: 20 | B8: 24 | C8: CLU702 | D8: Φ6.0 | E8: 1002C4/1202C9 | F8: 1.6 | G8: 1.53 | H8: 1.708 | I8: 1.589 | J8: 1.773 | K8: 1.6 | M8: HI-V2同様の説明としては素子がC4→C9になりサイズアップすることで熱抵抗ダウンとなるが、
A9: 48 | B9: 48 | C9: CLU712 | D9: Φ8.5 | E9: 1204C4/1204C9 | F9: 0.91 | G9: 0.731 | H9: 0.846 | I9: 0.756 | J9: 0.878 | K9: 0.91 | M9: ペースト厚みが厚くなっている(ペースト径Φ260mm→Φ280mm)ためいってこいの関係から差異なしと判断
B10: 10 | C10: CLU7A2 | D10: Φ4.2 | E10: 1001C9 | K10: =ROUND(K12*B10^(K13),1) -> 3.7
B11: 48 | C11: CLU712 | D11: Φ8.5 | E11: 4801C9 | K11: =K9 -> 0.91
K12: 30.876796
K13: -0.91979528

Sheet 代表特性(C4)
C2: HI-ver.2の係数適用
C3: IF(x)-lm%(y) | D3: lm%(x)-IF(y) | E3: IF(x)-VF%(y) | F3: Tc(x)-lm%(y) | G3: Tc(x)-VF%(y)
B4: a | C4: 5.6231687e-09 | D4: 1.0968818 | E4: -1.5740769e-06 | F4: -1.1152155e-08 | G4: 2.7366883e-06
B5: b | C5: -6.8430471e-06 | D5: 28.364492 | E5: 0.0012473617 | F5: -4.1294483e-06 | G5: -0.00094613757
B6: c | C6: 0.0067343757 | D6: 145.51791 | E6: 0.82991781 | F6: -0.0013906687 | G6: 1.021943
B7: d | C7: 0.00091590531 | D7: 0.1515608 | F7: 1.0375219
C9: Tc | D9: 64.871425
C10: IF/die | D10: 175
C11: IF/PKG | D11: =D10*D12 -> 175
C12: CLU7B2-0701C4 | D12: 1
C13: VF | D13: =ROUND(E13,-INT(LOG10(E13))+3) -> 21.3 | E13: =($E$4*$D$10^2+$E$5*$D$10+$E$6)*($G$4*$D$9^2+$G$5*$D$9+$G$6)*Tcスペック算出!J11 -> 21.300001
C14: Rjc | D14: =熱抵抗!K6 -> 5.4
C15: Tj | D15: =D9+(D11*D13/1000)*D14 -> 84.999925
C16: VF | D16: Φv
C17: =($E$4*$D$10^2+$E$5*$D$10+$E$6)*($G$4*$D$9^2+$G$5*$D$9+$G$6) -> 0.97208253 | D17: =($C$4*$D$10^3+$C$5*$D$10^2+$C$6*$D$10+$C$7)*($F$4*$D$9^3+$F$5*$D$9^2+$F$6*$D$9+$F$7) -> 0.92688473

Sheet 代表特性(C9)_元データ
E2: HI-ver.3の係数適用
E3: IF(x)-VF%(y) | G3: IF(x)-lm%(y) | I3: lm%(x)-IF(y) | K3: Tc(x)-VF%(y) | M3: Tc(x)-lm%(y)
E4: IF-VF | F4: IF(x)-VF%(y) | G4: IF-Φv | H4: IF(x)-lm%(y) | I4: Φv-IF | J4: lm%(x)-IF(y) | K4: Tc-VF | L4: Tc(x)-VF%(y) | M4: Tc-Φv | N4: Tc(x)-lm%(y)
D5: a | E5: =INDEX(LINEST(IF特性!$J$16:$J$27,IF特性!$D$16:$D$27^{1,2}),1,1) -> -5.5757854e-07 | F5: =INDEX(LINEST(F12:F23,A12:A23^{1,2}),1,1) -> -5.5791916e-07 | G5: =INDEX(LINEST(IF特性!$L$31:$L$42,IF特性!$D$31:$D$42^{1,2,3}),1,1) -> 2.4836789e-09 | H5: =INDEX(LINEST(H12:H23,A12:A23^{1,2,3}),1,1) -> 2.482767e-09 | I5: =INDEX(LINEST(IF特性!$D$31:$D$42,IF特性!$L$31:$L$42^{1,2,3}),1,1) -> 10.269596 | J5: =INDEX(LINEST(J12:J23,B12:B23^{1,2,3}),1,1) -> 10.281994 | K5: =INDEX(LINEST(Tc特性!$J$15:$J$23,Tc特性!$C$15:$C$23^{1,2}),1,1) -> 1.4850866e-06 | L5: =INDEX(LINEST(L12:L20,C12:C20^{1,2}),1,1) -> 1.4835966e-06 | M5: =INDEX(LINEST(Tc特性!$L$29:$L$37,Tc特性!$C$29:$C$37^{1,2,3}),1,1) -> -1.892436e-10 | N5: =INDEX(LINEST(N12:N20,C12:C20^{1,2,3}),1,1) -> -1.8910606e-10
D6: b | E6: =INDEX(LINEST(IF特性!$J$16:$J$27,IF特性!$D$16:$D$27^{1,2}),1,2) -> 0.00081397149 | F6: =INDEX(LINEST(F12:F23,A12:A23^{1,2}),1,2) -> 0.00081446875 | G6: =INDEX(LINEST(IF特性!$L$31:$L$42,IF特性!$D$31:$D$42^{1,2,3}),1,2) -> -5.673202e-06 | H6: =INDEX(LINEST(H12:H23,A12:A23^{1,2,3}),1,2) -> -5.6711192e-06 | I6: =INDEX(LINEST(IF特性!$D$31:$D$42,IF特性!$L$31:$L$42^{1,2,3}),1,2) -> 8.8366756 | J6: =INDEX(LINEST(J12:J23,B12:B23^{1,2,3}),1,2) -> 8.8473438 | K6: =INDEX(LINEST(Tc特性!$J$15:$J$23,Tc特性!$C$15:$C$23^{1,2}),1,2) -> -0.00073023959 | L6: =INDEX(LINEST(L12:L20,C12:C20^{1,2}),1,2) -> -0.00072950695 | M6: =INDEX(LINEST(Tc特性!$L$29:$L$37,Tc特性!$C$29:$C$37^{1,2,3}),1,2) -> -6.5742638e-06 | N6: =INDEX(LINEST(N12:N20,C12:C20^{1,2,3}),1,2) -> -6.5694857e-06
D7: c | E7: =INDEX(LINEST(IF特性!$J$16:$J$27,IF特性!$D$16:$D$27^{1,2}),1,3) -> 0.87402031 | F7: =INDEX(LINEST(F12:F23,A12:A23^{1,2}),1,3) -> 0.87455424 | G7: =INDEX(LINEST(IF特性!$L$31:$L$42,IF特性!$D$31:$D$42^{1,2,3}),1,3) -> 0.0066217558 | H7: =INDEX(LINEST(H12:H23,A12:A23^{1,2,3}),1,3) -> 0.0066193248 | I7: =INDEX(LINEST(IF特性!$D$31:$D$42,IF特性!$L$31:$L$42^{1,2,3}),1,3) -> 156.90307 | J7: =INDEX(LINEST(J12:J23,B12:B23^{1,2,3}),1,3) -> 157.09249 | K7: =INDEX(LINEST(Tc特性!$J$15:$J$23,Tc特性!$C$15:$C$23^{1,2}),1,3) -> 1.0183321 | L7: =INDEX(LINEST(L12:L20,C12:C20^{1,2}),1,3) -> 1.0173104 | M7: =INDEX(LINEST(Tc特性!$L$29:$L$37,Tc特性!$C$29:$C$37^{1,2,3}),1,3) -> -0.0013026789 | N7: =INDEX(LINEST(N12:N20,C12:C20^{1,2,3}),1,3) -> -0.0013017321
D8: d | G8: =INDEX(LINEST(IF特性!$L$31:$L$42,IF特性!$D$31:$D$42^{1,2,3}),1,4) -> 0.0019908394 | H8: =INDEX(LINEST(H12:H23,A12:A23^{1,2,3}),1,4) -> 0.0019901085 | I8: =INDEX(LINEST(IF特性!$D$31:$D$42,IF特性!$L$31:$L$42^{1,2,3}),1,4) -> -1.2203543 | J8: =INDEX(LINEST(J12:J23,B12:B23^{1,2,3}),1,4) -> -1.2218276 | M8: =INDEX(LINEST(Tc特性!$L$29:$L$37,Tc特性!$C$29:$C$37^{1,2,3}),1,4) -> 1.0374062 | N8: =INDEX(LINEST(N12:N20,C12:C20^{1,2,3}),1,4) -> 1.0366522
E10: =E5*A17^2+E6*A17+E7 -> 0.99938947 | F10: =F5*A17^2+F6*A17+F7 -> 1 | G10: =G5*A17^3+G6*A17^2+G7*A17+G8 -> 1.0003673 | H10: =H5*A17^3+H6*A17^2+H7*A17+H8 -> 1 | I10: =I5*B17^3+I6*B17^2+I7*B17+I8 -> 174.78898 | J10: =J5*B17^3+J6*B17^2+J7*B17+J8 -> 175 | K10: =K5*C13^2+K6*C13+K7 -> 1.0010043 | L10: =L5*C13^2+L6*C13+L7 -> 1 | M10: =M5*C13^3+M6*C13^2+M7*C13+M8 -> 1.0007273 | N10: =N5*C13^3+N6*C13^2+N7*C13+N8 -> 1
A12: =IF特性!C31 -> 30 | B12: =IF特性!L31 -> 0.19468868 | C12: =Tc特性!C29 -> 0 | E12: =$E$5*A12^2+$E$6*A12+$E$7 -> 0.89793763 | F12: =E12/$E$17 -> 0.89848618 | G12: =$G$5*A12^3+$G$6*A12^2+$G$7*A12+$G$8 -> 0.19560469 | H12: =G12/$G$17 -> 0.19553288 | I12: =$I$5*B12^3+$I$6*B12^2+$I$7*B12+$I$8 -> 29.737623 | J12: =I12/$I$17*$A$17 -> 29.773524 | K12: =$K$5*C12^2+$K$6*C12+$K$7 -> 1.0183321 | L12: =K12/$K$13 -> 1.0173104 | M12: =$M$5*C12^3+$M$6*C12^2+$M$7*C12+$M$8 -> 1.0374062 | N12: =M12/$M$13 -> 1.0366522
A13: =IF特性!C32 -> 60 | B13: =IF特性!L32 -> 0.38002908 | C13: =Tc特性!C30 -> 25 | E13: =$E$5*A13^2+$E$6*A13+$E$7 -> 0.92085131 | F13: =E13/$E$17 -> 0.92141386 | G13: =$G$5*A13^3+$G$6*A13^2+$G$7*A13+$G$8 -> 0.37940914 | H13: =G13/$G$17 -> 0.37926984 | I13: =$I$5*B13^3+$I$6*B13^2+$I$7*B13+$I$8 -> 60.247228 | J13: =I13/$I$17*$A$17 -> 60.319962 | K13: =$K$5*C13^2+$K$6*C13+$K$7 -> 1.0010043 | L13: =K13/$K$13 -> 1 | M13: =$M$5*C13^3+$M$6*C13^2+$M$7*C13+$M$8 -> 1.0007273 | N13: =M13/$M$13 -> 1
A14: =IF特性!C33 -> 90 | B14: =IF特性!L33 -> 0.55454322 | C14: =Tc特性!C31 -> 45 | E14: =$E$5*A14^2+$E$6*A14+$E$7 -> 0.94276135 | F14: =E14/$E$17 -> 0.94333729 | G14: =$G$5*A14^3+$G$6*A14^2+$G$7*A14+$G$8 -> 0.55380653 | H14: =G14/$G$17 -> 0.55360321 | I14: =$I$5*B14^3+$I$6*B14^2+$I$7*B14+$I$8 -> 90.257911 | J14: =I14/$I$17*$A$17 -> 90.366877 | K14: =$K$5*C14^2+$K$6*C14+$K$7 -> 0.98847863 | L14: =K14/$K$13 -> 0.9874869 | M14: =$M$5*C14^3+$M$6*C14^2+$M$7*C14+$M$8 -> 0.96545549 | N14: =M14/$M$13 -> 0.9647538
A15: =IF特性!C34 -> 120 | B15: =IF特性!L34 -> 0.71969204 | C15: =Tc特性!C32 -> 65 | E15: =$E$5*A15^2+$E$6*A15+$E$7 -> 0.96366775 | F15: =E15/$E$17 -> 0.96425646 | G15: =$G$5*A15^3+$G$6*A15^2+$G$7*A15+$G$8 -> 0.71919923 | H15: =G15/$G$17 -> 0.71893519 | I15: =$I$5*B15^3+$I$6*B15^2+$I$7*B15+$I$8 -> 120.10674 | J15: =I15/$I$17*$A$17 -> 120.25174 | K15: =$K$5*C15^2+$K$6*C15+$K$7 -> 0.97714103 | L15: =K15/$K$13 -> 0.97616067 | M15: =$M$5*C15^3+$M$6*C15^2+$M$7*C15+$M$8 -> 0.9249038 | N15: =M15/$M$13 -> 0.92423159
A16: =IF特性!C35 -> 150 | B16: =IF特性!L35 -> 0.87608966 | C16: =Tc特性!C33 -> 66.3 | E16: =$E$5*A16^2+$E$6*A16+$E$7 -> 0.98357051 | F16: =E16/$E$17 -> 0.98417137 | G16: =$G$5*A16^3+$G$6*A16^2+$G$7*A16+$G$8 -> 0.87598959 | H16: =G16/$G$17 -> 0.87566798 | I16: =$I$5*B16^3+$I$6*B16^2+$I$7*B16+$I$8 -> 149.9288 | J16: =I16/$I$17*$A$17 -> 150.10981 | K16: =$K$5*C16^2+$K$6*C16+$K$7 -> 0.97644521 | L16: =K16/$K$13 -> 0.97546555 | M16: =$M$5*C16^3+$M$6*C16^2+$M$7*C16+$M$8 -> 0.92208498 | N16: =M16/$M$13 -> 0.92141481
A17: =IF特性!C36 -> 175 | B17: =IF特性!L36 -> 1 | C17: =Tc特性!C34 -> 85 | E17: =$E$5*A17^2+$E$6*A17+$E$7 -> 0.99938947 | F17: =E17/$E$17 -> 1 | G17: =$G$5*A17^3+$G$6*A17^2+$G$7*A17+$G$8 -> 1.0003673 | H17: =G17/$G$17 -> 1 | I17: =$I$5*B17^3+$I$6*B17^2+$I$7*B17+$I$8 -> 174.78898 | J17: =I17/$I$17*$A$17 -> 175 | K17: =$K$5*C17^2+$K$6*C17+$K$7 -> 0.9669915 | L17: =K17/$K$13 -> 0.96602132 | M17: =$M$5*C17^3+$M$6*C17^2+$M$7*C17+$M$8 -> 0.87906319 | N17: =M17/$M$13 -> 0.87842429
A18: =IF特性!C37 -> 210 | B18: =IF特性!L37 -> 1.1645672 | C18: =Tc特性!C35 -> 105 | E18: =$E$5*A18^2+$E$6*A18+$E$7 -> 1.0203651 | F18: =E18/$E$17 -> 1.0209884 | G18: =$G$5*A18^3+$G$6*A18^2+$G$7*A18+$G$8 -> 1.1653727 | H18: =G18/$G$17 -> 1.1649449 | I18: =$I$5*B18^3+$I$6*B18^2+$I$7*B18+$I$8 -> 209.70812 | J18: =I18/$I$17*$A$17 -> 209.96129 | K18: =$K$5*C18^2+$K$6*C18+$K$7 -> 0.95803004 | L18: =K18/$K$13 -> 0.95706885 | M18: =$M$5*C18^3+$M$6*C18^2+$M$7*C18+$M$8 -> 0.82792455 | N18: =M18/$M$13 -> 0.82732282
A19: =IF特性!C38 -> 240 | B19: =IF特性!L38 -> 1.2984865 | C19: =Tc特性!C36 -> 125 | E19: =$E$5*A19^2+$E$6*A19+$E$7 -> 1.0372569 | F19: =E19/$E$17 -> 1.0378906 | G19: =$G$5*A19^3+$G$6*A19^2+$G$7*A19+$G$8 -> 1.2987702 | H19: =G19/$G$17 -> 1.2982934 | I19: =$I$5*B19^3+$I$6*B19^2+$I$7*B19+$I$8 -> 239.89898 | J19: =I19/$I$17*$A$17 -> 240.1886 | K19: =$K$5*C19^2+$K$6*C19+$K$7 -> 0.95025664 | L19: =K19/$K$13 -> 0.94930325 | M19: =$M$5*C19^3+$M$6*C19^2+$M$7*C19+$M$8 -> 0.77147882 | N19: =M19/$M$13 -> 0.77091811
A20: =IF特性!C39 -> 270 | B20: =IF特性!L39 -> 1.4242639 | C20: =Tc特性!C37 -> 135 | E20: =$E$5*A20^2+$E$6*A20+$E$7 -> 1.0531451 | F20: =E20/$E$17 -> 1.0537885 | G20: =$G$5*A20^3+$G$6*A20^2+$G$7*A20+$G$8 -> 1.4251747 | H20: =G20/$G$17 -> 1.4246515 | I20: =$I$5*B20^3+$I$6*B20^2+$I$7*B20+$I$8 -> 269.84694 | J20: =I20/$I$17*$A$17 -> 270.17272 | K20: =$K$5*C20^2+$K$6*C20+$K$7 -> 0.94681547 | L20: =K20/$K$13 -> 0.94586554 | M20: =$M$5*C20^3+$M$6*C20^2+$M$7*C20+$M$8 -> 0.74126295 | N20: =M20/$M$13 -> 0.74072421
A21: =IF特性!C40 -> 300 | B21: =IF特性!L40 -> 1.5453016 | E21: =$E$5*A21^2+$E$6*A21+$E$7 -> 1.0680297 | F21: =E21/$E$17 -> 1.0686821 | G21: =$G$5*A21^3+$G$6*A21^2+$G$7*A21+$G$8 -> 1.5449887 | H21: =G21/$G$17 -> 1.5444215 | I21: =$I$5*B21^3+$I$6*B21^2+$I$7*B21+$I$8 -> 300.23978 | J21: =I21/$I$17*$A$17 -> 300.60225
A22: =IF特性!C41 -> 350 | B22: =IF特性!L41 -> 1.733225 | E22: =$E$5*A22^2+$E$6*A22+$E$7 -> 1.090607 | F22: =E22/$E$17 -> 1.0912732 | G22: =$G$5*A22^3+$G$6*A22^2+$G$7*A22+$G$8 -> 1.7311259 | H22: =G22/$G$17 -> 1.7304903 | I22: =$I$5*B22^3+$I$6*B22^2+$I$7*B22+$I$8 -> 350.74494 | J22: =I22/$I$17*$A$17 -> 351.16838
A23: =IF特性!C42 -> 400 | B23: =IF特性!L42 -> 1.9008581 | E23: =$E$5*A23^2+$E$6*A23+$E$7 -> 1.1103963 | F23: =E23/$E$17 -> 1.1110747 | G23: =$G$5*A23^3+$G$6*A23^2+$G$7*A23+$G$8 -> 1.9019363 | H23: =G23/$G$17 -> 1.901238 | I23: =$I$5*B23^3+$I$6*B23^2+$I$7*B23+$I$8 -> 399.49396 | J23: =I23/$I$17*$A$17 -> 399.97626

Sheet 代表特性(C9)
C2: HI-ver.3の係数適用
C3: ='代表特性(C9)_元データ'!G3 -> IF(x)-lm%(y) | D3: ='代表特性(C9)_元データ'!I3 -> lm%(x)-IF(y) | E3: ='代表特性(C9)_元データ'!E3 -> IF(x)-VF%(y) | F3: ='代表特性(C9)_元データ'!M3 -> Tc(x)-lm%(y) | G3: ='代表特性(C9)_元データ'!K3 -> Tc(x)-VF%(y)
B4: a | C4: ='代表特性(C9)_元データ'!H5 -> 2.482767e-09 | D4: ='代表特性(C9)_元データ'!J5 -> 10.281994 | E4: ='代表特性(C9)_元データ'!F5 -> -5.5791916e-07 | F4: ='代表特性(C9)_元データ'!N5 -> -1.8910606e-10 | G4: ='代表特性(C9)_元データ'!L5 -> 1.4835966e-06
B5: b | C5: ='代表特性(C9)_元データ'!H6 -> -5.6711192e-06 | D5: ='代表特性(C9)_元データ'!J6 -> 8.8473438 | E5: ='代表特性(C9)_元データ'!F6 -> 0.00081446875 | F5: ='代表特性(C9)_元データ'!N6 -> -6.5694857e-06 | G5: ='代表特性(C9)_元データ'!L6 -> -0.00072950695
B6: c | C6: ='代表特性(C9)_元データ'!H7 -> 0.0066193248 | D6: ='代表特性(C9)_元データ'!J7 -> 157.09249 | E6: ='代表特性(C9)_元データ'!F7 -> 0.87455424 | F6: ='代表特性(C9)_元データ'!N7 -> -0.0013017321 | G6: ='代表特性(C9)_元データ'!L7 -> 1.0173104
B7: d | C7: ='代表特性(C9)_元データ'!H8 -> 0.0019901085 | D7: ='代表特性(C9)_元データ'!J8 -> -1.2218276 | F7: ='代表特性(C9)_元データ'!N8 -> 1.0366522
C9: Tc | D9: 66.31 | F9: Tc | G9: 65.064 | I9: Tc | J9: 62.3228
C10: IF/die | D10: 175 | F10: IF/die | G10: 175 | I10: IF/die | J10: 175
C11: IF/PKG | D11: =D10*D12 -> 175 | F11: IF/PKG | G11: =G10*G12 -> 350 | I11: IF/PKG | J11: =J10*J12 -> 700
C12: CLU7A2-1201C9 | D12: 1 | F12: CLU702-1202C9 | G12: 2 | I12: CLU712-1204C9 | J12: 4
C13: VF | D13: =ROUND(E13,-INT(LOG10(E13))+3) -> 35.6 | E13: =($E$4*$D$10^2+$E$5*$D$10+$E$6)*($G$4*$D$9^2+$G$5*$D$9+$G$6)*Tcスペック算出!J12 -> 35.6 | F13: VF | G13: =ROUND(H13,-INT(LOG10(H13))+3) -> 35.6 | H13: =($E$4*$G$10^2+$E$5*$G$10+$E$6)*($G$4*$G$9^2+$G$5*$G$9+$G$6)*Tcスペック算出!J13 -> 35.6 | I13: VF | J13: =ROUND(K13,-INT(LOG10(K13))+3) -> 35.6 | K13: =($E$4*$J$10^2+$E$5*$J$10+$E$6)*($G$4*$J$9^2+$G$5*$J$9+$G$6)*Tcスペック算出!J14 -> 35.6
C14: Rjc | D14: =熱抵抗!K7 -> 3 | F14: Rjc | G14: =熱抵抗!K8 -> 1.6 | I14: Rjc | J14: =熱抵抗!K9 -> 0.91
C15: Tj | D15: =D9+(D11*D13/1000)*D14 -> 85 | F15: Tj | G15: =G9+(G11*G13/1000)*G14 -> 85 | I15: Tj | J15: =J9+(J11*J13/1000)*J14 -> 85
C16: VF | D16: Φv | F16: VF | G16: Φv | I16: VF | J16: Φv
C17: =($E$4*$D$10^2+$E$5*$D$10+$E$6)*($G$4*$D$9^2+$G$5*$D$9+$G$6) -> 0.97546022 | D17: =($C$4*$D$10^3+$C$5*$D$10^2+$C$6*$D$10+$C$7)*($F$4*$D$9^3+$F$5*$D$9^2+$F$6*$D$9+$F$7) -> 0.92139306 | F17: =($E$4*$G$10^2+$E$5*$G$10+$E$6)*($G$4*$G$9^2+$G$5*$G$9+$G$6) -> 0.97612633 | G17: =($C$4*$G$10^3+$C$5*$G$10^2+$C$6*$G$10+$C$7)*($F$4*$G$9^3+$F$5*$G$9^2+$F$6*$G$9+$F$7) -> 0.92409344 | I17: =($E$4*$J$10^2+$E$5*$J$10+$E$6)*($G$4*$J$9^2+$G$5*$J$9+$G$6) -> 0.97760799 | J17: =($C$4*$J$10^3+$C$5*$J$10^2+$C$6*$J$10+$C$7)*($F$4*$J$9^3+$F$5*$J$9^2+$F$6*$J$9+$F$7) -> 0.92996207
C20: Tc | D20: 66.304237 | I20: Tc | J20: 62.338498
C21: IF/die | D21: 175 | I21: IF/die | J21: 175
C22: IF/PKG | D22: =D21*D23 -> 525 | I22: IF/PKG | J22: =J21*J23 -> 175
C23: CLU7A2-0403C9 | D23: 3 | I23: CLU712-4801C9 | J23: 1
C24: VF | D24: =ROUND(E24,-INT(LOG10(E24))+3) -> 11.87 | E24: =($E$4*$D$21^2+$E$5*$D$21+$E$6)*($G$4*$D$20^2+$G$5*$D$20+$G$6)*Tcスペック算出!J16 -> 11.866704 | I24: VF | J24: =ROUND(K24,-INT(LOG10(K24))+3) -> 142.3 | K24: =($E$4*$J$21^2+$E$5*$J$21+$E$6)*($G$4*$J$20^2+$G$5*$J$20+$G$6)*Tcスペック算出!J18 -> 142.29677
C25: Rjc | D25: =熱抵抗!K7 -> 3 | I25: Rjc | J25: =熱抵抗!K11 -> 0.91
C26: Tj | D26: =D20+(D22*D24/1000)*D25 -> 84.999487 | I26: Tj | J26: =J20+(J22*J24/1000)*J25 -> 84.999773
C27: VF | D27: Φv | I27: VF | J27: Φv
C28: =($E$4*$D$21^2+$E$5*$D$21+$E$6)*($G$4*$D$20^2+$G$5*$D$20+$G$6) -> 0.97546329 | D28: =($C$4*$D$21^3+$C$5*$D$21^2+$C$6*$D$21+$C$7)*($F$4*$D$20^3+$F$5*$D$20^2+$F$6*$D$20+$F$7) -> 0.9214056 | I28: =($E$4*$J$21^2+$E$5*$J$21+$E$6)*($G$4*$J$20^2+$G$5*$J$20+$G$6) -> 0.97759945 | J28: =($C$4*$J$21^3+$C$5*$J$21^2+$C$6*$J$21+$C$7)*($F$4*$J$20^3+$F$5*$J$20^2+$F$6*$J$20+$F$7) -> 0.92992875
C31: Tc | D31: 65.633174
C32: IF/die | D32: 175
C33: IF/PKG | D33: =D32*D34 -> 175
C34: CLU7A2-1001C9 | D34: 1
C35: VF | D35: =ROUND(E35,-INT(LOG10(E35))+3) -> 29.9 | E35: =($E$4*$D$32^2+$E$5*$D$32+$E$6)*($G$4*$D$31^2+$G$5*$D$31+$G$6)*Tcスペック算出!J17 -> 29.900108
C36: Rjc | D36: =熱抵抗!K10 -> 3.7
C37: Tj | D37: =D31+(D33*D35/1000)*D36 -> 84.993424 | E37: 70.380463
C38: VF | D38: Φv
C39: =($E$4*$D$32^2+$E$5*$D$32+$E$6)*($G$4*$D$31^2+$G$5*$D$31+$G$6) -> 0.97582148 | D39: =($C$4*$D$32^3+$C$5*$D$32^2+$C$6*$D$32+$C$7)*($F$4*$D$31^3+$F$5*$D$31^2+$F$6*$D$31+$F$7) -> 0.92286245
C40: 0.97584956 | D40: 0.92297619

Sheet 最大定格 (DR2)
B2: ディレーティング(最終)
F3: 傾き | G3: =SLOPE(G8:G9,F8:F9) -> -6 | M3: 傾き | N3: =SLOPE(N8:N9,M8:M9) -> -6 | T3: 傾き | U3: =SLOPE(U8:U9,T8:T9) -> -6 | AA3: 傾き | AB3: =SLOPE(AB8:AB9,AA8:AA9) -> -12
F4: 切片 | G4: =INTERCEPT(G8:G9,F8:F9) -> 860 | M4: 切片 | N4: =INTERCEPT(N8:N9,M8:M9) -> 860 | T4: 切片 | U4: =INTERCEPT(U8:U9,T8:T9) -> 1090 | AA4: 切片 | AB4: =INTERCEPT(AB8:AB9,AA8:AA9) -> 2180
C5: CLU7B2-0701C4 | J5: CLU7A2-1201C9 | Q5: CLU702-1202C9 | X5: CLU712-1204C9
C6: Tc[℃] | D6: IF[mA] | F6: Tc[℃] | G6: IF[mA] | J6: Tc[℃] | K6: IF[mA] | M6: Tc[℃] | N6: IF[mA] | Q6: Tc[℃] | R6: IF[mA] | T6: Tc[℃] | U6: IF[mA] | X6: Tc[℃] | Y6: IF[mA] | AA6: Tc[℃] | AB6: IF[mA]
C7: 0 | D7: 350 | F7: =C7 -> 0 | G7: 300 | J7: 0 | K7: 350 | M7: =J7 -> 0 | N7: 300 | Q7: 0 | R7: =K7*2 -> 700 | T7: =Q7 -> 0 | U7: =U8 -> 600 | X7: 0 | Y7: =K7*4 -> 1400 | AA7: =X7 -> 0 | AB7: =AB8 -> 1200
C8: 85 | D8: 350 | F8: =FORECAST(G8,C8:C9,D8:D9) -> 93.333333 | G8: 300 | J8: 85 | K8: 350 | M8: =FORECAST(N8,J8:J9,K8:K9) -> 93.333333 | N8: 300 | Q8: 65 | R8: =K8*2 -> 700 | T8: =FORECAST(U8,Q8:Q9,R8:R9) -> 81.666667 | U8: 600 | X8: 65 | Y8: =K8*4 -> 1400 | AA8: =FORECAST(AB8,X8:X9,Y8:Y9) -> 81.666667 | AB8: 1200
C9: 105 | D9: 230 | F9: =C9 -> 105 | G9: =D9 -> 230 | J9: 105 | K9: 230 | M9: =J9 -> 105 | N9: =K9 -> 230 | Q9: 105 | R9: =K9*2 -> 460 | T9: =Q9 -> 105 | U9: =R9 -> 460 | X9: 105 | Y9: =K9*4 -> 920 | AA9: =X9 -> 105 | AB9: =Y9 -> 920
C10: 105 | D10: 0 | F10: =C10 -> 105 | G10: =D10 -> 0 | J10: 105 | K10: 0 | M10: =J10 -> 105 | N10: =K10 -> 0 | Q10: 105 | R10: =K10*2 -> 0 | T10: =Q10 -> 105 | U10: =R10 -> 0 | X10: 105 | Y10: =K10*4 -> 0 | AA10: =X10 -> 105 | AB10: =Y10 -> 0
B27: ディレーティング(最終) | S27: 81.666667 | AF27: Tc(℃) | AG27: IF(mA) | AH27: 光束(%) | AI27: 時間(h)
F28: 傾き | G28: =SLOPE(G33:G34,F33:F34) -> -6 | M28: 傾き | N28: =SLOPE(N33:N34,M33:M34) -> -6 | T28: 傾き | U28: =SLOPE(U33:U34,T33:T34) -> -6 | AA28: 傾き | AB28: =SLOPE(AB33:AB34,AA33:AA34) -> -12 | AF28: 85 | AG28: 1080 | AH28: 0.97651678 | AI28: 3000
F29: 切片 | G29: =INTERCEPT(G33:G34,F33:F34) -> 860 | M29: 切片 | N29: =INTERCEPT(N33:N34,M33:M34) -> 860 | T29: 切片 | U29: =INTERCEPT(U33:U34,T33:T34) -> 1090 | AA29: 切片 | AB29: =INTERCEPT(AB33:AB34,AA33:AA34) -> 2180 | AF29: 85 | AG29: 1200 | AH29: 0.96386429 | AI29: 3000
C30: CLU7B2-0701C4 | J30: CLU7A2-1201C9 | Q30: CLU702-1202C9 | X30: CLU712-1204C9 | AF30: 85 | AG30: 1400 | AH30: 0.96176232 | AI30: 3000
C31: Tc[℃] | D31: IF[mA] | F31: Tc[℃] | G31: IF[mA] | H31: 樹脂温度 | I31: Tj | J31: Tc[℃] | K31: IF[mA] | M31: Tc[℃] | N31: IF[mA] | O31: 樹脂温度 | P31: Tj | Q31: Tc[℃] | R31: IF[mA] | T31: Tc[℃] | U31: IF[mA] | V31: 樹脂温度 | W31: Tj | X31: Tc[℃] | Y31: IF[mA] | AA31: Tc[℃] | AB31: IF[mA] | AC31: 樹脂温度 | AD31: Tj | AF31: 85 | AG31: 1600 | AH31: 0.96429673 | AI31: 3000
C32: 0 | D32: 350 | F32: =C32 -> 0 | G32: 300 | J32: 0 | K32: 350 | M32: =J32 -> 0 | N32: 300 | Q32: 0 | R32: =K32*2 -> 700 | T32: =Q32 -> 0 | U32: =U33 -> 600 | X32: 0 | Y32: =K32*4 -> 1400 | AA32: =X32 -> 0 | AB32: =AB33 -> 1200 | AF32: 105 | AG32: 920 | AH32: 0.97003976 | AI32: 3000
C33: 85 | D33: 350 | F33: =FORECAST(G33,C33:C34,D33:D34) -> 93.333333 | G33: 300 | H33: 144.13328 | I33: 129 | J33: 85 | K33: 350 | M33: =FORECAST(N33,J33:J34,K33:K34) -> 93.333333 | N33: 300 | O33: 162.82385 | P33: 127 | Q33: 65 | R33: =K33*2 -> 700 | T33: =FORECAST(U33,Q33:Q34,R33:R34) -> 81.666667 | U33: 600 | V33: 197.69609 | W33: 118 | X33: 65 | Y33: =K33*4 -> 1400 | AA33: =FORECAST(AB33,X33:X34,Y33:Y34) -> 81.666667 | AB33: 1200 | AC33: 198.4523 | AD33: 123 | AF33: 105 | AG33: 1080 | AH33: 0.98530737 | AI33: 3000
C34: 105 | D34: 230 | F34: =C34 -> 105 | G34: =D34 -> 230 | H34: 148.73792 | I34: 132 | J34: 105 | K34: 230 | M34: =J34 -> 105 | N34: =K34 -> 230 | O34: 162.35872 | P34: 130 | Q34: 105 | R34: =K34*2 -> 460 | T34: =Q34 -> 105 | U34: =R34 -> 460 | V34: 196.25767 | W34: 132 | X34: 105 | Y34: =K34*4 -> 920 | AA34: =X34 -> 105 | AB34: =Y34 -> 920 | AC34: 196.81162 | AD34: 135 | AF34: 105 | AG34: 1400 | AH34: 0.98390056 | AI34: 3000
C35: 105 | D35: 0 | F35: =C35 -> 105 | G35: =D35 -> 0 | J35: 105 | K35: 0 | M35: =J35 -> 105 | N35: =K35 -> 0 | Q35: 105 | R35: =K35*2 -> 0 | T35: =Q35 -> 105 | U35: =R35 -> 0 | X35: 105 | Y35: =K35*4 -> 0 | AA35: =X35 -> 105 | AB35: =Y35 -> 0 | AF35: 120 | AG35: 1200 | AH35: 0.97944992 | AI35: 2000
B52: ディレーティング(Lifen/XAL/Cooper暫定)
F53: 傾き | G53: =SLOPE(G58:G59,F58:F59) -> -6 | M53: 傾き | N53: =SLOPE(N58:N59,M58:M59) -> -6 | T53: 傾き | U53: =SLOPE(U58:U59,T58:T59) -> -6 | AA53: 傾き | AB53: =SLOPE(AB58:AB59,AA58:AA59) -> -12
F54: 切片 | G54: =INTERCEPT(G58:G59,F58:F59) -> 860 | M54: 切片 | N54: =INTERCEPT(N58:N59,M58:M59) -> 860 | T54: 切片 | U54: =INTERCEPT(U58:U59,T58:T59) -> 1090 | AA54: 切片 | AB54: =INTERCEPT(AB58:AB59,AA58:AA59) -> 2180
C55: CLU7B2-0701C4 | J55: CLU7A2-1201C9 | Q55: CLU702-1202C9 | X55: CLU712-1204C9
C56: Tc[℃] | D56: IF[mA] | F56: Tc[℃] | G56: IF[mA] | J56: Tc[℃] | K56: IF[mA] | M56: Tc[℃] | N56: IF[mA] | Q56: Tc[℃] | R56: IF[mA] | T56: Tc[℃] | U56: IF[mA] | X56: Tc[℃] | Y56: IF[mA] | AA56: Tc[℃] | AB56: IF[mA]
C57: 0 | D57: 350 | F57: =C57 -> 0 | G57: 300 | J57: 0 | K57: 350 | M57: =J57 -> 0 | N57: 300 | Q57: 0 | R57: =K57*2 -> 700 | T57: =Q57 -> 0 | U57: =U58 -> 600 | X57: 0 | Y57: =K57*4 -> 1400 | AA57: =X57 -> 0 | AB57: =AB58 -> 1200
C58: 85 | D58: 350 | F58: =FORECAST(G58,C58:C59,D58:D59) -> 93.333333 | G58: 300 | J58: 85 | K58: 350 | M58: =FORECAST(N58,J58:J59,K58:K59) -> 93.333333 | N58: 300 | Q58: 65 | R58: =K58*2 -> 700 | T58: =FORECAST(U58,Q58:Q59,R58:R59) -> 81.666667 | U58: 600 | X58: 65 | Y58: =K58*4 -> 1400 | AA58: =FORECAST(AB58,X58:X59,Y58:Y59) -> 81.666667 | AB58: 1200
C59: 105 | D59: 230 | F59: =C59 -> 105 | G59: =D59 -> 230 | J59: 105 | K59: 230 | M59: =J59 -> 105 | N59: =K59 -> 230 | Q59: 105 | R59: =K59*2 -> 460 | T59: =Q59 -> 105 | U59: =R59 -> 460 | X59: 105 | Y59: =K59*4 -> 920 | AA59: =X59 -> 105 | AB59: =Y59 -> 920
C60: 105 | D60: 0 | F60: =C60 -> 105 | G60: =D60 -> 0 | J60: 105 | K60: 0 | M60: =J60 -> 105 | N60: =K60 -> 0 | Q60: 105 | R60: =K60*2 -> 0 | T60: =Q60 -> 105 | U60: =R60 -> 0 | X60: 105 | Y60: =K60*4 -> 0 | AA60: =X60 -> 105 | AB60: =Y60 -> 0
B77: ディレーティング(暫定)
C79: CLU7B2-0701C4 | J79: CLU7A2-1201C9 | Q79: CLU702-1202C9 | X79: CLU712-1204C9
C80: Tc[℃] | D80: IF[mA] | J80: Tc[℃] | K80: IF[mA] | Q80: Tc[℃] | R80: IF[mA] | X80: Tc[℃] | Y80: IF[mA]
C81: 0 | D81: 350 | J81: 0 | K81: 350 | Q81: 0 | R81: =K81*2 -> 700 | X81: 0 | Y81: =K81*4 -> 1400
C82: 85 | D82: 350 | F82: 傾き | G82: =SLOPE(D82:D83,C82:C83) -> -6 | J82: 85 | K82: 350 | M82: 傾き | N82: =SLOPE(K82:K83,J82:J83) -> -6 | Q82: 65 | R82: =K82*2 -> 700 | T82: 傾き | U82: =SLOPE(R82:R83,Q82:Q83) -> -6 | X82: 65 | Y82: =K82*4 -> 1400 | AA82: 傾き | AB82: =SLOPE(Y82:Y83,X82:X83) -> -12
C83: 105 | D83: 230 | F83: 切片 | G83: =INTERCEPT(D82:D83,C82:C83) -> 860 | J83: 105 | K83: 230 | M83: 切片 | N83: =INTERCEPT(K82:K83,J82:J83) -> 860 | Q83: 105 | R83: =K83*2 -> 460 | T83: 切片 | U83: =INTERCEPT(R82:R83,Q82:Q83) -> 1090 | X83: 105 | Y83: =K83*4 -> 920 | AA83: 切片 | AB83: =INTERCEPT(Y82:Y83,X82:X83) -> 2180
C84: 105 | D84: 0 | J84: 105 | K84: 0 | Q84: 105 | R84: =K84*2 -> 0 | X84: 105 | Y84: =K84*4 -> 0
C102: Tj=140℃ | F102: 樹脂温度=205℃ | J102: Tj=140℃ | M102: 樹脂温度=205℃ | Q102: Tj=140℃ | T102: 樹脂温度=205℃ | X102: Tj=140℃ | AA102: 樹脂温度=205℃
C103: Tc(℃) | D103: IF(mA) | F103: Tc(℃) | G103: IF(mA) | J103: Tc(℃) | K103: IF(mA) | M103: Tc(℃) | N103: IF(mA) | Q103: Tc(℃) | R103: IF(mA) | T103: Tc(℃) | U103: IF(mA) | X103: Tc(℃) | Y103: IF(mA) | AA103: Tc(℃) | AB103: IF(mA)
C104: 97.505355 | D104: 350 | F104: 90 | G104: 1021.5032 | J104: 99.911259 | K104: 350 | M104: 85 | N104: 578.64967 | Q104: 97.215386 | R104: 700 | T104: 85 | U104: 621.7131 | X104: 91.27101 | Y104: 1400 | AA104: 85 | AB104: 1234.83
C105: 113.28249 | D105: 230 | F105: 105 | G105: 802.34774 | J105: 115.24139 | K105: 230 | M105: 105 | N105: 471.78364 | Q105: 113.59101 | R105: 460 | T105: 105 | U105: 511.89325 | X105: 109.95986 | Y105: 920 | AA105: 105 | AB105: 1016.6909
C106: 127.14861 | D106: 120 | F106: 120 | G106: 641.65012 | J106: 127.99425 | K106: 120 | M106: 120 | N106: 390.86335 | Q106: 127.1991 | R106: 240 | T106: 120 | U106: 424.98316 | X106: 125.45123 | Y106: 480 | AA106: 120 | AB106: 844.03471

Sheet 最大定格(信頼性)
B2: ディレーティング(最終) | T2: 350 | U2: 119.9 | AA2: 700 | AB2: 117.3
F3: 傾き | G3: =SLOPE(G8:G9,F8:F9) -> -6 | M3: 傾き | N3: =SLOPE(N8:N9,M8:M9) -> -6 | T3: 傾き | U3: =SLOPE(U8:U9,T8:T9) -> -7 | AA3: 傾き | AB3: =SLOPE(AB8:AB9,AA8:AA9) -> -14
F4: 切片 | G4: =INTERCEPT(G8:G9,F8:F9) -> 860 | M4: 切片 | N4: =INTERCEPT(N8:N9,M8:M9) -> 860 | T4: 切片 | U4: =INTERCEPT(U8:U9,T8:T9) -> 1195 | AA4: 切片 | AB4: =INTERCEPT(AB8:AB9,AA8:AA9) -> 2390
C5: CLU7B2-0701C4 | J5: CLU7A2-1201C9 | Q5: CLU702-1202C9 | X5: CLU712-1204C9
C6: Tc[℃] | D6: IF[mA] | F6: Tc[℃] | G6: IF[mA] | J6: Tc[℃] | K6: IF[mA] | M6: Tc[℃] | N6: IF[mA] | Q6: Tc[℃] | R6: IF[mA] | T6: Tc[℃] | U6: IF[mA] | X6: Tc[℃] | Y6: IF[mA] | AA6: Tc[℃] | AB6: IF[mA]
C7: 0 | D7: 350 | F7: =C7 -> 0 | G7: 300 | J7: 0 | K7: 350 | M7: =J7 -> 0 | N7: 300 | Q7: 0 | R7: =K7*2 -> 700 | T7: =Q7 -> 0 | U7: =U8 -> 600 | X7: 0 | Y7: =K7*4 -> 1400 | AA7: =X7 -> 0 | AB7: =AB8 -> 1200
C8: 85 | D8: 350 | F8: =FORECAST(G8,C8:C9,D8:D9) -> 93.333333 | G8: 300 | J8: 85 | K8: 350 | M8: =FORECAST(N8,J8:J9,K8:K9) -> 93.333333 | N8: 300 | Q8: 65 | R8: =K8*2 -> 700 | T8: 85 | U8: 600 | X8: 65 | Y8: =K8*4 -> 1400 | AA8: 85 | AB8: 1200
C9: 105 | D9: 230 | F9: =C9 -> 105 | G9: =D9 -> 230 | J9: 105 | K9: 230 | M9: =J9 -> 105 | N9: =K9 -> 230 | Q9: 105 | R9: =K9*2 -> 460 | T9: =Q9 -> 105 | U9: =R9 -> 460 | X9: 105 | Y9: =K9*4 -> 920 | AA9: =X9 -> 105 | AB9: =Y9 -> 920
C10: 105 | D10: 0 | F10: =C10 -> 105 | G10: =D10 -> 0 | J10: 105 | K10: 0 | M10: =J10 -> 105 | N10: =K10 -> 0 | Q10: 105 | R10: =K10*2 -> 0 | T10: =Q10 -> 105 | U10: =R10 -> 0 | X10: 105 | Y10: =K10*4 -> 0 | AA10: =X10 -> 105 | AB10: =Y10 -> 0
B27: ディレーティング(最終) | S27: 81.666667 | AF27: Tc(℃) | AG27: IF(mA) | AH27: 光束(%) | AI27: 時間(h)
F28: 傾き | G28: =SLOPE(G33:G34,F33:F34) -> -6 | M28: 傾き | N28: =SLOPE(N33:N34,M33:M34) -> -6 | T28: 傾き | U28: =SLOPE(U33:U34,T33:T34) -> -6 | AA28: 傾き | AB28: =SLOPE(AB33:AB34,AA33:AA34) -> -12 | AF28: 85 | AG28: 1080 | AH28: 0.97651678 | AI28: 3000
F29: 切片 | G29: =INTERCEPT(G33:G34,F33:F34) -> 860 | M29: 切片 | N29: =INTERCEPT(N33:N34,M33:M34) -> 860 | T29: 切片 | U29: =INTERCEPT(U33:U34,T33:T34) -> 1090 | AA29: 切片 | AB29: =INTERCEPT(AB33:AB34,AA33:AA34) -> 2180 | AF29: 85 | AG29: 1200 | AH29: 0.96386429 | AI29: 3000
C30: CLU7B2-0701C4 | J30: CLU7A2-1201C9 | Q30: CLU702-1202C9 | X30: CLU712-1204C9 | AF30: 85 | AG30: 1400 | AH30: 0.96176232 | AI30: 3000
C31: Tc[℃] | D31: IF[mA] | F31: Tc[℃] | G31: IF[mA] | H31: 樹脂温度 | I31: Tj | J31: Tc[℃] | K31: IF[mA] | M31: Tc[℃] | N31: IF[mA] | O31: 樹脂温度 | P31: Tj | Q31: Tc[℃] | R31: IF[mA] | T31: Tc[℃] | U31: IF[mA] | V31: 樹脂温度 | W31: Tj | X31: Tc[℃] | Y31: IF[mA] | AA31: Tc[℃] | AB31: IF[mA] | AC31: 樹脂温度 | AD31: Tj | AF31: 85 | AG31: 1600 | AH31: 0.96429673 | AI31: 3000
C32: 0 | D32: 350 | F32: =C32 -> 0 | G32: 300 | J32: 0 | K32: 350 | M32: =J32 -> 0 | N32: 300 | Q32: 0 | R32: =K32*2 -> 700 | T32: =Q32 -> 0 | U32: =U33 -> 600 | X32: 0 | Y32: =K32*4 -> 1400 | AA32: =X32 -> 0 | AB32: =AB33 -> 1200 | AF32: 105 | AG32: 920 | AH32: 0.97003976 | AI32: 3000
C33: 85 | D33: 350 | F33: =FORECAST(G33,C33:C34,D33:D34) -> 93.333333 | G33: 300 | H33: 144.13328 | I33: 129 | J33: 85 | K33: 350 | M33: =FORECAST(N33,J33:J34,K33:K34) -> 93.333333 | N33: 300 | O33: 162.82385 | P33: 127 | Q33: 65 | R33: =K33*2 -> 700 | T33: =FORECAST(U33,Q33:Q34,R33:R34) -> 81.666667 | U33: 600 | V33: 197.69609 | W33: 118 | X33: 65 | Y33: =K33*4 -> 1400 | AA33: =FORECAST(AB33,X33:X34,Y33:Y34) -> 81.666667 | AB33: 1200 | AC33: 198.4523 | AD33: 123 | AF33: 105 | AG33: 1080 | AH33: 0.98530737 | AI33: 3000
C34: 105 | D34: 230 | F34: =C34 -> 105 | G34: =D34 -> 230 | H34: 148.73792 | I34: 132 | J34: 105 | K34: 230 | M34: =J34 -> 105 | N34: =K34 -> 230 | O34: 162.35872 | P34: 130 | Q34: 105 | R34: =K34*2 -> 460 | T34: =Q34 -> 105 | U34: =R34 -> 460 | V34: 196.25767 | W34: 132 | X34: 105 | Y34: =K34*4 -> 920 | AA34: =X34 -> 105 | AB34: =Y34 -> 920 | AC34: 196.81162 | AD34: 135 | AF34: 105 | AG34: 1400 | AH34: 0.98390056 | AI34: 3000
C35: 105 | D35: 0 | F35: =C35 -> 105 | G35: =D35 -> 0 | J35: 105 | K35: 0 | M35: =J35 -> 105 | N35: =K35 -> 0 | Q35: 105 | R35: =K35*2 -> 0 | T35: =Q35 -> 105 | U35: =R35 -> 0 | X35: 105 | Y35: =K35*4 -> 0 | AA35: =X35 -> 105 | AB35: =Y35 -> 0 | AF35: 120 | AG35: 1200 | AH35: 0.97944992 | AI35: 2000
B52: ディレーティング(Lifen/XAL/Cooper暫定)
F53: 傾き | G53: =SLOPE(G58:G59,F58:F59) -> -6 | M53: 傾き | N53: =SLOPE(N58:N59,M58:M59) -> -6 | T53: 傾き | U53: =SLOPE(U58:U59,T58:T59) -> -6 | AA53: 傾き | AB53: =SLOPE(AB58:AB59,AA58:AA59) -> -12
F54: 切片 | G54: =INTERCEPT(G58:G59,F58:F59) -> 860 | M54: 切片 | N54: =INTERCEPT(N58:N59,M58:M59) -> 860 | T54: 切片 | U54: =INTERCEPT(U58:U59,T58:T59) -> 1090 | AA54: 切片 | AB54: =INTERCEPT(AB58:AB59,AA58:AA59) -> 2180
C55: CLU7B2-0701C4 | J55: CLU7A2-1201C9 | Q55: CLU702-1202C9 | X55: CLU712-1204C9
C56: Tc[℃] | D56: IF[mA] | F56: Tc[℃] | G56: IF[mA] | J56: Tc[℃] | K56: IF[mA] | M56: Tc[℃] | N56: IF[mA] | Q56: Tc[℃] | R56: IF[mA] | T56: Tc[℃] | U56: IF[mA] | X56: Tc[℃] | Y56: IF[mA] | AA56: Tc[℃] | AB56: IF[mA]
C57: 0 | D57: 350 | F57: =C57 -> 0 | G57: 300 | J57: 0 | K57: 350 | M57: =J57 -> 0 | N57: 300 | Q57: 0 | R57: =K57*2 -> 700 | T57: =Q57 -> 0 | U57: =U58 -> 600 | X57: 0 | Y57: =K57*4 -> 1400 | AA57: =X57 -> 0 | AB57: =AB58 -> 1200
C58: 85 | D58: 350 | F58: =FORECAST(G58,C58:C59,D58:D59) -> 93.333333 | G58: 300 | J58: 85 | K58: 350 | M58: =FORECAST(N58,J58:J59,K58:K59) -> 93.333333 | N58: 300 | Q58: 65 | R58: =K58*2 -> 700 | T58: =FORECAST(U58,Q58:Q59,R58:R59) -> 81.666667 | U58: 600 | X58: 65 | Y58: =K58*4 -> 1400 | AA58: =FORECAST(AB58,X58:X59,Y58:Y59) -> 81.666667 | AB58: 1200
C59: 105 | D59: 230 | F59: =C59 -> 105 | G59: =D59 -> 230 | J59: 105 | K59: 230 | M59: =J59 -> 105 | N59: =K59 -> 230 | Q59: 105 | R59: =K59*2 -> 460 | T59: =Q59 -> 105 | U59: =R59 -> 460 | X59: 105 | Y59: =K59*4 -> 920 | AA59: =X59 -> 105 | AB59: =Y59 -> 920
C60: 105 | D60: 0 | F60: =C60 -> 105 | G60: =D60 -> 0 | J60: 105 | K60: 0 | M60: =J60 -> 105 | N60: =K60 -> 0 | Q60: 105 | R60: =K60*2 -> 0 | T60: =Q60 -> 105 | U60: =R60 -> 0 | X60: 105 | Y60: =K60*4 -> 0 | AA60: =X60 -> 105 | AB60: =Y60 -> 0
B77: ディレーティング(暫定)
C79: CLU7B2-0701C4 | J79: CLU7A2-1201C9 | Q79: CLU702-1202C9 | X79: CLU712-1204C9
C80: Tc[℃] | D80: IF[mA] | J80: Tc[℃] | K80: IF[mA] | Q80: Tc[℃] | R80: IF[mA] | X80: Tc[℃] | Y80: IF[mA]
C81: 0 | D81: 350 | J81: 0 | K81: 350 | Q81: 0 | R81: =K81*2 -> 700 | X81: 0 | Y81: =K81*4 -> 1400
C82: 85 | D82: 350 | F82: 傾き | G82: =SLOPE(D82:D83,C82:C83) -> -6 | J82: 85 | K82: 350 | M82: 傾き | N82: =SLOPE(K82:K83,J82:J83) -> -6 | Q82: 65 | R82: =K82*2 -> 700 | T82: 傾き | U82: =SLOPE(R82:R83,Q82:Q83) -> -6 | X82: 65 | Y82: =K82*4 -> 1400 | AA82: 傾き | AB82: =SLOPE(Y82:Y83,X82:X83) -> -12
C83: 105 | D83: 230 | F83: 切片 | G83: =INTERCEPT(D82:D83,C82:C83) -> 860 | J83: 105 | K83: 230 | M83: 切片 | N83: =INTERCEPT(K82:K83,J82:J83) -> 860 | Q83: 105 | R83: =K83*2 -> 460 | T83: 切片 | U83: =INTERCEPT(R82:R83,Q82:Q83) -> 1090 | X83: 105 | Y83: =K83*4 -> 920 | AA83: 切片 | AB83: =INTERCEPT(Y82:Y83,X82:X83) -> 2180
C84: 105 | D84: 0 | J84: 105 | K84: 0 | Q84: 105 | R84: =K84*2 -> 0 | X84: 105 | Y84: =K84*4 -> 0
C102: Tj=140℃ | F102: 樹脂温度=205℃ | J102: Tj=140℃ | M102: 樹脂温度=205℃ | Q102: Tj=140℃ | T102: 樹脂温度=205℃ | X102: Tj=140℃ | AA102: 樹脂温度=205℃
C103: Tc(℃) | D103: IF(mA) | F103: Tc(℃) | G103: IF(mA) | J103: Tc(℃) | K103: IF(mA) | M103: Tc(℃) | N103: IF(mA) | Q103: Tc(℃) | R103: IF(mA) | T103: Tc(℃) | U103: IF(mA) | X103: Tc(℃) | Y103: IF(mA) | AA103: Tc(℃) | AB103: IF(mA)
C104: 97.505355 | D104: 350 | F104: 90 | G104: 1021.5032 | J104: 99.911259 | K104: 350 | M104: 85 | N104: 578.64967 | Q104: 97.215386 | R104: 700 | T104: 85 | U104: 621.7131 | X104: 91.27101 | Y104: 1400 | AA104: 85 | AB104: 1234.83
C105: 113.28249 | D105: 230 | F105: 105 | G105: 802.34774 | J105: 115.24139 | K105: 230 | M105: 105 | N105: 471.78364 | Q105: 113.59101 | R105: 460 | T105: 105 | U105: 511.89325 | X105: 109.95986 | Y105: 920 | AA105: 105 | AB105: 1016.6909
C106: 127.14861 | D106: 120 | F106: 120 | G106: 641.65012 | J106: 127.99425 | K106: 120 | M106: 120 | N106: 390.86335 | Q106: 127.1991 | R106: 240 | T106: 120 | U106: 424.98316 | X106: 125.45123 | Y106: 480 | AA106: 120 | AB106: 844.03471

Sheet 最大定格(信頼性) (2)
B2: ディレーティング(最終) | T2: 350 | U2: 119.9 | AA2: 700 | AB2: 117.3
F3: 傾き | G3: =SLOPE(G8:G9,F8:F9) -> -6 | M3: 傾き | N3: =SLOPE(N8:N9,M8:M9) -> -6 | T3: 傾き | U3: =SLOPE(U8:U9,T8:T9) -> -6 | AA3: 傾き | AB3: =SLOPE(AB8:AB9,AA8:AA9) -> -17.142857
F4: 切片 | G4: =INTERCEPT(G8:G9,F8:F9) -> 860 | M4: 切片 | N4: =INTERCEPT(N8:N9,M8:M9) -> 860 | T4: 切片 | U4: =INTERCEPT(U8:U9,T8:T9) -> 1090 | AA4: 切片 | AB4: =INTERCEPT(AB8:AB9,AA8:AA9) -> 2600 | AD4: 元々のディレーティング
C5: CLU7B2-0701C4 | J5: CLU7A2-1201C9 | Q5: CLU702-1202C9 | X5: CLU712-1204C9 | AD5: CLU712-1204C9
C6: Tc[℃] | D6: IF[mA] | F6: Tc[℃] | G6: IF[mA] | J6: Tc[℃] | K6: IF[mA] | M6: Tc[℃] | N6: IF[mA] | Q6: Tc[℃] | R6: IF[mA] | T6: Tc[℃] | U6: IF[mA] | X6: Tc[℃] | Y6: IF[mA] | AA6: Tc[℃] | AB6: IF[mA] | AD6: Tc[℃] | AE6: IF[mA] | AG6: Tc[℃] | AH6: IF[mA]
C7: 0 | D7: 350 | F7: =C7 -> 0 | G7: 300 | J7: 0 | K7: 350 | M7: =J7 -> 0 | N7: 300 | Q7: 0 | R7: =K7*2 -> 700 | T7: =Q7 -> 0 | U7: =U8 -> 600 | X7: 0 | Y7: =K7*4 -> 1400 | AA7: =X7 -> 0 | AB7: =AB8 -> 1200 | AD7: 0 | AE7: =K7*4 -> 1400 | AG7: =AD7 -> 0 | AH7: =AH8 -> 1200
C8: 85 | D8: 350 | F8: =FORECAST(G8,C8:C9,D8:D9) -> 93.333333 | G8: 300 | J8: 85 | K8: 350 | M8: =FORECAST(N8,J8:J9,K8:K9) -> 93.333333 | N8: 300 | Q8: 65 | R8: =K8*2 -> 700 | T8: =FORECAST(U8,Q8:Q9,R8:R9) -> 81.666667 | U8: 600 | X8: 65 | Y8: =K8*4 -> 1400 | AA8: =AG8 -> 81.666667 | AB8: 1200 | AD8: 65 | AE8: =K8*4 -> 1400 | AG8: =FORECAST(AH8,AD8:AD9,AE8:AE9) -> 81.666667 | AH8: 1200
C9: 105 | D9: 230 | F9: =C9 -> 105 | G9: =D9 -> 230 | J9: 105 | K9: 230 | M9: =J9 -> 105 | N9: =K9 -> 230 | Q9: 105 | R9: =230*2 -> 460 | T9: =Q9 -> 105 | U9: =R9 -> 460 | X9: 105 | Y9: =200*4 -> 800 | AA9: =X9 -> 105 | AB9: =Y9 -> 800 | AD9: 105 | AE9: =230*4 -> 920 | AG9: =AD9 -> 105 | AH9: =AE9 -> 920
C10: 105 | D10: 0 | F10: =C10 -> 105 | G10: =D10 -> 0 | J10: 105 | K10: 0 | M10: =J10 -> 105 | N10: =K10 -> 0 | Q10: 105 | R10: =K10*2 -> 0 | T10: =Q10 -> 105 | U10: =R10 -> 0 | X10: 105 | Y10: =K10*4 -> 0 | AA10: =X10 -> 105 | AB10: =Y10 -> 0 | AD10: 105 | AE10: =K10*4 -> 0 | AG10: =AD10 -> 105 | AH10: =AE10 -> 0
B27: ディレーティング(最終) | T27: 350 | U27: 119.9 | AA27: 700 | AB27: 117.3
F28: 傾き | G28: =SLOPE(G33:G34,F33:F34) -> -6 | M28: 傾き | N28: =SLOPE(N33:N34,M33:M34) -> -6 | T28: 傾き | U28: =SLOPE(U33:U34,T33:T34) -> -7 | AA28: 傾き | AB28: =SLOPE(AB33:AB34,AA33:AA34) -> -14
F29: 切片 | G29: =INTERCEPT(G33:G34,F33:F34) -> 860 | M29: 切片 | N29: =INTERCEPT(N33:N34,M33:M34) -> 860 | T29: 切片 | U29: =INTERCEPT(U33:U34,T33:T34) -> 1195 | AA29: 切片 | AB29: =INTERCEPT(AB33:AB34,AA33:AA34) -> 2390
C30: CLU7B2-0701C4 | J30: CLU7A2-1201C9 | Q30: CLU702-1202C9 | X30: CLU712-1204C9
C31: Tc[℃] | D31: IF[mA] | F31: Tc[℃] | G31: IF[mA] | J31: Tc[℃] | K31: IF[mA] | M31: Tc[℃] | N31: IF[mA] | Q31: Tc[℃] | R31: IF[mA] | T31: Tc[℃] | U31: IF[mA] | X31: Tc[℃] | Y31: IF[mA] | AA31: Tc[℃] | AB31: IF[mA]
C32: 0 | D32: 350 | F32: =C32 -> 0 | G32: 300 | J32: 0 | K32: 350 | M32: =J32 -> 0 | N32: 300 | Q32: 0 | R32: =K32*2 -> 700 | T32: =Q32 -> 0 | U32: =U33 -> 600 | X32: 0 | Y32: =K32*4 -> 1400 | AA32: =X32 -> 0 | AB32: =AB33 -> 1200
C33: 85 | D33: 350 | F33: =FORECAST(G33,C33:C34,D33:D34) -> 93.333333 | G33: 300 | J33: 85 | K33: 350 | M33: =FORECAST(N33,J33:J34,K33:K34) -> 93.333333 | N33: 300 | Q33: 65 | R33: =K33*2 -> 700 | T33: 85 | U33: 600 | X33: 65 | Y33: =K33*4 -> 1400 | AA33: 85 | AB33: 1200
C34: 105 | D34: 230 | F34: =C34 -> 105 | G34: =D34 -> 230 | J34: 105 | K34: 230 | M34: =J34 -> 105 | N34: =K34 -> 230 | Q34: 105 | R34: =K34*2 -> 460 | T34: =Q34 -> 105 | U34: =R34 -> 460 | X34: 105 | Y34: =K34*4 -> 920 | AA34: =X34 -> 105 | AB34: =Y34 -> 920
C35: 105 | D35: 0 | F35: =C35 -> 105 | G35: =D35 -> 0 | J35: 105 | K35: 0 | M35: =J35 -> 105 | N35: =K35 -> 0 | Q35: 105 | R35: =K35*2 -> 0 | T35: =Q35 -> 105 | U35: =R35 -> 0 | X35: 105 | Y35: =K35*4 -> 0 | AA35: =X35 -> 105 | AB35: =Y35 -> 0
B52: ディレーティング(最終) | S52: 81.666667 | AF52: Tc(℃) | AG52: IF(mA) | AH52: 光束(%) | AI52: 時間(h)
F53: 傾き | G53: =SLOPE(G58:G59,F58:F59) -> -6 | M53: 傾き | N53: =SLOPE(N58:N59,M58:M59) -> -6 | T53: 傾き | U53: =SLOPE(U58:U59,T58:T59) -> -6 | AA53: 傾き | AB53: =SLOPE(AB58:AB59,AA58:AA59) -> -12 | AF53: 85 | AG53: 1080 | AH53: 0.97651678 | AI53: 3000
F54: 切片 | G54: =INTERCEPT(G58:G59,F58:F59) -> 860 | M54: 切片 | N54: =INTERCEPT(N58:N59,M58:M59) -> 860 | T54: 切片 | U54: =INTERCEPT(U58:U59,T58:T59) -> 1090 | AA54: 切片 | AB54: =INTERCEPT(AB58:AB59,AA58:AA59) -> 2180 | AF54: 85 | AG54: 1200 | AH54: 0.96386429 | AI54: 3000
C55: CLU7B2-0701C4 | J55: CLU7A2-1201C9 | Q55: CLU702-1202C9 | X55: CLU712-1204C9 | AF55: 85 | AG55: 1400 | AH55: 0.96176232 | AI55: 3000
C56: Tc[℃] | D56: IF[mA] | F56: Tc[℃] | G56: IF[mA] | H56: 樹脂温度 | I56: Tj | J56: Tc[℃] | K56: IF[mA] | M56: Tc[℃] | N56: IF[mA] | O56: 樹脂温度 | P56: Tj | Q56: Tc[℃] | R56: IF[mA] | T56: Tc[℃] | U56: IF[mA] | V56: 樹脂温度 | W56: Tj | X56: Tc[℃] | Y56: IF[mA] | AA56: Tc[℃] | AB56: IF[mA] | AC56: 樹脂温度 | AD56: Tj | AF56: 85 | AG56: 1600 | AH56: 0.96429673 | AI56: 3000
C57: 0 | D57: 350 | F57: =C57 -> 0 | G57: 300 | J57: 0 | K57: 350 | M57: =J57 -> 0 | N57: 300 | Q57: 0 | R57: =K57*2 -> 700 | T57: =Q57 -> 0 | U57: =U58 -> 600 | X57: 0 | Y57: =K57*4 -> 1400 | AA57: =X57 -> 0 | AB57: =AB58 -> 1200 | AF57: 105 | AG57: 920 | AH57: 0.97003976 | AI57: 3000
C58: 85 | D58: 350 | F58: =FORECAST(G58,C58:C59,D58:D59) -> 93.333333 | G58: 300 | H58: 144.13328 | I58: 129 | J58: 85 | K58: 350 | M58: =FORECAST(N58,J58:J59,K58:K59) -> 93.333333 | N58: 300 | O58: 162.82385 | P58: 127 | Q58: 65 | R58: =K58*2 -> 700 | T58: =FORECAST(U58,Q58:Q59,R58:R59) -> 81.666667 | U58: 600 | V58: 197.69609 | W58: 118 | X58: 65 | Y58: =K58*4 -> 1400 | AA58: =FORECAST(AB58,X58:X59,Y58:Y59) -> 81.666667 | AB58: 1200 | AC58: 198.4523 | AD58: 123 | AF58: 105 | AG58: 1080 | AH58: 0.98530737 | AI58: 3000
C59: 105 | D59: 230 | F59: =C59 -> 105 | G59: =D59 -> 230 | H59: 148.73792 | I59: 132 | J59: 105 | K59: 230 | M59: =J59 -> 105 | N59: =K59 -> 230 | O59: 162.35872 | P59: 130 | Q59: 105 | R59: =K59*2 -> 460 | T59: =Q59 -> 105 | U59: =R59 -> 460 | V59: 196.25767 | W59: 132 | X59: 105 | Y59: =K59*4 -> 920 | AA59: =X59 -> 105 | AB59: =Y59 -> 920 | AC59: 196.81162 | AD59: 135 | AF59: 105 | AG59: 1400 | AH59: 0.98390056 | AI59: 3000
C60: 105 | D60: 0 | F60: =C60 -> 105 | G60: =D60 -> 0 | J60: 105 | K60: 0 | M60: =J60 -> 105 | N60: =K60 -> 0 | Q60: 105 | R60: =K60*2 -> 0 | T60: =Q60 -> 105 | U60: =R60 -> 0 | X60: 105 | Y60: =K60*4 -> 0 | AA60: =X60 -> 105 | AB60: =Y60 -> 0 | AF60: 120 | AG60: 1200 | AH60: 0.97944992 | AI60: 2000
B77: ディレーティング(Lifen/XAL/Cooper暫定)
F78: 傾き | G78: =SLOPE(G83:G84,F83:F84) -> -6 | M78: 傾き | N78: =SLOPE(N83:N84,M83:M84) -> -6 | T78: 傾き | U78: =SLOPE(U83:U84,T83:T84) -> -6 | AA78: 傾き | AB78: =SLOPE(AB83:AB84,AA83:AA84) -> -12
F79: 切片 | G79: =INTERCEPT(G83:G84,F83:F84) -> 860 | M79: 切片 | N79: =INTERCEPT(N83:N84,M83:M84) -> 860 | T79: 切片 | U79: =INTERCEPT(U83:U84,T83:T84) -> 1090 | AA79: 切片 | AB79: =INTERCEPT(AB83:AB84,AA83:AA84) -> 2180
C80: CLU7B2-0701C4 | J80: CLU7A2-1201C9 | Q80: CLU702-1202C9 | X80: CLU712-1204C9
C81: Tc[℃] | D81: IF[mA] | F81: Tc[℃] | G81: IF[mA] | J81: Tc[℃] | K81: IF[mA] | M81: Tc[℃] | N81: IF[mA] | Q81: Tc[℃] | R81: IF[mA] | T81: Tc[℃] | U81: IF[mA] | X81: Tc[℃] | Y81: IF[mA] | AA81: Tc[℃] | AB81: IF[mA]
C82: 0 | D82: 350 | F82: =C82 -> 0 | G82: 300 | J82: 0 | K82: 350 | M82: =J82 -> 0 | N82: 300 | Q82: 0 | R82: =K82*2 -> 700 | T82: =Q82 -> 0 | U82: =U83 -> 600 | X82: 0 | Y82: =K82*4 -> 1400 | AA82: =X82 -> 0 | AB82: =AB83 -> 1200
C83: 85 | D83: 350 | F83: =FORECAST(G83,C83:C84,D83:D84) -> 93.333333 | G83: 300 | J83: 85 | K83: 350 | M83: =FORECAST(N83,J83:J84,K83:K84) -> 93.333333 | N83: 300 | Q83: 65 | R83: =K83*2 -> 700 | T83: =FORECAST(U83,Q83:Q84,R83:R84) -> 81.666667 | U83: 600 | X83: 65 | Y83: =K83*4 -> 1400 | AA83: =FORECAST(AB83,X83:X84,Y83:Y84) -> 81.666667 | AB83: 1200
C84: 105 | D84: 230 | F84: =C84 -> 105 | G84: =D84 -> 230 | J84: 105 | K84: 230 | M84: =J84 -> 105 | N84: =K84 -> 230 | Q84: 105 | R84: =K84*2 -> 460 | T84: =Q84 -> 105 | U84: =R84 -> 460 | X84: 105 | Y84: =K84*4 -> 920 | AA84: =X84 -> 105 | AB84: =Y84 -> 920
C85: 105 | D85: 0 | F85: =C85 -> 105 | G85: =D85 -> 0 | J85: 105 | K85: 0 | M85: =J85 -> 105 | N85: =K85 -> 0 | Q85: 105 | R85: =K85*2 -> 0 | T85: =Q85 -> 105 | U85: =R85 -> 0 | X85: 105 | Y85: =K85*4 -> 0 | AA85: =X85 -> 105 | AB85: =Y85 -> 0
B102: ディレーティング(暫定)
C104: CLU7B2-0701C4 | J104: CLU7A2-1201C9 | Q104: CLU702-1202C9 | X104: CLU712-1204C9
C105: Tc[℃] | D105: IF[mA] | J105: Tc[℃] | K105: IF[mA] | Q105: Tc[℃] | R105: IF[mA] | X105: Tc[℃] | Y105: IF[mA]
C106: 0 | D106: 350 | J106: 0 | K106: 350 | Q106: 0 | R106: =K106*2 -> 700 | X106: 0 | Y106: =K106*4 -> 1400
C107: 85 | D107: 350 | F107: 傾き | G107: =SLOPE(D107:D108,C107:C108) -> -6 | J107: 85 | K107: 350 | M107: 傾き | N107: =SLOPE(K107:K108,J107:J108) -> -6 | Q107: 65 | R107: =K107*2 -> 700 | T107: 傾き | U107: =SLOPE(R107:R108,Q107:Q108) -> -6 | X107: 65 | Y107: =K107*4 -> 1400 | AA107: 傾き | AB107: =SLOPE(Y107:Y108,X107:X108) -> -12
C108: 105 | D108: 230 | F108: 切片 | G108: =INTERCEPT(D107:D108,C107:C108) -> 860 | J108: 105 | K108: 230 | M108: 切片 | N108: =INTERCEPT(K107:K108,J107:J108) -> 860 | Q108: 105 | R108: =K108*2 -> 460 | T108: 切片 | U108: =INTERCEPT(R107:R108,Q107:Q108) -> 1090 | X108: 105 | Y108: =K108*4 -> 920 | AA108: 切片 | AB108: =INTERCEPT(Y107:Y108,X107:X108) -> 2180
C109: 105 | D109: 0 | J109: 105 | K109: 0 | Q109: 105 | R109: =K109*2 -> 0 | X109: 105 | Y109: =K109*4 -> 0
C126: φ280um
C127: Tj=140℃ | F127: 樹脂温度=205℃ | J127: Tj=140℃ | M127: 樹脂温度=205℃ | Q127: Tj=140℃ | T127: 樹脂温度=205℃ | X127: Tj=140℃ | AA127: 樹脂温度=205℃
C128: Tc(℃) | D128: IF(mA) | F128: Tc(℃) | G128: IF(mA) | J128: Tc(℃) | K128: IF(mA) | M128: Tc(℃) | N128: IF(mA) | Q128: Tc(℃) | R128: IF(mA) | T128: Tc(℃) | U128: IF(mA) | X128: Tc(℃) | Y128: IF(mA) | AA128: Tc(℃) | AB128: IF(mA)
C129: 104.05409 | D129: 300 | F129: 90 | G129: 1021.5032 | J129: 106.42575 | K129: 300 | M129: 85 | N129: 578.64967 | Q129: 104.17683 | R129: 600 | T129: 85 | U129: 621.7131 | X129: 99.222874 | Y129: 1200 | AA129: 85 | AB129: 1234.83
C130: 113.28249 | D130: 230 | F130: 105 | G130: 802.34774 | J130: 115.22611 | K130: 230 | M130: 105 | N130: 471.78364 | Q130: 113.5747 | R130: 460 | T130: 105 | U130: 511.89325 | X130: 109.94127 | Y130: 920 | AA130: 105 | AB130: 1016.6909
C131: 127.14861 | D131: 120 | F131: 120 | G131: 641.65012 | J131: 127.98689 | K131: 120 | M131: 120 | N131: 390.86335 | Q131: 127.19125 | R131: 240 | T131: 120 | U131: 424.98316 | X131: 125.44229 | Y131: 480 | AA131: 120 | AB131: 844.03471
C133: φ310um
C134: Tj=140℃ | J134: Tj=140℃ | Q134: Tj=140℃ | X134: Tj=140℃
C135: Tc(℃) | D135: IF(mA) | J135: Tc(℃) | K135: IF(mA) | Q135: Tc(℃) | R135: IF(mA) | X135: Tc(℃) | Y135: IF(mA)
C136: 96.642046 | D136: 300 | J136: 99.50394 | K136: 300 | Q136: 96.779974 | R136: 600 | X136: 90.773236 | Y136: 1200
C137: 107.81022 | D137: 230 | J137: 110.14725 | K137: 230 | Q137: 108.15221 | R137: 460 | X137: 103.75859 | Y137: 920
C138: 124.53472 | D138: 120 | J138: 125.54133 | K138: 120 | Q138: 124.58237 | R138: 240 | X138: 122.47491 | Y138: 480

Sheet 最大定格(信頼性) (3)
B2: ディレーティング(最終) | T2: 350 | U2: 119.9 | AA2: 700 | AB2: 117.3
F3: 傾き | G3: =SLOPE(G8:G9,F8:F9) -> -6 | M3: 傾き | N3: =SLOPE(N8:N9,M8:M9) -> -6 | T3: 傾き | U3: =SLOPE(U8:U9,T8:T9) -> -7.7142857 | AA3: 傾き | AB3: =SLOPE(AB8:AB9,AA8:AA9) -> -13.714286
F4: 切片 | G4: =INTERCEPT(G8:G9,F8:F9) -> 860 | M4: 切片 | N4: =INTERCEPT(N8:N9,M8:M9) -> 860 | T4: 切片 | U4: =INTERCEPT(U8:U9,T8:T9) -> 1230 | AA4: 切片 | AB4: =INTERCEPT(AB8:AB9,AA8:AA9) -> 2320 | AD4: 元々のディレーティング | AJ4: 元々のディレーティング | AX4: 傾き | AY4: =SLOPE(AY9:AY10,AX9:AX10) -> -6 | BG4: 傾き | BH4: =SLOPE(BH9:BH10,BG9:BG10) -> -18
C5: CLU7B2-0701C4 | J5: CLU7A2-1201C9 | Q5: CLU702-1202C9 | X5: CLU712-1204C9 | AD5: CLU712-1204C9 | AJ5: CLU702-1202C9 | AX5: 切片 | AY5: =INTERCEPT(AY9:AY10,AX9:AX10) -> 860 | BG5: 切片 | BH5: =INTERCEPT(BH9:BH10,BG9:BG10) -> 2580
C6: Tc[℃] | D6: IF[mA] | F6: Tc[℃] | G6: IF[mA] | J6: Tc[℃] | K6: IF[mA] | M6: Tc[℃] | N6: IF[mA] | Q6: Tc[℃] | R6: IF[mA] | T6: Tc[℃] | U6: IF[mA] | X6: Tc[℃] | Y6: IF[mA] | AA6: Tc[℃] | AB6: IF[mA] | AD6: Tc[℃] | AE6: IF[mA] | AG6: Tc[℃] | AH6: IF[mA] | AJ6: Tc[℃] | AK6: IF[mA] | AM6: Tc[℃] | AN6: IF[mA] | AU6: CLU7A2-1001C9 | BD6: CLU7A2-0403C9
C7: 0 | D7: 350 | F7: =C7 -> 0 | G7: =G8 -> 300 | J7: 0 | K7: 350 | M7: =J7 -> 0 | N7: =N8 -> 300 | Q7: 0 | R7: =K7*2 -> 700 | T7: =Q7 -> 0 | U7: =U8 -> 600 | X7: 0 | Y7: =K7*4 -> 1400 | AA7: =X7 -> 0 | AB7: =AB8 -> 1200 | AD7: 0 | AE7: =K7*4 -> 1400 | AG7: =AD7 -> 0 | AH7: =AH8 -> 1200 | AJ7: 0 | AK7: =K7*2 -> 700 | AM7: =Q7 -> 0 | AN7: =U8 -> 600 | AU7: Tc[℃] | AV7: IF[mA] | AX7: Tc[℃] | AY7: IF[mA] | BD7: Tc[℃] | BE7: IF[mA] | BG7: Tc[℃] | BH7: IF[mA]
C8: 85 | D8: 350 | F8: =FORECAST(G8,C8:C9,D8:D9) -> 93.333333 | G8: 300 | J8: 85 | K8: 350 | M8: =FORECAST(N8,J8:J9,K8:K9) -> 93.333333 | N8: 300 | Q8: 65 | R8: =K8*2 -> 700 | T8: =AM8 -> 81.666667 | U8: =300*2 -> 600 | X8: 65 | Y8: =K8*4 -> 1400 | AA8: =AG8 -> 81.666667 | AB8: =300*4 -> 1200 | AD8: 65 | AE8: =K8*4 -> 1400 | AG8: =FORECAST(AH8,AD8:AD9,AE8:AE9) -> 81.666667 | AH8: =300*4 -> 1200 | AJ8: 65 | AK8: =K8*2 -> 700 | AM8: =FORECAST(AN8,AJ8:AJ9,AK8:AK9) -> 81.666667 | AN8: =300*2 -> 600 | AU8: 0 | AV8: 350 | AX8: =AU8 -> 0 | AY8: =AY9 -> 300 | BD8: 0 | BE8: =K7*3 -> 1050 | BG8: =BD8 -> 0 | BH8: =BH9 -> 900
C9: 105 | D9: 230 | F9: =C9 -> 105 | G9: =D9 -> 230 | J9: 105 | K9: 230 | M9: =J9 -> 105 | N9: =K9 -> 230 | Q9: 105 | R9: =210*2 -> 420 | T9: =Q9 -> 105 | U9: =R9 -> 420 | X9: 105 | Y9: =220*4 -> 880 | AA9: =X9 -> 105 | AB9: =Y9 -> 880 | AD9: 105 | AE9: =230*4 -> 920 | AG9: =AD9 -> 105 | AH9: =AE9 -> 920 | AJ9: 105 | AK9: =230*2 -> 460 | AM9: =Q9 -> 105 | AN9: =AK9 -> 460 | AU9: 85 | AV9: 350 | AX9: =FORECAST(AY9,AU9:AU10,AV9:AV10) -> 93.333333 | AY9: 300 | BD9: 85 | BE9: =K8*3 -> 1050 | BG9: =FORECAST(BH9,BD9:BD10,BE9:BE10) -> 93.333333 | BH9: =300*3 -> 900
C10: 105 | D10: 0 | F10: =C10 -> 105 | G10: =D10 -> 0 | J10: 105 | K10: 0 | M10: =J10 -> 105 | N10: =K10 -> 0 | Q10: 105 | R10: =K10*2 -> 0 | T10: =Q10 -> 105 | U10: =R10 -> 0 | X10: 105 | Y10: =K10*4 -> 0 | AA10: =X10 -> 105 | AB10: =Y10 -> 0 | AD10: 105 | AE10: =K10*4 -> 0 | AG10: =AD10 -> 105 | AH10: =AE10 -> 0 | AJ10: 105 | AK10: =K10*2 -> 0 | AM10: =Q10 -> 105 | AN10: =R10 -> 0 | AU10: 105 | AV10: 230 | AX10: =AU10 -> 105 | AY10: =AV10 -> 230 | BD10: 105 | BE10: =K9*3 -> 690 | BG10: =BD10 -> 105 | BH10: =BE10 -> 690
AU11: 105 | AV11: 0 | AX11: =AU11 -> 105 | AY11: =AV11 -> 0 | BD11: 105 | BE11: =K10*3 -> 0 | BG11: =BD11 -> 105 | BH11: =BE11 -> 0
B27: ディレーティング(最終) | S27: 81.666667 | AF27: Tc(℃) | AG27: IF(mA) | AH27: 光束(%) | AI27: 時間(h) | AU27: φ280mm | BD27: φ280mm
F28: 傾き | G28: =SLOPE(G33:G34,F33:F34) -> -6 | M28: 傾き | N28: =SLOPE(N33:N34,M33:M34) -> -6 | T28: 傾き | U28: =SLOPE(U33:U34,T33:T34) -> -6 | AA28: 傾き | AB28: =SLOPE(AB33:AB34,AA33:AA34) -> -12 | AF28: 85 | AG28: 1080 | AH28: 0.97651678 | AI28: 3000 | AU28: Tj=140℃ | AX28: 樹脂温度=205℃ | BD28: Tj=140℃ | BG28: 樹脂温度=205℃
F29: 切片 | G29: =INTERCEPT(G33:G34,F33:F34) -> 860 | M29: 切片 | N29: =INTERCEPT(N33:N34,M33:M34) -> 860 | T29: 切片 | U29: =INTERCEPT(U33:U34,T33:T34) -> 1090 | AA29: 切片 | AB29: =INTERCEPT(AB33:AB34,AA33:AA34) -> 2180 | AF29: 85 | AG29: 1200 | AH29: 0.96386429 | AI29: 3000 | AU29: Tc(℃) | AV29: IF(mA) | AX29: Tc(℃) | AY29: IF(mA) | BD29: Tc(℃) | BE29: IF(mA) | BG29: Tc(℃) | BH29: IF(mA)
C30: CLU7B2-0701C4 | J30: CLU7A2-1201C9 | Q30: CLU702-1202C9 | X30: CLU712-1204C9 | AF30: 85 | AG30: 1400 | AH30: 0.96176232 | AI30: 3000 | AU30: 105.21627 | AV30: 300 | AX30: 85 | AY30: 686.08951 | BA30: 106.42575 | BB30: 300 | BD30: 105.76209 | BE30: 900 | BG30: 85 | BH30: 1735.949 | BI30: 1732.794
C31: Tc[℃] | D31: IF[mA] | F31: Tc[℃] | G31: IF[mA] | H31: 樹脂温度 | I31: Tj | J31: Tc[℃] | K31: IF[mA] | M31: Tc[℃] | N31: IF[mA] | O31: 樹脂温度 | P31: Tj | Q31: Tc[℃] | R31: IF[mA] | T31: Tc[℃] | U31: IF[mA] | V31: 樹脂温度 | W31: Tj | X31: Tc[℃] | Y31: IF[mA] | AA31: Tc[℃] | AB31: IF[mA] | AC31: 樹脂温度 | AD31: Tj | AF31: 85 | AG31: 1600 | AH31: 0.96429673 | AI31: 3000 | AU31: 114.33777 | AV31: 230 | AX31: 105 | AY31: 556.57158 | BA31: 115.22611 | BB31: 230 | BD31: 114.73808 | BE31: 690 | BG31: 105 | BH31: 1415.3509 | BI31: 1416.341
C32: 0 | D32: 350 | F32: =C32 -> 0 | G32: 300 | J32: 0 | K32: 350 | M32: =J32 -> 0 | N32: 300 | Q32: 0 | R32: =K32*2 -> 700 | T32: =Q32 -> 0 | U32: =U33 -> 600 | X32: 0 | Y32: =K32*4 -> 1400 | AA32: =X32 -> 0 | AB32: =AB33 -> 1200 | AF32: 105 | AG32: 920 | AH32: 0.97003976 | AI32: 3000 | AU32: 127.55864 | AV32: 120 | AX32: 120 | AY32: 459.8795 | BA32: 127.98689 | BB32: 120 | BD32: 127.75129 | BE32: 360 | BG32: 120 | BH32: 1172.5901 | BI32: 1173.8728
C33: 85 | D33: 350 | F33: =FORECAST(G33,C33:C34,D33:D34) -> 93.333333 | G33: 300 | H33: 144.13328 | I33: 129 | J33: 85 | K33: 350 | M33: =FORECAST(N33,J33:J34,K33:K34) -> 93.333333 | N33: 300 | O33: 162.82385 | P33: 127 | Q33: 65 | R33: =K33*2 -> 700 | T33: =FORECAST(U33,Q33:Q34,R33:R34) -> 81.666667 | U33: 600 | V33: 197.69609 | W33: 118 | X33: 65 | Y33: =K33*4 -> 1400 | AA33: =FORECAST(AB33,X33:X34,Y33:Y34) -> 81.666667 | AB33: 1200 | AC33: 198.4523 | AD33: 123 | AF33: 105 | AG33: 1080 | AH33: 0.98530737 | AI33: 3000
C34: 105 | D34: 230 | F34: =C34 -> 105 | G34: =D34 -> 230 | H34: 148.73792 | I34: 132 | J34: 105 | K34: 230 | M34: =J34 -> 105 | N34: =K34 -> 230 | O34: 162.35872 | P34: 130 | Q34: 105 | R34: =K34*2 -> 460 | T34: =Q34 -> 105 | U34: =R34 -> 460 | V34: 196.25767 | W34: 132 | X34: 105 | Y34: =K34*4 -> 920 | AA34: =X34 -> 105 | AB34: =Y34 -> 920 | AC34: 196.81162 | AD34: 135 | AF34: 105 | AG34: 1400 | AH34: 0.98390056 | AI34: 3000 | AU34: φ310mm | BD34: φ310mm
C35: 105 | D35: 0 | F35: =C35 -> 105 | G35: =D35 -> 0 | J35: 105 | K35: 0 | M35: =J35 -> 105 | N35: =K35 -> 0 | Q35: 105 | R35: =K35*2 -> 0 | T35: =Q35 -> 105 | U35: =R35 -> 0 | X35: 105 | Y35: =K35*4 -> 0 | AA35: =X35 -> 105 | AB35: =Y35 -> 0 | AF35: 120 | AG35: 1200 | AH35: 0.97944992 | AI35: 2000 | AU35: Rjc(℃/W) | AV35: 4.4314853 | BD35: Rjc(℃/W) | BE35: =K109 -> 3.479001
AU36: Tj=140℃ | BD36: Tj=140℃
AU37: Tc(℃) | AV37: IF(mA) | BD37: Tc(℃) | BE37: IF(mA)
AU38: 98.208399 | AV38: 300 | BD38: 100.19765 | BE38: 900
AU39: 109.19847 | AV39: 230 | BD39: 110.65554 | BE39: 690
AU40: 125.08521 | AV40: 120 | BD40: 125.78533 | BE40: 360
AU43: Rjc(℃/W) | BD43: Rjc(℃/W) | BE43: 4.065
AU44: Tj=140℃ | BD44: Tj=140℃
AU45: Tc(℃) | AV45: IF(mA) | BD45: Tc(℃) | BE45: IF(mA)
AV46: 300 | BD46: 93.334673 | BE46: 900
AV47: 230 | BD47: 104.95258 | BE47: 690
AV48: 120 | BD48: 123.04662 | BE48: 360
B52: ディレーティング(Lifen/XAL/Cooper暫定)
F53: 傾き | G53: =SLOPE(G58:G59,F58:F59) -> -6 | M53: 傾き | N53: =SLOPE(N58:N59,M58:M59) -> -6 | T53: 傾き | U53: =SLOPE(U58:U59,T58:T59) -> -6 | AA53: 傾き | AB53: =SLOPE(AB58:AB59,AA58:AA59) -> -12
F54: 切片 | G54: =INTERCEPT(G58:G59,F58:F59) -> 860 | M54: 切片 | N54: =INTERCEPT(N58:N59,M58:M59) -> 860 | T54: 切片 | U54: =INTERCEPT(U58:U59,T58:T59) -> 1090 | AA54: 切片 | AB54: =INTERCEPT(AB58:AB59,AA58:AA59) -> 2180
C55: CLU7B2-0701C4 | J55: CLU7A2-1201C9 | Q55: CLU702-1202C9 | X55: CLU712-1204C9
C56: Tc[℃] | D56: IF[mA] | F56: Tc[℃] | G56: IF[mA] | J56: Tc[℃] | K56: IF[mA] | M56: Tc[℃] | N56: IF[mA] | Q56: Tc[℃] | R56: IF[mA] | T56: Tc[℃] | U56: IF[mA] | X56: Tc[℃] | Y56: IF[mA] | AA56: Tc[℃] | AB56: IF[mA]
C57: 0 | D57: 350 | F57: =C57 -> 0 | G57: 300 | J57: 0 | K57: 350 | M57: =J57 -> 0 | N57: 300 | Q57: 0 | R57: =K57*2 -> 700 | T57: =Q57 -> 0 | U57: =U58 -> 600 | X57: 0 | Y57: =K57*4 -> 1400 | AA57: =X57 -> 0 | AB57: =AB58 -> 1200
C58: 85 | D58: 350 | F58: =FORECAST(G58,C58:C59,D58:D59) -> 93.333333 | G58: 300 | J58: 85 | K58: 350 | M58: =FORECAST(N58,J58:J59,K58:K59) -> 93.333333 | N58: 300 | Q58: 65 | R58: =K58*2 -> 700 | T58: =FORECAST(U58,Q58:Q59,R58:R59) -> 81.666667 | U58: 600 | X58: 65 | Y58: =K58*4 -> 1400 | AA58: =FORECAST(AB58,X58:X59,Y58:Y59) -> 81.666667 | AB58: 1200
C59: 105 | D59: 230 | F59: =C59 -> 105 | G59: =D59 -> 230 | J59: 105 | K59: 230 | M59: =J59 -> 105 | N59: =K59 -> 230 | Q59: 105 | R59: =K59*2 -> 460 | T59: =Q59 -> 105 | U59: =R59 -> 460 | X59: 105 | Y59: =K59*4 -> 920 | AA59: =X59 -> 105 | AB59: =Y59 -> 920
C60: 105 | D60: 0 | F60: =C60 -> 105 | G60: =D60 -> 0 | J60: 105 | K60: 0 | M60: =J60 -> 105 | N60: =K60 -> 0 | Q60: 105 | R60: =K60*2 -> 0 | T60: =Q60 -> 105 | U60: =R60 -> 0 | X60: 105 | Y60: =K60*4 -> 0 | AA60: =X60 -> 105 | AB60: =Y60 -> 0
B77: ディレーティング(暫定)
C79: CLU7B2-0701C4 | J79: CLU7A2-1201C9 | Q79: CLU702-1202C9 | X79: CLU712-1204C9
C80: Tc[℃] | D80: IF[mA] | J80: Tc[℃] | K80: IF[mA] | Q80: Tc[℃] | R80: IF[mA] | X80: Tc[℃] | Y80: IF[mA]
C81: 0 | D81: 350 | J81: 0 | K81: 350 | Q81: 0 | R81: =K81*2 -> 700 | X81: 0 | Y81: =K81*4 -> 1400
C82: 85 | D82: 350 | F82: 傾き | G82: =SLOPE(D82:D83,C82:C83) -> -6 | J82: 85 | K82: 350 | M82: 傾き | N82: =SLOPE(K82:K83,J82:J83) -> -6 | Q82: 65 | R82: =K82*2 -> 700 | T82: 傾き | U82: =SLOPE(R82:R83,Q82:Q83) -> -6 | X82: 65 | Y82: =K82*4 -> 1400 | AA82: 傾き | AB82: =SLOPE(Y82:Y83,X82:X83) -> -12
C83: 105 | D83: 230 | F83: 切片 | G83: =INTERCEPT(D82:D83,C82:C83) -> 860 | J83: 105 | K83: 230 | M83: 切片 | N83: =INTERCEPT(K82:K83,J82:J83) -> 860 | Q83: 105 | R83: =K83*2 -> 460 | T83: 切片 | U83: =INTERCEPT(R82:R83,Q82:Q83) -> 1090 | X83: 105 | Y83: =K83*4 -> 920 | AA83: 切片 | AB83: =INTERCEPT(Y82:Y83,X82:X83) -> 2180
C84: 105 | D84: 0 | J84: 105 | K84: 0 | Q84: 105 | R84: =K84*2 -> 0 | X84: 105 | Y84: =K84*4 -> 0
C101: φ280mm
C102: Tj=140℃ | F102: 樹脂温度=205℃ | J102: Tj=140℃ | M102: 樹脂温度=205℃ | Q102: Tj=140℃ | T102: 樹脂温度=205℃ | X102: Tj=140℃ | AA102: 樹脂温度=205℃
C103: Tc(℃) | D103: IF(mA) | F103: Tc(℃) | G103: IF(mA) | J103: Tc(℃) | K103: IF(mA) | M103: Tc(℃) | N103: IF(mA) | Q103: Tc(℃) | R103: IF(mA) | T103: Tc(℃) | U103: IF(mA) | X103: Tc(℃) | Y103: IF(mA) | AA103: Tc(℃) | AB103: IF(mA)
C104: 104.05409 | D104: 300 | F104: 90 | G104: 1021.5032 | J104: 106.42575 | K104: 300 | M104: 85 | N104: 578.64967 | Q104: 104.17683 | R104: 600 | T104: 85 | U104: 621.7131 | X104: 99.222874 | Y104: 1200 | AA104: 85 | AB104: 1234.83
C105: 113.28249 | D105: 230 | F105: 105 | G105: 802.34774 | J105: 115.22611 | K105: 230 | M105: 105 | N105: 471.78364 | Q105: 113.5747 | R105: 460 | T105: 105 | U105: 511.89325 | X105: 109.94127 | Y105: 920 | AA105: 105 | AB105: 1016.6909
C106: 127.14861 | D106: 120 | F106: 120 | G106: 641.65012 | J106: 127.98689 | K106: 120 | M106: 120 | N106: 390.86335 | Q106: 127.19125 | R106: 240 | T106: 120 | U106: 424.98316 | X106: 125.44229 | Y106: 480 | AA106: 120 | AB106: 844.03471
C108: φ310mm
C109: Rjc(℃/W) | D109: 6.6150601 | J109: Rjc(℃/W) | K109: 3.479001 | Q109: Rjc(℃/W) | R109: 2.1072334 | X109: Rjc(℃/W) | Y109: 1.0067893
C110: Tj=140℃ | J110: Tj=140℃ | Q110: Tj=140℃ | X110: Tj=140℃
C111: Tc(℃) | D111: IF(mA) | J111: Tc(℃) | K111: IF(mA) | Q111: Tc(℃) | R111: IF(mA) | X111: Tc(℃) | Y111: IF(mA)
C112: 95.813444 | D112: 300 | J112: 100.97143 | K112: 300 | Q112: 92.569887 | R112: 600 | X112: 94.793789 | Y112: 1200
C113: 107.19975 | D113: 230 | J113: 111.22304 | K113: 230 | Q113: 108.50711 | R113: 420 | X113: 108.34219 | Y113: 880
C114: 124.2436 | D114: 120 | J114: 126.05956 | K114: 120 | Q114: 123.10516 | R114: 240 | X114: 123.8844 | Y114: 480
C116: 限界値
C117: Rjc(℃/W) | D117: 6.978 | J117: Rjc(℃/W) | K117: 4.145 | Q117: Rjc(℃/W) | R117: 2.3383 | X117: Rjc(℃/W) | Y117: 1.08018 | Z117: 1.11145
C118: Tj=140℃ | J118: Tj=140℃ | Q118: Tj=140℃ | X118: Tj=140℃
C119: Tc(℃) | D119: IF(mA) | J119: Tc(℃) | K119: IF(mA) | Q119: Tc(℃) | R119: IF(mA) | X119: Tc(℃) | Y119: IF(mA)
C120: 93.337464 | D120: 300 | J120: 93.336694 | K120: 300 | Q120: 87.233394 | R120: 600 | X120: 89.980627 | Y120: 1200
C121: 105.3751 | D121: 230 | J121: 105.63226 | K121: 230 | Q121: 105.00086 | R121: 420 | X121: 106.00022 | Y121: 880 | Z121: 105.00074 | AA121: 880
C122: 123.37502 | D122: 120 | J122: 123.37306 | K122: 120 | Q122: 121.23799 | R122: 240 | X122: 122.19759 | Y122: 480

Sheet 初期全光束(Tj=85℃)
B3: CLU7B2-0701C4 | M3: CLU702-1202C9
B4: Ra | C4: CCT | D4: VF(V) | E4: Φv(lm) | F4: Sim0.92 | G4: Ra | H4: R9 | I4: n | J4: RΦv | K4: vs Sim0.92 | M4: Ra | N4: CCT | O4: VF(V) | P4: Φv(lm) | Q4: Sim0.92 | R4: Ra | S4: R9 | T4: n | U4: RΦv | V4: vs Sim0.92
B5: 80 | C5: 4000K | D5: =$D$9 -> 21.28 | E5: =$E$9*AD35 -> 479.43976 | J5: =E5/$E$9 -> 1.2318596 | M5: 80 | N5: 4000K | O5: 35.487 | P5: 1658.87 | Q5: 1638 | R5: 84.48 | S5: 14.31 | T5: 32 | U5: =P5/$P$9 -> 1.2355929 | V5: =P5/Q5 -> 1.0127411
C6: 3000K | D6: =$D$9 -> 21.28 | E6: =$E$9*AD36 -> 455.96287 | J6: =E6/$E$9 -> 1.1715387 | N6: 3000K | O6: 35.417 | P6: 1592.48 | Q6: 1572 | R6: 82.71 | S6: 5.81 | T6: 31 | U6: =P6/$P$9 -> 1.186143 | V6: =P6/Q6 -> 1.013028 | W6: -0.01
C7: 2700K | D7: =$D$9 -> 21.28 | E7: =$E$9*AD37 -> 440.35401 | J7: =E7/$E$9 -> 1.1314337 | N7: 2700K | O7: 35.632 | P7: 1533.64 | Q7: 1480 | R7: 81.44 | S7: 1.83 | T7: 32 | U7: =P7/$P$9 -> 1.1423166 | V7: =P7/Q7 -> 1.0362432 | W7: -0.01
B8: 90 | C8: 4000K | D8: =$D$9 -> 21.28 | E8: =$E$9*AD38 -> 417.30059 | J8: =E8/$E$9 -> 1.0722009 | M8: 90 | N8: 4000K | O8: 35.499 | P8: 1424.78 | Q8: 1402 | R8: 93.91 | S8: 63.33 | T8: 32 | U8: =P8/$P$9 -> 1.0612333 | V8: =P8/Q8 -> 1.0162482
C9: 3000K | D9: 21.28 | E9: 389.2 | G9: 94.45 | H9: 58.7 | I9: 86 | J9: =E9/$E$9 -> 1 | N9: 3000K | O9: 35.496 | P9: 1342.57 | Q9: 1310 | R9: 94.15 | S9: 58.43 | T9: 309 | U9: =P9/$P$9 -> 1 | V9: =P9/Q9 -> 1.0248626
C10: 2700K | D10: =$D$9 -> 21.28 | E10: =$E$9*AD40 -> 365.21018 | J10: =E10/$E$9 -> 0.93836121 | N10: 2700K | O10: 35.371 | P10: 1246.77 | Q10: 1258 | R10: 93.88 | S10: 57.55 | T10: 31 | U10: =P10/$P$9 -> 0.92864432 | V10: =P10/Q10 -> 0.99107313
B11: 97 | C11: 4000K | M11: 97 | N11: 4000K
C12: 3000K | N12: 3000K | O12: 35.540364 | P12: 1187.1671 | R12: 97.412861 | S12: 89.50151 | U12: =P12/$P$9 -> 0.88424965
C13: 2700K | N13: 2700K | O13: 35.661023 | P13: 1130.4835 | R13: 96.517216 | S13: 87.487574 | U13: =P13/$P$9 -> 0.84202949
B15: CLU7A2-1201C9 | M15: CLU712-1204C9
B16: Ra | C16: CCT | D16: VF(V) | E16: Φv(lm) | F16: Sim0.92 | G16: Ra | H16: R9 | I16: n | J16: RΦv | K16: vs Sim0.92 | M16: Ra | N16: CCT | O16: VF(V) | P16: Φv(lm) | Q16: Sim0.92 | R16: Ra | S16: R9 | T16: n | U16: RΦv | V16: vs Sim0.92 | W16: BR-102/Z追加分 | X16: CRI補正
B17: 80 | C17: 4000K | D17: 35.966 | E17: 818.44 | F17: 813 | G17: 84.66 | H17: 15.23 | I17: 31 | J17: =E17/$E$21 -> 1.2398727 | K17: =E17/F17 -> 1.0066913 | M17: 80 | N17: 5000K | O17: 35.827708 | P17: 3410.0854 | R17: 84.221664 | S17: 11.952354 | T17: 15 | U17: =P17/$P$25 -> 1.2496419 | V17: =P17/Q17 -> #DIV/0!
C18: 3000K | D18: 36.051 | E18: 787.44 | F18: 780 | G18: 82.88 | H18: 6.55 | I18: 32 | J18: =E18/$E$21 -> 1.1929102 | K18: =E18/F18 -> 1.0095385 | L18: -0.01 | N18: 4000K | O18: 35.697 | P18: 3363.34 | Q18: 3350 | R18: 84.12 | S18: 12.68 | T18: 44 | U18: =P18/$P$25 -> 1.2325119 | V18: =P18/Q18 -> 1.0039821
C19: 2700K | D19: 36.081 | E19: 760.62 | F19: 735 | G19: 81.48 | H19: 2.05 | I19: 31 | J19: =E19/$E$21 -> 1.15228 | K19: =E19/F19 -> 1.0348571 | L19: -0.01 | N19: 3500K | O19: 35.829483 | P19: 3325.2025 | Q19: 3297 | R19: 83.77048 | S19: 9.8710725 | T19: 26 | U19: =P19/$P$25 -> 1.2185362 | V19: =P19/Q19 -> 1.008554
B20: 90 | C20: 4000K | D20: 35.477 | E20: 716.22 | F20: 696 | G20: 92.16 | H20: 57.54 | I20: 32 | J20: =E20/$E$21 -> 1.0850174 | K20: =E20/F20 -> 1.0290517 | N20: 3000K | O20: 35.674 | P20: 3228.54 | Q20: 3216 | R20: 82.84 | S20: 6.34 | T20: 44 | U20: =P20/$P$25 -> 1.1831138 | V20: =P20/Q20 -> 1.0038993 | W20: 0.99
C21: 3000K | D21: 35.56 | E21: 660.1 | F21: 650 | G21: 93.82 | H21: 58.94 | I21: 320 | J21: =E21/$E$21 -> 1 | K21: =E21/F21 -> 1.0155385 | N21: 2700K | O21: 35.766 | P21: 3157.83 | Q21: 3029 | R21: 81.53 | S21: 1.8 | T21: 15 | U21: =P21/$P$25 -> 1.1572018 | V21: =P21/Q21 -> 1.0425322 | W21: 0.99 | X21: 0.99
C22: 2700K | D22: 35.507 | E22: 625.77 | F22: 624 | G22: 94.46 | H22: 59.39 | I22: 32 | J22: =E22/$E$21 -> 0.94799273 | K22: =E22/F22 -> 1.0028365 | M22: 90 | N22: 5000K | O22: 35.942068 | P22: 2999.3531 | R22: 92.237341 | S22: 58.913784 | T22: 15 | U22: =P22/$P$25 -> 1.0991271 | V22: =P22/Q22 -> #DIV/0! | X22: 0.99
B23: 97 | C23: 4000K | N23: 4000K | O23: 35.705 | P23: 2920.83 | Q23: 2868 | R23: 93.88 | S23: 63.85 | T23: 15 | U23: =P23/$P$25 -> 1.070352 | V23: =P23/Q23 -> 1.0184205
C24: 3000K | D24: 35.368136 | E24: 586.6225 | G24: 97.675708 | H24: 89.005692 | I24: 32 | J24: =E24/$E$21 -> 0.88868732 | N24: 3500K | O24: 35.760981 | P24: 2879.5181 | Q24: 2761 | R24: 93.224937 | S24: 57.992813 | T24: 14 | U24: =P24/$P$25 -> 1.055213 | V24: =P24/Q24 -> 1.0429258 | X24: 0.99
C25: 2700K | D25: 35.58407 | E25: 562.65068 | G25: 97.01543 | H25: 87.192927 | I25: 32 | J25: =E25/$E$21 -> 0.85237188 | N25: 3000K | O25: 35.56 | P25: 2728.85 | Q25: 2680 | R25: 93.83 | S25: 56.35 | T25: 143 | U25: =P25/$P$25 -> 1 | V25: =P25/Q25 -> 1.0182276
N26: 2700K | O26: 35.467 | P26: 2560.88 | Q26: 2573 | R26: 94.19 | S26: 58.24 | T26: 15 | U26: =P26/$P$25 -> 0.9384466 | V26: =P26/Q26 -> 0.99528955
N27: 2400K | O27: 35.866168 | P27: 2423.9997 | R27: 93.312669 | S27: 54.521926 | T27: 8 | U27: =P27/$P$25 -> 0.88828615 | V27: =P27/Q27 -> #DIV/0! | X27: 0.99
M28: 97 | N28: 4000K | V28: =P28/Q28 -> #DIV/0!
N29: 3000K | O29: 35.891799 | P29: 2446.0836 | R29: 98.165159 | S29: 89.320202 | T29: 15 | U29: =P29/$P$25 -> 0.8963789 | V29: =P29/Q29 -> #DIV/0!
N30: 2700K | O30: 35.876594 | P30: 2319.5404 | R30: 97.162921 | S30: 88.249243 | T30: 14 | U30: =P30/$P$25 -> 0.85000657 | V30: =P30/Q30 -> #DIV/0!
B31: ■確定スペック
B33: CLU7B2-0701C4 | O33: CLU702-1202C9
B34: Ra | C34: CCT | D34: IF(mA) | E34: VF(V) | F34: Φv(lm) | G34: 効率(lm/W) | H34: Sim0.92 | I34: Ra | J34: R9 | L34: RΦv | M34: vs Sim0.92 | O34: Ra | P34: CCT | Q34: IF(mA) | R34: VF(V) | S34: Φv(lm) | T34: 効率(lm/W) | U34: Sim0.92 | V34: Ra | W34: R9 | Z34: vs Sim0.92 | AB34: Ra | AC34: CCT | AD34: RΦv
B35: 80 | C35: 4000K | D35: 175 | E35: =$D$9 -> 21.28 | F35: =ROUNDDOWN(K35,0) -> 479 | G35: =F35/(D35*E35/1000) -> 128.62513 | K35: =$K$39*AD35 -> 479.43976 | O35: 80 | P35: 4000K | Q35: 350 | R35: 35.6 | S35: =ROUNDDOWN(X35,0) -> 1658 | T35: =S35/(Q35*R35/1000) -> 133.06581 | U35: 1638 | V35: =R5 -> 84.48 | W35: =S5 -> 14.31 | X35: =P5 -> 1658.87 | Y35: =X35/$X$39 -> 1.2355929 | Z35: =S35/U35 -> 1.01221 | AB35: 80 | AC35: 4000K | AD35: =AVERAGE(Y35,L48,Y49) -> 1.2318596
C36: 3000K | D36: 175 | E36: =$D$9 -> 21.28 | F36: =ROUNDDOWN(K36,0) -> 455 | G36: =F36/(D36*E36/1000) -> 122.18045 | K36: =$K$39*AD36 -> 455.96287 | P36: 3000K | Q36: 350 | R36: 35.6 | S36: =ROUNDDOWN(X36,0) -> 1576 | T36: =S36/(Q36*R36/1000) -> 126.48475 | U36: 1572 | V36: =R6 -> 82.71 | W36: =S6 -> 5.81 | X36: =P6*0.99 -> 1576.5552 | Y36: =X36/$X$39 -> 1.1742816 | Z36: =S36/U36 -> 1.0025445 | AC36: 3000K | AD36: =AVERAGE(Y36,L49,Y51) -> 1.1715387
C37: 2700K | D37: 175 | E37: =$D$9 -> 21.28 | F37: =ROUNDDOWN(K37,0) -> 440 | G37: =F37/(D37*E37/1000) -> 118.15252 | K37: =$K$39*AD37 -> 440.35401 | P37: 2700K | Q37: 350 | R37: 35.6 | S37: =ROUNDDOWN(X37,0) -> 1518 | T37: =S37/(Q37*R37/1000) -> 121.82986 | U37: 1480 | V37: =R7 -> 81.44 | W37: =S7 -> 1.83 | X37: =P7*0.99 -> 1518.3036 | Y37: =X37/$X$39 -> 1.1308934 | Z37: =S37/U37 -> 1.0256757 | AC37: 2700K | AD37: =AVERAGE(Y37,L50,Y52) -> 1.1314337
B38: 90 | C38: 4000K | D38: 175 | E38: =$D$9 -> 21.28 | F38: =ROUNDDOWN(K38,0) -> 417 | G38: =F38/(D38*E38/1000) -> 111.97637 | K38: =$K$39*AD38 -> 417.30059 | O38: 90 | P38: 4000K | Q38: 350 | R38: 35.6 | S38: =ROUNDDOWN(X38,0) -> 1424 | T38: =S38/(Q38*R38/1000) -> 114.28571 | U38: 1402 | V38: =R8 -> 93.91 | W38: =S8 -> 63.33 | X38: =P8 -> 1424.78 | Y38: =X38/$X$39 -> 1.0612333 | Z38: =S38/U38 -> 1.0156919 | AB38: 90 | AC38: 4000K | AD38: =AVERAGE(Y38,L51,Y54) -> 1.0722009
C39: 3000K | D39: 175 | E39: 21.28 | F39: =ROUNDDOWN(K39,0) -> 389 | G39: =F39/(D39*E39/1000) -> 104.45757 | I39: 94.45 | J39: 58.7 | K39: =E9 -> 389.2 | P39: 3000K | Q39: 350 | R39: 35.6 | S39: =ROUNDDOWN(X39,0) -> 1342 | T39: =S39/(Q39*R39/1000) -> 107.70465 | U39: 1310 | V39: =R9 -> 94.15 | W39: =S9 -> 58.43 | X39: =P9 -> 1342.57 | Y39: =X39/$X$39 -> 1 | Z39: =S39/U39 -> 1.0244275 | AC39: 3000K | AD39: =AVERAGE(Y39,L52,Y56) -> 1
C40: 2700K | D40: 175 | E40: =$D$9 -> 21.28 | F40: =ROUNDDOWN(K40,0) -> 365 | G40: =F40/(D40*E40/1000) -> 98.012889 | K40: =$K$39*AD40 -> 365.21018 | P40: 2700K | Q40: 350 | R40: 35.6 | S40: =ROUNDDOWN(X40,0) -> 1246 | T40: =S40/(Q40*R40/1000) -> 100 | U40: 1258 | V40: =R10 -> 93.88 | W40: =S10 -> 57.55 | X40: =P10 -> 1246.77 | Y40: =X40/$X$39 -> 0.92864432 | Z40: =S40/U40 -> 0.99046105 | AC40: 2700K | AD40: =AVERAGE(Y40,L53,Y57) -> 0.93836121
B41: 97 | C41: 4000K | D41: 175 | E41: =$D$9 -> 21.28 | F41: =ROUNDDOWN(K41,0) -> 383 | G41: =F41/(D41*E41/1000) -> 102.8464 | K41: =$K$39*AD41 -> 383.09084 | O41: 97 | P41: 4000K | Q41: 350 | R41: 35.6 | S41: =ROUNDDOWN(X41,0) -> 1321 | T41: =S41/(Q41*R41/1000) -> 106.01926 | X41: =X39*$AD$41 -> 1321.4961 | Y41: =X41/$X$39 -> 0.98430329 | AB41: 97 | AC41: 4000K | AD41: =AD42*AE41 -> 0.98430329 | AE41: 1.1062422
C42: 3000K | D42: 175 | E42: =$D$9 -> 21.28 | F42: =ROUNDDOWN(K42,0) -> 346 | G42: =F42/(D42*E42/1000) -> 92.910849 | K42: =$K$39*AD42 -> 346.29925 | P42: 3000K | Q42: 350 | R42: 35.6 | S42: =ROUNDDOWN(X42,0) -> 1187 | T42: =S42/(Q42*R42/1000) -> 95.264848 | V42: =R12 -> 97.412861 | W42: =S12 -> 89.50151 | X42: =P12 -> 1187.1671 | Y42: =X42/$X$39 -> 0.88424965 | AC42: 3000K | AD42: =AVERAGE(Y42,L55,Y60) -> 0.88977196
C43: 2700K | D43: 175 | E43: =$D$9 -> 21.28 | F43: =ROUNDDOWN(K43,0) -> 330 | G43: =F43/(D43*E43/1000) -> 88.614393 | K43: =$K$39*AD43 -> 330.09452 | P43: 2700K | Q43: 350 | R43: 35.6 | S43: =ROUNDDOWN(X43,0) -> 1130 | T43: =S43/(Q43*R43/1000) -> 90.690209 | V43: =R13 -> 96.517216 | W43: =S13 -> 87.487574 | X43: =P13 -> 1130.4835 | Y43: =X43/$X$39 -> 0.84202949 | AC43: 2700K | AD43: =AVERAGE(Y43,L56,Y61) -> 0.84813598
AI45: 700
B46: CLU7A2-1201C9 | O46: CLU712-1204C9 | AI46: 37.6
B47: Ra | C47: CCT | D47: IF(mA) | E47: VF(V) | F47: Φv(lm) | G47: 効率(lm/W) | H47: Sim0.92 | I47: Ra | J47: R9 | M47: vs Sim0.92 | O47: Ra | P47: CCT | Q47: IF(mA) | R47: VF(V) | S47: Φv(lm) | T47: 効率(lm/W) | U47: Sim0.92 | V47: Ra | W47: R9 | Z47: vs Sim0.92 | AB47: HI-V2 Spec | AD47: Cooper H5K5series | AF47: ΔΦv | AG47: Δefficiency | AH47: ΔΦv | AI47: Δefficiency
B48: 80 | C48: 4000K | D48: 175 | E48: 35.6 | F48: =ROUNDDOWN(K48,0) -> 810 | G48: =F48/(D48*E48/1000) -> 130.01605 | H48: 813 | I48: =G17 -> 84.66 | J48: =H17 -> 15.23 | K48: =E17*0.99 -> 810.2556 | L48: =K48/$K$52 -> 1.227474 | M48: =F48/H48 -> 0.99630996 | O48: 80 | P48: 5000K | Q48: 700 | R48: 35.6 | S48: =ROUNDDOWN(X48,0) -> 3410 | T48: =S48/(Q48*R48/1000) -> 136.83788 | V48: 84.221664 | W48: 11.952354 | X48: =P17 -> 3410.0854 | Y48: =X48/$X$56 -> 1.2496419 | Z48: =S48/U48 -> #DIV/0! | AB48: 3300 | AC48: 127 | AD48: 3232 | AE48: =AD48/($AI$45*$AI$46/1000) -> 122.79635 | AF48: =S48/AB48 -> 1.0333333 | AG48: =T48/AC48 -> 1.0774636 | AH48: =S48/AD48 -> 1.0550743 | AI48: =T48/AE48 -> 1.1143481
C49: 3000K | D49: 175 | E49: 35.6 | F49: =ROUNDDOWN(K49,0) -> 771 | G49: =F49/(D49*E49/1000) -> 123.75602 | H49: 780 | I49: =G18 -> 82.88 | J49: =H18 -> 6.55 | K49: =E18*0.98 -> 771.6912 | L49: =K49/$K$52 -> 1.169052 | M49: =F49/H49 -> 0.98846154 | P49: 4000K | Q49: 700 | R49: 35.6 | S49: =ROUNDDOWN(X49,0) -> 3363 | T49: =S49/(Q49*R49/1000) -> 134.95185 | U49: 3350 | V49: 84.12 | W49: 12.68 | X49: =P18 -> 3363.34 | Y49: =X49/$X$56 -> 1.2325119 | Z49: =S49/U49 -> 1.0038806 | AB49: 3315 | AC49: 126 | AD49: 3172 | AE49: =AD49/($AI$45*$AI$46/1000) -> 120.51672 | AF49: =S49/AB49 -> 1.0144796 | AG49: =T49/AC49 -> 1.0710464 | AH49: =S49/AD49 -> 1.0602144 | AI49: =T49/AE49 -> 1.119777
C50: 2700K | D50: 175 | E50: 35.6 | F50: =ROUNDDOWN(K50,0) -> 745 | G50: =F50/(D50*E50/1000) -> 119.58266 | H50: 735 | I50: =G19 -> 81.48 | J50: =H19 -> 2.05 | K50: =E19*0.98 -> 745.4076 | L50: =K50/$K$52 -> 1.1292344 | M50: =F50/H50 -> 1.0136054 | P50: 3500K | Q50: 700 | R50: 35.6 | S50: =ROUNDDOWN(X50,0) -> 3325 | T50: =S50/(Q50*R50/1000) -> 133.42697 | U50: 3297 | V50: 83.77048 | W50: 9.8710725 | X50: =P19 -> 3325.2025 | Y50: =X50/$X$56 -> 1.2185362 | Z50: =S50/U50 -> 1.0084926 | AB50: 3247 | AC50: 123 | AD50: 3107 | AE50: =AD50/($AI$45*$AI$46/1000) -> 118.04711 | AF50: =S50/AB50 -> 1.0240222 | AG50: =T50/AC50 -> 1.0847721 | AH50: =S50/AD50 -> 1.0701641 | AI50: =T50/AE50 -> 1.1302857
B51: 90 | C51: 4000K | D51: 175 | E51: 35.6 | F51: =ROUNDDOWN(K51,0) -> 716 | G51: =F51/(D51*E51/1000) -> 114.92777 | H51: 696 | I51: =G20 -> 92.16 | J51: =H20 -> 57.54 | K51: =E20 -> 716.22 | L51: =K51/$K$52 -> 1.0850174 | M51: =F51/H51 -> 1.0287356 | P51: 3000K | Q51: 700 | R51: 35.6 | S51: =ROUNDDOWN(X51,0) -> 3196 | T51: =S51/(Q51*R51/1000) -> 128.2504 | U51: 3216 | V51: 82.84 | W51: 6.34 | X51: =P20*W20 -> 3196.2546 | Y51: =X51/$X$56 -> 1.1712826 | Z51: =S51/U51 -> 0.99378109 | AB51: 3133 | AC51: 119 | AD51: 3042 | AE51: =AD51/($AI$45*$AI$46/1000) -> 115.57751 | AF51: =S51/AB51 -> 1.0201085 | AG51: =T51/AC51 -> 1.0777345 | AH51: =S51/AD51 -> 1.0506246 | AI51: =T51/AE51 -> 1.1096484
C52: 3000K | D52: 175 | E52: 35.6 | F52: =ROUNDDOWN(K52,0) -> 660 | G52: =F52/(D52*E52/1000) -> 105.939 | H52: 650 | I52: =G21 -> 93.82 | J52: =H21 -> 58.94 | K52: =E21 -> 660.1 | L52: =K52/$K$52 -> 1 | M52: =F52/H52 -> 1.0153846 | P52: 2700K | Q52: 700 | R52: 35.6 | S52: =ROUNDDOWN(X52,0) -> 3094 | T52: =S52/(Q52*R52/1000) -> 124.1573 | U52: 3029 | V52: 81.53 | W52: 1.8 | X52: =P21*W21*X21 -> 3094.9892 | Y52: =X52/$X$56 -> 1.1341734 | Z52: =S52/U52 -> 1.0214592 | AB52: 3021 | AC52: 115 | AD52: 2877 | AE52: =AD52/($AI$45*$AI$46/1000) -> 109.30851 | AF52: =S52/AB52 -> 1.0241642 | AG52: =T52/AC52 -> 1.0796287 | AH52: =S52/AD52 -> 1.0754258 | AI52: =T52/AE52 -> 1.135843
C53: 2700K | D53: 175 | E53: 35.6 | F53: =ROUNDDOWN(K53,0) -> 625 | G53: =F53/(D53*E53/1000) -> 100.32103 | H53: 624 | I53: =G22 -> 94.46 | J53: =H22 -> 59.39 | K53: =E22 -> 625.77 | L53: =K53/$K$52 -> 0.94799273 | M53: =F53/H53 -> 1.0016026 | O53: 90 | P53: 5000K | Q53: 700 | R53: 35.6 | S53: =ROUNDDOWN(X53,0) -> 2969 | T53: =S53/(Q53*R53/1000) -> 119.14125 | V53: 92.237341 | W53: 58.913784 | X53: =P22*X22 -> 2969.3595 | Y53: =X53/$X$56 -> 1.0881359 | Z53: =S53/U53 -> #DIV/0! | AD53: 2722 | AE53: =AD53/($AI$45*$AI$46/1000) -> 103.41945 | AF53: =S53/AB53 -> #DIV/0! | AG53: =T53/AC53 -> #DIV/0! | AH53: =S53/AD53 -> 1.0907421 | AI53: =T53/AE53 -> 1.1520197
B54: 97 | C54: 4000K | D54: 175 | E54: 35.6 | F54: =ROUNDDOWN(K54,0) -> 649 | G54: =F54/(D54*E54/1000) -> 104.17335 | K54: =K52*$AD$41 -> 649.7386 | L54: =K54/$K$52 -> 0.98430329 | P54: 4000K | Q54: 700 | R54: 35.6 | S54: =ROUNDDOWN(X54,0) -> 2920 | T54: =S54/(Q54*R54/1000) -> 117.17496 | U54: 2868 | V54: 93.88 | W54: 63.85 | X54: =P23 -> 2920.83 | Y54: =X54/$X$56 -> 1.070352 | Z54: =S54/U54 -> 1.0181311 | AB54: 2750 | AC54: 104 | AD54: 2671 | AE54: =AD54/($AI$45*$AI$46/1000) -> 101.48176 | AF54: =S54/AB54 -> 1.0618182 | AG54: =T54/AC54 -> 1.1266823 | AH54: =S54/AD54 -> 1.0932235 | AI54: =T54/AE54 -> 1.1546406
C55: 3000K | D55: 175 | E55: 35.6 | F55: =ROUNDDOWN(K55,0) -> 586 | G55: =F55/(D55*E55/1000) -> 94.060995 | I55: =G24 -> 97.675708 | J55: =H24 -> 89.005692 | K55: =E24 -> 586.6225 | L55: =K55/$K$52 -> 0.88868732 | P55: 3500K | Q55: 700 | R55: 35.6 | S55: =ROUNDDOWN(X55,0) -> 2850 | T55: =S55/(Q55*R55/1000) -> 114.36597 | U55: 2761 | V55: 93.224937 | W55: 57.992813 | X55: =P24*X24 -> 2850.7229 | Y55: =X55/$X$56 -> 1.0446609 | Z55: =S55/U55 -> 1.0322347 | AB55: 2680 | AC55: 102 | AD55: 2616 | AE55: =AD55/($AI$45*$AI$46/1000) -> 99.392097 | AF55: =S55/AB55 -> 1.0634328 | AG55: =T55/AC55 -> 1.121235 | AH55: =S55/AD55 -> 1.0894495 | AI55: =T55/AE55 -> 1.1506546
C56: 2700K | D56: 175 | E56: 35.6 | F56: =ROUNDDOWN(K56,0) -> 562 | G56: =F56/(D56*E56/1000) -> 90.208668 | I56: =G25 -> 97.01543 | J56: =H25 -> 87.192927 | K56: =E25 -> 562.65068 | L56: =K56/$K$52 -> 0.85237188 | P56: 3000K | Q56: 700 | R56: 35.6 | S56: =ROUNDDOWN(X56,0) -> 2728 | T56: =S56/(Q56*R56/1000) -> 109.4703 | U56: 2680 | V56: 93.83 | W56: 56.35 | X56: =P25 -> 2728.85 | Y56: =X56/$X$56 -> 1 | Z56: =S56/U56 -> 1.0179104 | AB56: 2539 | AC56: 96 | AD56: 2565 | AE56: =AD56/($AI$45*$AI$46/1000) -> 97.454407 | AF56: =S56/AB56 -> 1.0744388 | AG56: =T56/AC56 -> 1.1403157 | AH56: =S56/AD56 -> 1.0635478 | AI56: =T56/AE56 -> 1.1232976
P57: 2700K | Q57: 700 | R57: 35.6 | S57: =ROUNDDOWN(X57,0) -> 2560 | T57: =S57/(Q57*R57/1000) -> 102.72873 | U57: 2573 | V57: 94.19 | W57: 58.24 | X57: =P26 -> 2560.88 | Y57: =X57/$X$56 -> 0.9384466 | Z57: =S57/U57 -> 0.99494753 | AB57: 2414 | AC57: 92 | AD57: 2425 | AE57: =AD57/($AI$45*$AI$46/1000) -> 92.135258 | AF57: =S57/AB57 -> 1.0604805 | AG57: =T57/AC57 -> 1.1166167 | AH57: =S57/AD57 -> 1.0556701 | AI57: =T57/AE57 -> 1.1149774
P58: 2400K | Q58: 700 | R58: 35.6 | S58: =ROUNDDOWN(X58,0) -> 2399 | T58: =S58/(Q58*R58/1000) -> 96.268058 | V58: 93.312669 | W58: 54.521926 | X58: =P27*X27 -> 2399.7597 | Y58: =X58/$X$56 -> 0.87940329 | Z58: =S58/U58 -> #DIV/0! | AD58: 2255 | AE58: =AD58/($AI$45*$AI$46/1000) -> 85.676292 | AF58: =S58/AB58 -> #DIV/0! | AG58: =T58/AC58 -> #DIV/0! | AH58: =S58/AD58 -> 1.0638581 | AI58: =T58/AE58 -> 1.1236254
O59: 97 | P59: 4000K | Q59: 700 | R59: 35.6 | S59: =ROUNDDOWN(X59,0) -> 2686 | T59: =S59/(Q59*R59/1000) -> 107.78491 | X59: =X56*$AD$41 -> 2686.016 | Y59: =X59/$X$56 -> 0.98430329 | Z59: =S59/U59 -> #DIV/0! | AD59: 2379 | AE59: =AD59/($AI$45*$AI$46/1000) -> 90.387538 | AF59: =S59/AB59 -> #DIV/0! | AG59: =T59/AC59 -> #DIV/0! | AH59: =S59/AD59 -> 1.1290458 | AI59: =T59/AE59 -> 1.1924754
P60: 3000K | Q60: 700 | R60: 35.6 | S60: =ROUNDDOWN(X60,0) -> 2446 | T60: =S60/(Q60*R60/1000) -> 98.154093 | V60: 98.165159 | W60: 89.320202 | X60: =P29 -> 2446.0836 | Y60: =X60/$X$56 -> 0.8963789 | Z60: =S60/U60 -> #DIV/0! | AD60: 2282 | AE60: =AD60/($AI$45*$AI$46/1000) -> 86.702128 | AF60: =S60/AB60 -> #DIV/0! | AG60: =T60/AC60 -> #DIV/0! | AH60: =S60/AD60 -> 1.0718668 | AI60: =T60/AE60 -> 1.132084
P61: 2700K | Q61: 700 | R61: 35.6 | S61: =ROUNDDOWN(X61,0) -> 2319 | T61: =S61/(Q61*R61/1000) -> 93.057785 | V61: 97.162921 | W61: 88.249243 | X61: =P30 -> 2319.5404 | Y61: =X61/$X$56 -> 0.85000657 | Z61: =S61/U61 -> #DIV/0! | AD61: 2158 | AE61: =AD61/($AI$45*$AI$46/1000) -> 81.990881 | AF61: =S61/AB61 -> #DIV/0! | AG61: =T61/AC61 -> #DIV/0! | AH61: =S61/AD61 -> 1.0746061 | AI61: =T61/AE61 -> 1.1349772

Sheet 初期全光束(Tj=85℃)_1015更新
B3: CLU7B2-0701C4 | M3: CLU702-1202C9
B4: Ra | C4: CCT | D4: VF(V) | E4: Φv(lm) | F4: Sim0.92 | G4: Ra | H4: R9 | I4: n | J4: RΦv | K4: vs Sim0.92 | M4: Ra | N4: CCT | O4: VF(V) | P4: Φv(lm) | Q4: Sim0.92 | R4: Ra | S4: R9 | T4: n | U4: RΦv | V4: vs Sim0.92
