Workbook
Name Master: [1]Master!$B$6:$Q$1506
Name Master波長: [1]List!$B$5:$C$8
Name sheetcount: #REF!
Name sheetcount: #REF!
Name 校正球一覧: #REF!
Name 校正球一覧: #REF!
Name 校正球一覧: #REF!
Name 大口評価: #REF!
Name 大口評価: #REF!
Name 大口評価: #REF!
Name 注意機種: #REF!
Name 注意機種: #REF!
Name 注意機種: #REF!
Name 投入Lot数: #REF!
Name 投入Lot数: #REF!
Name 投入Lot数: #REF!
Name 波長ランク変更: #REF!
Name 波長ランク変更: #REF!
Name 波長ランク変更: #REF!

Sheet Selector
P3: A number of LEDs
P5: Series | S5: Parallel | X5: Total Q'ty
B6: CCT,Ra | C6: 14 | D6: 1 | E6: 2 | G6: 450 | H6: =VLOOKUP(E6,Calculation!A27:I28,9,FALSE) -> mA | J6: Tc (C) | L6: 74.779599 | P6: 1 | S6: 1 | X6: =P6*S6 -> 1
Q8: Reference | R8: ★ | T8: ★ | U8: Reference | W8: ★ | X8: Reference | Z8: ★
B9: Product code | E9: =VLOOKUP($E6,#REF!,3,FALSE) -> #REF! | G9: =VLOOKUP($E6,#REF!,4,FALSE) -> #REF! | I9: =VLOOKUP($E6,#REF!,7,FALSE) -> #REF! | K9: =VLOOKUP($E6,#REF!,8,FALSE) -> #REF! | M9: Tj (C) | P9: If [mA] | Q9: Vf [V] | V9: Pd [W] | W9: Pd [W] | X9: φv (lm) | Z9: lm/W
Q10: min | R10: Vf rate | S10: typ | T10: Vf rate | U10: max | V10: typ | W10: max | X10: min | Y10: typ | Z10: min | AA10: typ
B11: Code | E11: =CONCATENATE($E6,E9) -> #REF! | G11: =CONCATENATE($E6,G9) -> #REF! | I11: =CONCATENATE($E6,I9) -> #REF! | K11: =CONCATENATE($E6,K9) -> #REF! | M11: =CONCATENATE($E6,M9) -> 2Tj (C) | P11: N/A | S11: N/A | V11: N/A | X11: 0.879 | Y11: N/A
B12: =CONCATENATE(#REF!,"-",#REF!,#REF!,"-",#REF!) -> #REF! | E12: =HLOOKUP(E$11,#REF!,2,FALSE) -> #REF! | G12: =HLOOKUP(G$11,#REF!,2,FALSE) -> #REF! | I12: =HLOOKUP(I$11,#REF!,2,FALSE) -> #REF! | K12: =HLOOKUP(K$11,#REF!,2,FALSE) -> #REF! | M12: =HLOOKUP(M$11,#REF!,2,FALSE) -> #REF! | P12: =IF(G12="Not Applicable","Not Applicable",IF($H$6="mA",$G$6*$S$6,E12*$S$6)) -> #REF! | Q12: =IF(G12="Not Applicable","Not Applicable",S12*R12) -> #REF! | R12: 0.917647 | S12: =IF(G12="Not Applicable","Not Applicable",G12*$P$6) -> #REF! | T12: 0.082353 | U12: =IF(G12="Not Applicable","Not Applicable",S12*(1+T12)) -> #REF! | V12: =IF(G12="Not Applicable","Not Applicable",P12/1000*S12) -> #REF! | W12: =IF(G12="Not Applicable","Not Applicable",P12/1000*U12) -> #REF! | X12: =IF(G12="Not Applicable","Not Applicable",ROUNDDOWN(Y12*X$11,0)) -> #REF! | Y12: =IF(G12="Not Applicable","Not Applicable",IF($H$6="mA",E12*$P$6*$S$6,$G$6*$P$6*$S$6)) -> #REF! | Z12: =IF(E12="Not Applicable","Not Applicable",ROUNDDOWN(X12/W12,0)) -> #REF! | AA12: =IF(E12="Not Applicable","Not Applicable",Y12/V12) -> #REF!
B13: =CONCATENATE(#REF!,"-",#REF!,#REF!,"-",#REF!) -> #REF! | E13: =HLOOKUP(E$11,#REF!,3,FALSE) -> #REF! | G13: =HLOOKUP(G$11,#REF!,3,FALSE) -> #REF! | I13: =HLOOKUP(I$11,#REF!,3,FALSE) -> #REF! | K13: =HLOOKUP(K$11,#REF!,3,FALSE) -> #REF! | M13: =HLOOKUP(M$11,#REF!,3,FALSE) -> #REF! | P13: =IF(G13="Not Applicable","Not Applicable",IF($H$6="mA",$G$6*$S$6,E13*$S$6)) -> #REF! | Q13: =IF(G13="Not Applicable","Not Applicable",S13*R13) -> #REF! | R13: =R12 -> 0.917647 | S13: =IF(G13="Not Applicable","Not Applicable",G13*$P$6) -> #REF! | T13: =T12 -> 0.082353 | U13: =IF(G13="Not Applicable","Not Applicable",S13*(1+T13)) -> #REF! | V13: =IF(G13="Not Applicable","Not Applicable",P13/1000*S13) -> #REF! | W13: =IF(G13="Not Applicable","Not Applicable",P13/1000*U13) -> #REF! | X13: =IF(G13="Not Applicable","Not Applicable",ROUNDDOWN(Y13*X$11,0)) -> #REF! | Y13: =IF(G13="Not Applicable","Not Applicable",IF($H$6="mA",E13*$P$6*$S$6,$G$6*$P$6*$S$6)) -> #REF! | Z13: =IF(E13="Not Applicable","Not Applicable",ROUNDDOWN(X13/W13,0)) -> #REF! | AA13: =IF(E13="Not Applicable","Not Applicable",Y13/V13) -> #REF!
B14: =CONCATENATE(#REF!,"-",#REF!,#REF!,"-",#REF!) -> #REF! | E14: =HLOOKUP(E$11,#REF!,4,FALSE) -> #REF! | G14: =HLOOKUP(G$11,#REF!,4,FALSE) -> #REF! | I14: =HLOOKUP(I$11,#REF!,4,FALSE) -> #REF! | K14: =HLOOKUP(K$11,#REF!,4,FALSE) -> #REF! | M14: =HLOOKUP(M$11,#REF!,4,FALSE) -> #REF! | P14: =IF(G14="Not Applicable","Not Applicable",IF($H$6="mA",$G$6*$S$6,E14*$S$6)) -> #REF! | Q14: =IF(G14="Not Applicable","Not Applicable",S14*R14) -> #REF! | R14: =R13 -> 0.917647 | S14: =IF(G14="Not Applicable","Not Applicable",G14*$P$6) -> #REF! | T14: =T13 -> 0.082353 | U14: =IF(G14="Not Applicable","Not Applicable",S14*(1+T14)) -> #REF! | V14: =IF(G14="Not Applicable","Not Applicable",P14/1000*S14) -> #REF! | W14: =IF(G14="Not Applicable","Not Applicable",P14/1000*U14) -> #REF! | X14: =IF(G14="Not Applicable","Not Applicable",ROUNDDOWN(Y14*X$11,0)) -> #REF! | Y14: =IF(G14="Not Applicable","Not Applicable",IF($H$6="mA",E14*$P$6*$S$6,$G$6*$P$6*$S$6)) -> #REF! | Z14: =IF(E14="Not Applicable","Not Applicable",ROUNDDOWN(X14/W14,0)) -> #REF! | AA14: =IF(E14="Not Applicable","Not Applicable",Y14/V14) -> #REF!
B15: =CONCATENATE(#REF!,"-",#REF!,#REF!,"-",#REF!) -> #REF! | E15: =HLOOKUP(E$11,#REF!,5,FALSE) -> #REF! | G15: =HLOOKUP(G$11,#REF!,5,FALSE) -> #REF! | I15: =HLOOKUP(I$11,#REF!,5,FALSE) -> #REF! | K15: =HLOOKUP(K$11,#REF!,5,FALSE) -> #REF! | M15: =HLOOKUP(M$11,#REF!,5,FALSE) -> #REF! | P15: =IF(G15="Not Applicable","Not Applicable",IF($H$6="mA",$G$6*$S$6,E15*$S$6)) -> #REF! | Q15: =IF(G15="Not Applicable","Not Applicable",S15*R15) -> #REF! | R15: =R14 -> 0.917647 | S15: =IF(G15="Not Applicable","Not Applicable",G15*$P$6) -> #REF! | T15: =T14 -> 0.082353 | U15: =IF(G15="Not Applicable","Not Applicable",S15*(1+T15)) -> #REF! | V15: =IF(G15="Not Applicable","Not Applicable",P15/1000*S15) -> #REF! | W15: =IF(G15="Not Applicable","Not Applicable",P15/1000*U15) -> #REF! | X15: =IF(G15="Not Applicable","Not Applicable",ROUNDDOWN(Y15*X$11,0)) -> #REF! | Y15: =IF(G15="Not Applicable","Not Applicable",IF($H$6="mA",E15*$P$6*$S$6,$G$6*$P$6*$S$6)) -> #REF! | Z15: =IF(E15="Not Applicable","Not Applicable",ROUNDDOWN(X15/W15,0)) -> #REF! | AA15: =IF(E15="Not Applicable","Not Applicable",Y15/V15) -> #REF!
A16: ★ | B16: =CONCATENATE(#REF!,"-",#REF!,#REF!,"-",#REF!) -> #REF! | E16: =HLOOKUP(E$11,#REF!,6,FALSE) -> #REF! | G16: =HLOOKUP(G$11,#REF!,6,FALSE) -> #REF! | I16: =HLOOKUP(I$11,#REF!,6,FALSE) -> #REF! | K16: =HLOOKUP(K$11,#REF!,6,FALSE) -> #REF! | M16: =HLOOKUP(M$11,#REF!,6,FALSE) -> #REF! | P16: =IF(G16="Not Applicable","Not Applicable",IF($H$6="mA",$G$6*$S$6,E16*$S$6)) -> #REF! | Q16: =IF(G16="Not Applicable","Not Applicable",S16*R16) -> #REF! | R16: =R15 -> 0.917647 | S16: =IF(G16="Not Applicable","Not Applicable",G16*$P$6) -> #REF! | T16: =T15 -> 0.082353 | U16: =IF(G16="Not Applicable","Not Applicable",S16*(1+T16)) -> #REF! | V16: =IF(G16="Not Applicable","Not Applicable",P16/1000*S16) -> #REF! | W16: =IF(G16="Not Applicable","Not Applicable",P16/1000*U16) -> #REF! | X16: =IF(G16="Not Applicable","Not Applicable",ROUNDDOWN(Y16*X$11,0)) -> #REF! | Y16: =IF(G16="Not Applicable","Not Applicable",IF($H$6="mA",E16*$P$6*$S$6,$G$6*$P$6*$S$6)) -> #REF! | Z16: =IF(E16="Not Applicable","Not Applicable",ROUNDDOWN(X16/W16,0)) -> #REF! | AA16: =IF(E16="Not Applicable","Not Applicable",Y16/V16) -> #REF!
B17: =CONCATENATE(#REF!,"-",#REF!,#REF!,"-",#REF!) -> #REF! | E17: =HLOOKUP(E$11,#REF!,7,FALSE) -> #REF! | G17: =HLOOKUP(G$11,#REF!,7,FALSE) -> #REF! | I17: =HLOOKUP(I$11,#REF!,7,FALSE) -> #REF! | K17: =HLOOKUP(K$11,#REF!,7,FALSE) -> #REF! | M17: =HLOOKUP(M$11,#REF!,7,FALSE) -> #REF! | P17: =IF(G17="Not Applicable","Not Applicable",IF($H$6="mA",$G$6*$S$6,E17*$S$6)) -> #REF! | Q17: =IF(G17="Not Applicable","Not Applicable",S17*R17) -> #REF! | R17: =R16 -> 0.917647 | S17: =IF(G17="Not Applicable","Not Applicable",G17*$P$6) -> #REF! | T17: =T16 -> 0.082353 | U17: =IF(G17="Not Applicable","Not Applicable",S17*(1+T17)) -> #REF! | V17: =IF(G17="Not Applicable","Not Applicable",P17/1000*S17) -> #REF! | W17: =IF(G17="Not Applicable","Not Applicable",P17/1000*U17) -> #REF! | X17: =IF(G17="Not Applicable","Not Applicable",ROUNDDOWN(Y17*X$11,0)) -> #REF! | Y17: =IF(G17="Not Applicable","Not Applicable",IF($H$6="mA",E17*$P$6*$S$6,$G$6*$P$6*$S$6)) -> #REF! | Z17: =IF(E17="Not Applicable","Not Applicable",ROUNDDOWN(X17/W17,0)) -> #REF! | AA17: =IF(E17="Not Applicable","Not Applicable",Y17/V17) -> #REF!
B18: =CONCATENATE(#REF!,"-",#REF!,#REF!,"-",#REF!) -> #REF! | E18: =HLOOKUP(E$11,#REF!,8,FALSE) -> #REF! | G18: =HLOOKUP(G$11,#REF!,8,FALSE) -> #REF! | I18: =HLOOKUP(I$11,#REF!,8,FALSE) -> #REF! | K18: =HLOOKUP(K$11,#REF!,8,FALSE) -> #REF! | M18: =HLOOKUP(M$11,#REF!,8,FALSE) -> #REF! | P18: =IF(G18="Not Applicable","Not Applicable",IF($H$6="mA",$G$6*$S$6,E18*$S$6)) -> #REF! | Q18: =IF(G18="Not Applicable","Not Applicable",S18*R18) -> #REF! | R18: =R17 -> 0.917647 | S18: =IF(G18="Not Applicable","Not Applicable",G18*$P$6) -> #REF! | T18: =T17 -> 0.082353 | U18: =IF(G18="Not Applicable","Not Applicable",S18*(1+T18)) -> #REF! | V18: =IF(G18="Not Applicable","Not Applicable",P18/1000*S18) -> #REF! | W18: =IF(G18="Not Applicable","Not Applicable",P18/1000*U18) -> #REF! | X18: =IF(G18="Not Applicable","Not Applicable",ROUNDDOWN(Y18*X$11,0)) -> #REF! | Y18: =IF(G18="Not Applicable","Not Applicable",IF($H$6="mA",E18*$P$6*$S$6,$G$6*$P$6*$S$6)) -> #REF! | Z18: =IF(E18="Not Applicable","Not Applicable",ROUNDDOWN(X18/W18,0)) -> #REF! | AA18: =IF(E18="Not Applicable","Not Applicable",Y18/V18) -> #REF!
B19: =CONCATENATE(#REF!,"-",#REF!,#REF!,"-",#REF!) -> #REF! | E19: =HLOOKUP(E$11,#REF!,9,FALSE) -> #REF! | G19: =HLOOKUP(G$11,#REF!,9,FALSE) -> #REF! | I19: =HLOOKUP(I$11,#REF!,9,FALSE) -> #REF! | K19: =HLOOKUP(K$11,#REF!,9,FALSE) -> #REF! | M19: =HLOOKUP(M$11,#REF!,9,FALSE) -> #REF! | P19: =IF(G19="Not Applicable","Not Applicable",IF($H$6="mA",$G$6*$S$6,E19*$S$6)) -> #REF! | Q19: =IF(G19="Not Applicable","Not Applicable",S19*R19) -> #REF! | R19: =R18 -> 0.917647 | S19: =IF(G19="Not Applicable","Not Applicable",G19*$P$6) -> #REF! | T19: =T18 -> 0.082353 | U19: =IF(G19="Not Applicable","Not Applicable",S19*(1+T19)) -> #REF! | V19: =IF(G19="Not Applicable","Not Applicable",P19/1000*S19) -> #REF! | W19: =IF(G19="Not Applicable","Not Applicable",P19/1000*U19) -> #REF! | X19: =IF(G19="Not Applicable","Not Applicable",ROUNDDOWN(Y19*X$11,0)) -> #REF! | Y19: =IF(G19="Not Applicable","Not Applicable",IF($H$6="mA",E19*$P$6*$S$6,$G$6*$P$6*$S$6)) -> #REF! | Z19: =IF(E19="Not Applicable","Not Applicable",ROUNDDOWN(X19/W19,0)) -> #REF! | AA19: =IF(E19="Not Applicable","Not Applicable",Y19/V19) -> #REF!
B20: =CONCATENATE(#REF!,"-",#REF!,#REF!,"-",#REF!) -> #REF! | E20: =HLOOKUP(E$11,#REF!,10,FALSE) -> #REF! | G20: =HLOOKUP(G$11,#REF!,10,FALSE) -> #REF! | I20: =HLOOKUP(I$11,#REF!,10,FALSE) -> #REF! | K20: =HLOOKUP(K$11,#REF!,10,FALSE) -> #REF! | M20: =HLOOKUP(M$11,#REF!,10,FALSE) -> #REF! | P20: =IF(G20="Not Applicable","Not Applicable",IF($H$6="mA",$G$6*$S$6,E20*$S$6)) -> #REF! | Q20: =IF(G20="Not Applicable","Not Applicable",S20*R20) -> #REF! | R20: =R19 -> 0.917647 | S20: =IF(G20="Not Applicable","Not Applicable",G20*$P$6) -> #REF! | T20: =T19 -> 0.082353 | U20: =IF(G20="Not Applicable","Not Applicable",S20*(1+T20)) -> #REF! | V20: =IF(G20="Not Applicable","Not Applicable",P20/1000*S20) -> #REF! | W20: =IF(G20="Not Applicable","Not Applicable",P20/1000*U20) -> #REF! | X20: =IF(G20="Not Applicable","Not Applicable",ROUNDDOWN(Y20*X$11,0)) -> #REF! | Y20: =IF(G20="Not Applicable","Not Applicable",IF($H$6="mA",E20*$P$6*$S$6,$G$6*$P$6*$S$6)) -> #REF! | Z20: =IF(E20="Not Applicable","Not Applicable",ROUNDDOWN(X20/W20,0)) -> #REF! | AA20: =IF(E20="Not Applicable","Not Applicable",Y20/V20) -> #REF!
B21: =CONCATENATE(#REF!,"-",#REF!,#REF!,"-",#REF!) -> #REF! | E21: =HLOOKUP(E$11,#REF!,11,FALSE) -> #REF! | G21: =HLOOKUP(G$11,#REF!,11,FALSE) -> #REF! | I21: =HLOOKUP(I$11,#REF!,11,FALSE) -> #REF! | K21: =HLOOKUP(K$11,#REF!,11,FALSE) -> #REF! | M21: =HLOOKUP(M$11,#REF!,11,FALSE) -> #REF! | P21: =IF(G21="Not Applicable","Not Applicable",IF($H$6="mA",$G$6*$S$6,E21*$S$6)) -> #REF! | Q21: =IF(G21="Not Applicable","Not Applicable",S21*R21) -> #REF! | R21: =R20 -> 0.917647 | S21: =IF(G21="Not Applicable","Not Applicable",G21*$P$6) -> #REF! | T21: =T20 -> 0.082353 | U21: =IF(G21="Not Applicable","Not Applicable",S21*(1+T21)) -> #REF! | V21: =IF(G21="Not Applicable","Not Applicable",P21/1000*S21) -> #REF! | W21: =IF(G21="Not Applicable","Not Applicable",P21/1000*U21) -> #REF! | X21: =IF(G21="Not Applicable","Not Applicable",ROUNDDOWN(Y21*X$11,0)) -> #REF! | Y21: =IF(G21="Not Applicable","Not Applicable",IF($H$6="mA",E21*$P$6*$S$6,$G$6*$P$6*$S$6)) -> #REF! | Z21: =IF(E21="Not Applicable","Not Applicable",ROUNDDOWN(X21/W21,0)) -> #REF! | AA21: =IF(E21="Not Applicable","Not Applicable",Y21/V21) -> #REF!
B22: =CONCATENATE(#REF!,"-",#REF!,#REF!,"-",#REF!) -> #REF! | E22: =HLOOKUP(E$11,#REF!,12,FALSE) -> #REF! | G22: =HLOOKUP(G$11,#REF!,12,FALSE) -> #REF! | I22: =HLOOKUP(I$11,#REF!,12,FALSE) -> #REF! | K22: =HLOOKUP(K$11,#REF!,12,FALSE) -> #REF! | M22: =HLOOKUP(M$11,#REF!,12,FALSE) -> #REF! | P22: =IF(G22="Not Applicable","Not Applicable",IF($H$6="mA",$G$6*$S$6,E22*$S$6)) -> #REF! | Q22: =IF(G22="Not Applicable","Not Applicable",S22*R22) -> #REF! | R22: =R21 -> 0.917647 | S22: =IF(G22="Not Applicable","Not Applicable",G22*$P$6) -> #REF! | T22: =T21 -> 0.082353 | U22: =IF(G22="Not Applicable","Not Applicable",S22*(1+T22)) -> #REF! | V22: =IF(G22="Not Applicable","Not Applicable",P22/1000*S22) -> #REF! | W22: =IF(G22="Not Applicable","Not Applicable",P22/1000*U22) -> #REF! | X22: =IF(G22="Not Applicable","Not Applicable",ROUNDDOWN(Y22*X$11,0)) -> #REF! | Y22: =IF(G22="Not Applicable","Not Applicable",IF($H$6="mA",E22*$P$6*$S$6,$G$6*$P$6*$S$6)) -> #REF! | Z22: =IF(E22="Not Applicable","Not Applicable",ROUNDDOWN(X22/W22,0)) -> #REF! | AA22: =IF(E22="Not Applicable","Not Applicable",Y22/V22) -> #REF!
B23: =CONCATENATE(#REF!,"-",#REF!,#REF!,"-",#REF!) -> #REF! | E23: =HLOOKUP(E$11,#REF!,13,FALSE) -> #REF! | G23: =HLOOKUP(G$11,#REF!,13,FALSE) -> #REF! | I23: =HLOOKUP(I$11,#REF!,13,FALSE) -> #REF! | K23: =HLOOKUP(K$11,#REF!,13,FALSE) -> #REF! | M23: =HLOOKUP(M$11,#REF!,13,FALSE) -> #REF! | P23: =IF(G23="Not Applicable","Not Applicable",IF($H$6="mA",$G$6*$S$6,E23*$S$6)) -> #REF! | Q23: =IF(G23="Not Applicable","Not Applicable",S23*R23) -> #REF! | R23: =R22 -> 0.917647 | S23: =IF(G23="Not Applicable","Not Applicable",G23*$P$6) -> #REF! | T23: =T22 -> 0.082353 | U23: =IF(G23="Not Applicable","Not Applicable",S23*(1+T23)) -> #REF! | V23: =IF(G23="Not Applicable","Not Applicable",P23/1000*S23) -> #REF! | W23: =IF(G23="Not Applicable","Not Applicable",P23/1000*U23) -> #REF! | X23: =IF(G23="Not Applicable","Not Applicable",ROUNDDOWN(Y23*X$11,0)) -> #REF! | Y23: =IF(G23="Not Applicable","Not Applicable",IF($H$6="mA",E23*$P$6*$S$6,$G$6*$P$6*$S$6)) -> #REF! | Z23: =IF(E23="Not Applicable","Not Applicable",ROUNDDOWN(X23/W23,0)) -> #REF! | AA23: =IF(E23="Not Applicable","Not Applicable",Y23/V23) -> #REF!
B24: =CONCATENATE(#REF!,"-",#REF!,#REF!,"-",#REF!) -> #REF! | E24: =HLOOKUP(E$11,#REF!,14,FALSE) -> #REF! | G24: =HLOOKUP(G$11,#REF!,14,FALSE) -> #REF! | I24: =HLOOKUP(I$11,#REF!,14,FALSE) -> #REF! | K24: =HLOOKUP(K$11,#REF!,14,FALSE) -> #REF! | M24: =HLOOKUP(M$11,#REF!,14,FALSE) -> #REF! | P24: =IF(G24="Not Applicable","Not Applicable",IF($H$6="mA",$G$6*$S$6,E24*$S$6)) -> #REF! | Q24: =IF(G24="Not Applicable","Not Applicable",S24*R24) -> #REF! | R24: 0.919765 | S24: =IF(G24="Not Applicable","Not Applicable",G24*$P$6) -> #REF! | T24: 0.080235 | U24: =IF(G24="Not Applicable","Not Applicable",S24*(1+T24)) -> #REF! | V24: =IF(G24="Not Applicable","Not Applicable",P24/1000*S24) -> #REF! | W24: =IF(G24="Not Applicable","Not Applicable",P24/1000*U24) -> #REF! | X24: =IF(G24="Not Applicable","Not Applicable",ROUNDDOWN(Y24*X$11,0)) -> #REF! | Y24: =IF(G24="Not Applicable","Not Applicable",IF($H$6="mA",E24*$P$6*$S$6,$G$6*$P$6*$S$6)) -> #REF! | Z24: =IF(E24="Not Applicable","Not Applicable",ROUNDDOWN(X24/W24,0)) -> #REF! | AA24: =IF(E24="Not Applicable","Not Applicable",Y24/V24) -> #REF!
B25: =CONCATENATE(#REF!,"-",#REF!,#REF!,"-",#REF!) -> #REF! | E25: =HLOOKUP(E$11,#REF!,15,FALSE) -> #REF! | G25: =HLOOKUP(G$11,#REF!,15,FALSE) -> #REF! | I25: =HLOOKUP(I$11,#REF!,15,FALSE) -> #REF! | K25: =HLOOKUP(K$11,#REF!,15,FALSE) -> #REF! | M25: =HLOOKUP(M$11,#REF!,15,FALSE) -> #REF! | P25: =IF(G25="Not Applicable","Not Applicable",IF($H$6="mA",$G$6*$S$6,E25*$S$6)) -> #REF! | Q25: =IF(G25="Not Applicable","Not Applicable",S25*R25) -> #REF! | R25: =R24 -> 0.919765 | S25: =IF(G25="Not Applicable","Not Applicable",G25*$P$6) -> #REF! | T25: =T24 -> 0.080235 | U25: =IF(G25="Not Applicable","Not Applicable",S25*(1+T25)) -> #REF! | V25: =IF(G25="Not Applicable","Not Applicable",P25/1000*S25) -> #REF! | W25: =IF(G25="Not Applicable","Not Applicable",P25/1000*U25) -> #REF! | X25: =IF(G25="Not Applicable","Not Applicable",ROUNDDOWN(Y25*X$11,0)) -> #REF! | Y25: =IF(G25="Not Applicable","Not Applicable",IF($H$6="mA",E25*$P$6*$S$6,$G$6*$P$6*$S$6)) -> #REF! | Z25: =IF(E25="Not Applicable","Not Applicable",ROUNDDOWN(X25/W25,0)) -> #REF! | AA25: =IF(E25="Not Applicable","Not Applicable",Y25/V25) -> #REF!
B26: =CONCATENATE(#REF!,"-",#REF!,#REF!,"-",#REF!) -> #REF! | E26: =HLOOKUP(E$11,#REF!,16,FALSE) -> #REF! | G26: =HLOOKUP(G$11,#REF!,16,FALSE) -> #REF! | I26: =HLOOKUP(I$11,#REF!,16,FALSE) -> #REF! | K26: =HLOOKUP(K$11,#REF!,16,FALSE) -> #REF! | M26: =HLOOKUP(M$11,#REF!,16,FALSE) -> #REF! | P26: =IF(G26="Not Applicable","Not Applicable",IF($H$6="mA",$G$6*$S$6,E26*$S$6)) -> #REF! | Q26: =IF(G26="Not Applicable","Not Applicable",S26*R26) -> #REF! | R26: =R25 -> 0.919765 | S26: =IF(G26="Not Applicable","Not Applicable",G26*$P$6) -> #REF! | T26: =T25 -> 0.080235 | U26: =IF(G26="Not Applicable","Not Applicable",S26*(1+T26)) -> #REF! | V26: =IF(G26="Not Applicable","Not Applicable",P26/1000*S26) -> #REF! | W26: =IF(G26="Not Applicable","Not Applicable",P26/1000*U26) -> #REF! | X26: =IF(G26="Not Applicable","Not Applicable",ROUNDDOWN(Y26*X$11,0)) -> #REF! | Y26: =IF(G26="Not Applicable","Not Applicable",IF($H$6="mA",E26*$P$6*$S$6,$G$6*$P$6*$S$6)) -> #REF! | Z26: =IF(E26="Not Applicable","Not Applicable",ROUNDDOWN(X26/W26,0)) -> #REF! | AA26: =IF(E26="Not Applicable","Not Applicable",Y26/V26) -> #REF!
B27: =CONCATENATE(#REF!,"-",#REF!,#REF!,"-",#REF!) -> #REF! | E27: =HLOOKUP(E$11,#REF!,17,FALSE) -> #REF! | G27: =HLOOKUP(G$11,#REF!,17,FALSE) -> #REF! | I27: =HLOOKUP(I$11,#REF!,17,FALSE) -> #REF! | K27: =HLOOKUP(K$11,#REF!,17,FALSE) -> #REF! | M27: =HLOOKUP(M$11,#REF!,17,FALSE) -> #REF! | P27: =IF(G27="Not Applicable","Not Applicable",IF($H$6="mA",$G$6*$S$6,E27*$S$6)) -> #REF! | Q27: =IF(G27="Not Applicable","Not Applicable",S27*R27) -> #REF! | R27: 0.9196866 | S27: =IF(G27="Not Applicable","Not Applicable",G27*$P$6) -> #REF! | T27: 0.0803134 | U27: =IF(G27="Not Applicable","Not Applicable",S27*(1+T27)) -> #REF! | V27: =IF(G27="Not Applicable","Not Applicable",P27/1000*S27) -> #REF! | W27: =IF(G27="Not Applicable","Not Applicable",P27/1000*U27) -> #REF! | X27: =IF(G27="Not Applicable","Not Applicable",ROUNDDOWN(Y27*X$11,0)) -> #REF! | Y27: =IF(G27="Not Applicable","Not Applicable",IF($H$6="mA",E27*$P$6*$S$6,$G$6*$P$6*$S$6)) -> #REF! | Z27: =IF(E27="Not Applicable","Not Applicable",ROUNDDOWN(X27/W27,0)) -> #REF! | AA27: =IF(E27="Not Applicable","Not Applicable",Y27/V27) -> #REF!
B29: Product code | E29: =VLOOKUP($E6,Calculation!A27:I28,3,FALSE) -> φv (lm) | G29: =VLOOKUP($E6,Calculation!A27:I28,4,FALSE) -> Vf (V) | I29: =VLOOKUP($E6,Calculation!A27:I28,7,FALSE) -> Pd (W) | K29: =VLOOKUP($E6,Calculation!A27:I28,8,FALSE) -> lm/W | M29: Tj (C)
B31: Code | E31: =CONCATENATE($E6,E29) -> 2φv (lm) | G31: =CONCATENATE($E6,G29) -> 2Vf (V) | I31: =CONCATENATE($E6,I29) -> 2Pd (W) | K31: =CONCATENATE($E6,K29) -> 2lm/W | M31: =CONCATENATE($E6,M29) -> 2Tj (C)
B32: =CONCATENATE(Calculation!B3,"-",Calculation!C3,Calculation!D3,Calculation!E3,"-",VLOOKUP($C$6,Calculation!$G$3:$I$23,3,FALSE)) -> CLU02J-1201C9-302H5U2 | E32: =HLOOKUP(E$31,Calculation!$C$34:$P$52,2,FALSE) -> Not Applicable | G32: =HLOOKUP(G$31,Calculation!$C$34:$P$52,2,FALSE) -> Not Applicable | I32: =HLOOKUP(I$31,Calculation!$C$34:$P$52,2,FALSE) -> Not Applicable | K32: =HLOOKUP(K$31,Calculation!$C$34:$P$52,2,FALSE) -> Not Applicable | M32: =HLOOKUP(M$31,Calculation!$C$34:$P$52,2,FALSE) -> Not Applicable
B33: =CONCATENATE(Calculation!B4,"-",Calculation!C4,Calculation!D4,Calculation!E4,"-",VLOOKUP($C$6,Calculation!$G$3:$I$23,3,FALSE)) -> CLU02J-1202C9-302H5U2 | E33: =HLOOKUP(E$31,Calculation!$C$34:$P$52,3,FALSE) -> Not Applicable | G33: =HLOOKUP(G$31,Calculation!$C$34:$P$52,3,FALSE) -> Not Applicable | I33: =HLOOKUP(I$31,Calculation!$C$34:$P$52,3,FALSE) -> Not Applicable | K33: =HLOOKUP(K$31,Calculation!$C$34:$P$52,3,FALSE) -> Not Applicable | M33: =HLOOKUP(M$31,Calculation!$C$34:$P$52,3,FALSE) -> Not Applicable
B34: =CONCATENATE(Calculation!B5,"-",Calculation!C5,Calculation!D5,Calculation!E5,"-",VLOOKUP($C$6,Calculation!$G$3:$I$23,3,FALSE)) -> CLU02J-1203C9-302H5U2 | E34: =HLOOKUP(E$31,Calculation!$C$34:$P$52,4,FALSE) -> 1904.5919 | G34: =HLOOKUP(G$31,Calculation!$C$34:$P$52,4,FALSE) -> 34.781298 | I34: =HLOOKUP(I$31,Calculation!$C$34:$P$52,4,FALSE) -> 15.651584 | K34: =HLOOKUP(K$31,Calculation!$C$34:$P$52,4,FALSE) -> 121.68685 | M34: =HLOOKUP(M$31,Calculation!$C$34:$P$52,4,FALSE) -> 90.431183
B35: =CONCATENATE(Calculation!B6,"-",Calculation!C6,Calculation!D6,Calculation!E6,"-",VLOOKUP($C$6,Calculation!$G$3:$I$23,3,FALSE)) -> CLU02J-1204C9-302H5U2 | E35: =HLOOKUP(E$31,Calculation!$C$34:$P$52,5,FALSE) -> 1925.5453 | G35: =HLOOKUP(G$31,Calculation!$C$34:$P$52,5,FALSE) -> 33.872628 | I35: =HLOOKUP(I$31,Calculation!$C$34:$P$52,5,FALSE) -> 15.242682 | K35: =HLOOKUP(K$31,Calculation!$C$34:$P$52,5,FALSE) -> 126.32588 | M35: =HLOOKUP(M$31,Calculation!$C$34:$P$52,5,FALSE) -> 87.888306
B36: =CONCATENATE(Calculation!B7,"-",Calculation!C7,Calculation!D7,Calculation!E7,"-",VLOOKUP($C$6,Calculation!$G$3:$I$23,3,FALSE)) -> CLU03J-1205C9-302H5U2 | E36: =HLOOKUP(E$31,Calculation!$C$34:$P$52,6,FALSE) -> 2049.0339 | G36: =HLOOKUP(G$31,Calculation!$C$34:$P$52,6,FALSE) -> 33.317303 | I36: =HLOOKUP(I$31,Calculation!$C$34:$P$52,6,FALSE) -> 14.992786 | K36: =HLOOKUP(K$31,Calculation!$C$34:$P$52,6,FALSE) -> 136.66798 | M36: =HLOOKUP(M$31,Calculation!$C$34:$P$52,6,FALSE) -> 84.974694
B37: =CONCATENATE(Calculation!B8,"-",Calculation!C8,Calculation!D8,Calculation!E8,"-",VLOOKUP($C$6,Calculation!$G$3:$I$23,3,FALSE)) -> CLU03J-1206C9-302H5U2 | E37: =HLOOKUP(E$31,Calculation!$C$34:$P$52,7,FALSE) -> 2051.544 | G37: =HLOOKUP(G$31,Calculation!$C$34:$P$52,7,FALSE) -> 32.921101 | I37: =HLOOKUP(I$31,Calculation!$C$34:$P$52,7,FALSE) -> 14.814496 | K37: =HLOOKUP(K$31,Calculation!$C$34:$P$52,7,FALSE) -> 138.4822 | M37: =HLOOKUP(M$31,Calculation!$C$34:$P$52,7,FALSE) -> 83.816441
B38: =CONCATENATE(Calculation!B9,"-",Calculation!C9,Calculation!D9,Calculation!E9,"-",VLOOKUP($C$6,Calculation!$G$3:$I$23,3,FALSE)) -> CLU03J-1208C9-302H5U2 | E38: =HLOOKUP(E$31,Calculation!$C$34:$P$52,8,FALSE) -> 2045.1711 | G38: =HLOOKUP(G$31,Calculation!$C$34:$P$52,8,FALSE) -> 32.421209 | I38: =HLOOKUP(I$31,Calculation!$C$34:$P$52,8,FALSE) -> 14.589544 | K38: =HLOOKUP(K$31,Calculation!$C$34:$P$52,8,FALSE) -> 140.1806 | M38: =HLOOKUP(M$31,Calculation!$C$34:$P$52,8,FALSE) -> 81.78258
B39: =CONCATENATE(Calculation!B10,"-",Calculation!C10,Calculation!D10,Calculation!E10,"-",VLOOKUP($C$6,Calculation!$G$3:$I$23,3,FALSE)) -> CLU03J-1210C9-302H5U2 | E39: =HLOOKUP(E$31,Calculation!$C$34:$P$52,9,FALSE) -> 2051.9814 | G39: =HLOOKUP(G$31,Calculation!$C$34:$P$52,9,FALSE) -> 32.112102 | I39: =HLOOKUP(I$31,Calculation!$C$34:$P$52,9,FALSE) -> 14.450446 | K39: =HLOOKUP(K$31,Calculation!$C$34:$P$52,9,FALSE) -> 142.00125 | M39: =HLOOKUP(M$31,Calculation!$C$34:$P$52,9,FALSE) -> 80.559777
B40: =CONCATENATE(Calculation!B11,"-",Calculation!C11,Calculation!D11,Calculation!E11,"-",VLOOKUP($C$6,Calculation!$G$3:$I$23,3,FALSE)) -> CLU04J-1211C9-302H5U2 | E40: =HLOOKUP(E$31,Calculation!$C$34:$P$52,10,FALSE) -> 2144.8067 | G40: =HLOOKUP(G$31,Calculation!$C$34:$P$52,10,FALSE) -> 32.003485 | I40: =HLOOKUP(I$31,Calculation!$C$34:$P$52,10,FALSE) -> 14.401568 | K40: =HLOOKUP(K$31,Calculation!$C$34:$P$52,10,FALSE) -> 148.92869 | M40: =HLOOKUP(M$31,Calculation!$C$34:$P$52,10,FALSE) -> 79.964163
B41: =CONCATENATE(Calculation!B12,"-",Calculation!C12,Calculation!D12,Calculation!E12,"-",VLOOKUP($C$6,Calculation!$G$3:$I$23,3,FALSE)) -> CLU04J-1212C9-302H5U2 | E41: =HLOOKUP(E$31,Calculation!$C$34:$P$52,11,FALSE) -> 2154.4417 | G41: =HLOOKUP(G$31,Calculation!$C$34:$P$52,11,FALSE) -> 31.916834 | I41: =HLOOKUP(I$31,Calculation!$C$34:$P$52,11,FALSE) -> 14.362575 | K41: =HLOOKUP(K$31,Calculation!$C$34:$P$52,11,FALSE) -> 150.00386 | M41: =HLOOKUP(M$31,Calculation!$C$34:$P$52,11,FALSE) -> 79.375623
B42: =CONCATENATE(Calculation!B13,"-",Calculation!C13,Calculation!D13,Calculation!E13,"-",VLOOKUP($C$6,Calculation!$G$3:$I$23,3,FALSE)) -> CLU04J-1812C9-302H5U2 | E42: =HLOOKUP(E$31,Calculation!$C$34:$P$52,12,FALSE) -> 3142.2463 | G42: =HLOOKUP(G$31,Calculation!$C$34:$P$52,12,FALSE) -> 47.838762 | I42: =HLOOKUP(I$31,Calculation!$C$34:$P$52,12,FALSE) -> 21.527443 | K42: =HLOOKUP(K$31,Calculation!$C$34:$P$52,12,FALSE) -> 145.96468 | M42: =HLOOKUP(M$31,Calculation!$C$34:$P$52,12,FALSE) -> 79.946185
B43: =CONCATENATE(Calculation!B14,"-",Calculation!C14,Calculation!D14,Calculation!E14,"-",VLOOKUP($C$6,Calculation!$G$3:$I$23,3,FALSE)) -> CLU04J-1818C9-302H5U2 | E43: =HLOOKUP(E$31,Calculation!$C$34:$P$52,13,FALSE) -> 3103.0426 | G43: =HLOOKUP(G$31,Calculation!$C$34:$P$52,13,FALSE) -> 47.323242 | I43: =HLOOKUP(I$31,Calculation!$C$34:$P$52,13,FALSE) -> 21.295459 | K43: =HLOOKUP(K$31,Calculation!$C$34:$P$52,13,FALSE) -> 145.71382 | M43: =HLOOKUP(M$31,Calculation!$C$34:$P$52,13,FALSE) -> 78.186872
B44: =CONCATENATE(Calculation!B15,"-",Calculation!C15,Calculation!D15,Calculation!E15,"-",VLOOKUP($C$6,Calculation!$G$3:$I$23,3,FALSE)) -> -1825C9-302H5U2 | E44: =HLOOKUP(E$31,Calculation!$C$34:$P$52,14,FALSE) -> 3297.5622 | G44: =HLOOKUP(G$31,Calculation!$C$34:$P$52,14,FALSE) -> 46.988852 | I44: =HLOOKUP(I$31,Calculation!$C$34:$P$52,14,FALSE) -> 21.144983 | K44: =HLOOKUP(K$31,Calculation!$C$34:$P$52,14,FALSE) -> 155.9501 | M44: =HLOOKUP(M$31,Calculation!$C$34:$P$52,14,FALSE) -> 77.528447
B45: =CONCATENATE(Calculation!B16,"-",Calculation!C16,Calculation!D16,Calculation!E16,"-",VLOOKUP($C$6,Calculation!$G$3:$I$23,3,FALSE)) -> -3618C9-302H5U2 | E45: =HLOOKUP(E$31,Calculation!$C$34:$P$52,15,FALSE) -> 6228.8319 | G45: =HLOOKUP(G$31,Calculation!$C$34:$P$52,15,FALSE) -> 94.52407 | I45: =HLOOKUP(I$31,Calculation!$C$34:$P$52,15,FALSE) -> 42.535831 | K45: =HLOOKUP(K$31,Calculation!$C$34:$P$52,15,FALSE) -> 146.43729 | M45: =HLOOKUP(M$31,Calculation!$C$34:$P$52,15,FALSE) -> 78.820503
C46: CITILED is a registered trademark of CITIZEN ELECTRONICS CO., LTD. Japan. | N46: Ref_CE-0621P-201910
...

Sheet Calculation
B1: ①機種情報
B2: Product | C2: Series | D2: Parallel | E2: chip | G2: No. | H2: CCT&Ra | I2: Color code & Phosphor
B3: CLU02J | C3: 12 | D3: 01 | E3: C9 | G3: 1 | K3: ※製品型番未決定、蛍光体組み合わせ記号未取得
B4: CLU02J | C4: 12 | D4: 02 | E4: C9 | G4: 2
B5: CLU02J | C5: 12 | D5: 03 | E5: C9 | G5: 3
B6: CLU02J | C6: 12 | D6: 04 | E6: C9 | G6: 4 | H6: 6500K,80Min | I6: 652M2U1
B7: CLU03J | C7: 12 | D7: 05 | E7: C9 | G7: 5 | H7: 5700K,80Min | I7: 572M2U1
B8: CLU03J | C8: 12 | D8: 06 | E8: C9 | G8: 6 | H8: 5000K,80Min | I8: 502M2U1
B9: CLU03J | C9: 12 | D9: 08 | E9: C9 | G9: 7 | H9: 4000K,80Min | I9: 402M2U1
B10: CLU03J | C10: 12 | D10: 10 | E10: C9 | G10: 8 | H10: 3500K,80Min | I10: 352M2U1
B11: CLU04J | C11: 12 | D11: 11 | E11: C9 | G11: 9 | H11: 3000K,80Min | I11: 302M2U1
B12: CLU04J | C12: 12 | D12: 12 | E12: C9 | G12: 10 | H12: 2700K,80Min | I12: 272M2U1
B13: CLU04J | C13: 18 | D13: 12 | E13: C9 | G13: 11 | H13: 5700K,90Min On BBL | I13: 572H5U2
B14: CLU04J | C14: 18 | D14: 18 | E14: C9 | G14: 12 | H14: 4000K,90Min On BBL | I14: 402H5U2
C15: 18 | D15: 25 | E15: C9 | G15: 13 | H15: 3500K,90Min On BBL | I15: 352H5U2
C16: 36 | D16: 18 | E16: C9 | G16: 14 | H16: 3000K,90Min On BBL | I16: 302H5U2
G17: 15 | H17: 2700K,90Min On BBL | I17: 272H5U2
G18: 16 | H18: 3500K,90Min B. BBL | I18: 352H6U2
G19: 17 | H19: 3000K,90Min B. BBL | I19: 302H6U2
G20: 18 | H20: 2700K,90Min B. BBL | I20: 272H6U2
G21: 19 | H21: 4000K,97Typ | I21: 402H7U4
G22: 20 | H22: 3000K,97Typ | I22: 302H7U4
G23: 21 | H23: 2700K,97Typ | I23: 272H7U4
A27: 1 | B27: Luminous flux | C27: If (mA) | D27: Vf (V) | E27: Vf_min (V) | F27: Vf_max (V) | G27: Pd (W) | H27: lm/W | I27: lm
A28: 2 | B28: Forward current | C28: φv (lm) | D28: Vf (V) | E28: Vf_min (V) | F28: Vf_max (V) | G28: Pd (W) | H28: lm/W | I28: mA
A29: 3 | C29: lm | D29: If | E29: Vf | F29: lm/W | G29: Vf | H29: lm/W | I29: W
C32: [Luminous flux] | J32: [Forward current]
C33: =C27 -> If (mA) | D33: =D27 -> Vf (V) | E33: =E27 -> Vf_min (V) | F33: =F27 -> Vf_max (V) | G33: =G27 -> Pd (W) | H33: =H27 -> lm/W | I33: =Selector!M9 -> Tj (C) | J33: =C28 -> φv (lm) | K33: =D28 -> Vf (V) | L33: =E28 -> Vf_min (V) | M33: =F28 -> Vf_max (V) | N33: =G28 -> Pd (W) | O33: =H28 -> lm/W | P33: =Selector!M9 -> Tj (C)
C34: =CONCATENATE($A27,C27) -> 1If (mA) | D34: =CONCATENATE($A27,D27) -> 1Vf (V) | E34: =CONCATENATE($A27,E27) -> 1Vf_min (V) | F34: =CONCATENATE($A27,F27) -> 1Vf_max (V) | G34: =CONCATENATE($A27,G27) -> 1Pd (W) | H34: =CONCATENATE($A27,H27) -> 1lm/W | I34: =CONCATENATE($A27,I33) -> 1Tj (C) | J34: =CONCATENATE($A28,C28) -> 2φv (lm) | K34: =CONCATENATE($A28,D28) -> 2Vf (V) | L34: =CONCATENATE($A28,E28) -> 2Vf_min (V) | M34: =CONCATENATE($A28,F28) -> 2Vf_max (V) | N34: =CONCATENATE($A28,G28) -> 2Pd (W) | O34: =CONCATENATE($A28,H28) -> 2lm/W | P34: =CONCATENATE($A28,P33) -> 2Tj (C)
B35: =IF(B3="","",CONCATENATE(B3,"-",C3,D3,E3)) -> CLU02J-1201C9 | C35: =IF(Calculation!U124,Calculation!N101,"Not Applicable") -> 98.305523 | D35: =IF(Calculation!U124,Calculation!R101,"Not Applicable") -> 33.567302 | E35: =IF(Calculation!U124,Calculation!P101,"Not Applicable") -> 31.770551 | F35: =IF(Calculation!U124,Calculation!Q101,"Not Applicable") -> 37.295864 | G35: =IF(Calculation!U124,Calculation!S101,"Not Applicable") -> 3.2998512 | H35: =IF(Calculation!U124,Calculation!U101,"Not Applicable") -> 136.36979 | I35: =IF(Calculation!W124,Calculation!X101,"Not Applicable") -> 83.359212 | J35: =IF(Calculation!U170,Calculation!N147,"Not Applicable") -> Not Applicable | K35: =IF(Calculation!U170,Calculation!R147,"Not Applicable") -> Not Applicable | L35: =IF(Calculation!U170,Calculation!P147,"Not Applicable") -> Not Applicable | M35: =IF(Calculation!U170,Calculation!Q147,"Not Applicable") -> Not Applicable | N35: =IF(Calculation!U170,Calculation!S147,"Not Applicable") -> Not Applicable | O35: =IF(Calculation!U170,Calculation!U147,"Not Applicable") -> Not Applicable | P35: =IF(Calculation!W170,Calculation!X147,"Not Applicable") -> Not Applicable
B36: =IF(B4="","",CONCATENATE(B4,"-",C4,D4,E4)) -> CLU02J-1202C9 | C36: =IF(Calculation!U125,Calculation!N102,"Not Applicable") -> 95.471737 | D36: =IF(Calculation!U125,Calculation!R102,"Not Applicable") -> 32.236432 | E36: =IF(Calculation!U125,Calculation!P102,"Not Applicable") -> 30.510917 | F36: =IF(Calculation!U125,Calculation!Q102,"Not Applicable") -> 35.817164 | G36: =IF(Calculation!U125,Calculation!S102,"Not Applicable") -> 3.0776681 | H36: =IF(Calculation!U125,Calculation!U102,"Not Applicable") -> 146.2146 | I36: =IF(Calculation!W125,Calculation!X102,"Not Applicable") -> 79.396101 | J36: =IF(Calculation!U171,Calculation!N148,"Not Applicable") -> Not Applicable | K36: =IF(Calculation!U171,Calculation!R148,"Not Applicable") -> Not Applicable | L36: =IF(Calculation!U171,Calculation!P148,"Not Applicable") -> Not Applicable | M36: =IF(Calculation!U171,Calculation!Q148,"Not Applicable") -> Not Applicable | N36: =IF(Calculation!U171,Calculation!S148,"Not Applicable") -> Not Applicable | O36: =IF(Calculation!U171,Calculation!U148,"Not Applicable") -> Not Applicable | P36: =IF(Calculation!W171,Calculation!X148,"Not Applicable") -> Not Applicable
B37: =IF(B5="","",CONCATENATE(B5,"-",C5,D5,E5)) -> CLU02J-1203C9 | C37: =IF(Calculation!U126,Calculation!N103,"Not Applicable") -> 95.485271 | D37: =IF(Calculation!U126,Calculation!R103,"Not Applicable") -> 31.803507 | E37: =IF(Calculation!U126,Calculation!P103,"Not Applicable") -> 30.101165 | F37: =IF(Calculation!U126,Calculation!Q103,"Not Applicable") -> 35.336151 | G37: =IF(Calculation!U126,Calculation!S103,"Not Applicable") -> 3.0367664 | H37: =IF(Calculation!U126,Calculation!U103,"Not Applicable") -> 148.18393 | I37: =IF(Calculation!W126,Calculation!X103,"Not Applicable") -> 77.816365 | J37: =IF(Calculation!U172,Calculation!N149,"Not Applicable") -> 1904.5919 | K37: =IF(Calculation!U172,Calculation!R149,"Not Applicable") -> 34.781298 | L37: =IF(Calculation!U172,Calculation!P149,"Not Applicable") -> 31.998794 | M37: =IF(Calculation!U172,Calculation!Q149,"Not Applicable") -> 37.563801 | N37: =IF(Calculation!U172,Calculation!S149,"Not Applicable") -> 15.651584 | O37: =IF(Calculation!U172,Calculation!U149,"Not Applicable") -> 121.68685 | P37: =IF(Calculation!W172,Calculation!X149,"Not Applicable") -> 90.431183
B38: =IF(B6="","",CONCATENATE(B6,"-",C6,D6,E6)) -> CLU02J-1204C9 | C38: =IF(Calculation!U127,Calculation!N104,"Not Applicable") -> 96.654507 | D38: =IF(Calculation!U127,Calculation!R104,"Not Applicable") -> 31.569572 | E38: =IF(Calculation!U127,Calculation!P104,"Not Applicable") -> 29.879753 | F38: =IF(Calculation!U127,Calculation!Q104,"Not Applicable") -> 35.076232 | G38: =IF(Calculation!U127,Calculation!S104,"Not Applicable") -> 3.0513414 | H38: =IF(Calculation!U127,Calculation!U104,"Not Applicable") -> 147.47612 | I38: =IF(Calculation!W127,Calculation!X104,"Not Applicable") -> 77.403752 | J38: =IF(Calculation!U173,Calculation!N150,"Not Applicable") -> 1925.5453 | K38: =IF(Calculation!U173,Calculation!R150,"Not Applicable") -> 33.872628 | L38: =IF(Calculation!U173,Calculation!P150,"Not Applicable") -> 31.162817 | M38: =IF(Calculation!U173,Calculation!Q150,"Not Applicable") -> 36.582438 | N38: =IF(Calculation!U173,Calculation!S150,"Not Applicable") -> 15.242682 | O38: =IF(Calculation!U173,Calculation!U150,"Not Applicable") -> 126.32588 | P38: =IF(Calculation!W173,Calculation!X150,"Not Applicable") -> 87.888306
B39: =IF(B7="","",CONCATENATE(B7,"-",C7,D7,E7)) -> CLU03J-1205C9 | C39: =IF(Calculation!U128,Calculation!N105,"Not Applicable") -> 91.842115 | D39: =IF(Calculation!U128,Calculation!R105,"Not Applicable") -> 31.409709 | E39: =IF(Calculation!U128,Calculation!P105,"Not Applicable") -> 29.728447 | F39: =IF(Calculation!U128,Calculation!Q105,"Not Applicable") -> 34.898612 | G39: =IF(Calculation!U128,Calculation!S105,"Not Applicable") -> 2.8847342 | H39: =IF(Calculation!U128,Calculation!U105,"Not Applicable") -> 155.99358 | I39: =IF(Calculation!W128,Calculation!X105,"Not Applicable") -> 76.741218 | J39: =IF(Calculation!U174,Calculation!N151,"Not Applicable") -> 2049.0339 | K39: =IF(Calculation!U174,Calculation!R151,"Not Applicable") -> 33.317303 | L39: =IF(Calculation!U174,Calculation!P151,"Not Applicable") -> 30.651919 | M39: =IF(Calculation!U174,Calculation!Q151,"Not Applicable") -> 35.982687 | N39: =IF(Calculation!U174,Calculation!S151,"Not Applicable") -> 14.992786 | O39: =IF(Calculation!U174,Calculation!U151,"Not Applicable") -> 136.66798 | P39: =IF(Calculation!W174,Calculation!X151,"Not Applicable") -> 84.974694
B40: =IF(B8="","",CONCATENATE(B8,"-",C8,D8,E8)) -> CLU03J-1206C9 | C40: =IF(Calculation!U129,Calculation!N106,"Not Applicable") -> 92.452916 | D40: =IF(Calculation!U129,Calculation!R106,"Not Applicable") -> 31.31372 | E40: =IF(Calculation!U129,Calculation!P106,"Not Applicable") -> 29.637596 | F40: =IF(Calculation!U129,Calculation!Q106,"Not Applicable") -> 34.79196 | G40: =IF(Calculation!U129,Calculation!S106,"Not Applicable") -> 2.8950448 | H40: =IF(Calculation!U129,Calculation!U106,"Not Applicable") -> 155.43801 | I40: =IF(Calculation!W129,Calculation!X106,"Not Applicable") -> 76.545576 | J40: =IF(Calculation!U175,Calculation!N152,"Not Applicable") -> 2051.544 | K40: =IF(Calculation!U175,Calculation!R152,"Not Applicable") -> 32.921101 | L40: =IF(Calculation!U175,Calculation!P152,"Not Applicable") -> 30.287413 | M40: =IF(Calculation!U175,Calculation!Q152,"Not Applicable") -> 35.55479 | N40: =IF(Calculation!U175,Calculation!S152,"Not Applicable") -> 14.814496 | O40: =IF(Calculation!U175,Calculation!U152,"Not Applicable") -> 138.4822 | P40: =IF(Calculation!W175,Calculation!X152,"Not Applicable") -> 83.816441
B41: =IF(B9="","",CONCATENATE(B9,"-",C9,D9,E9)) -> CLU03J-1208C9 | C41: =IF(Calculation!U130,Calculation!N107,"Not Applicable") -> 93.487395 | D41: =IF(Calculation!U130,Calculation!R107,"Not Applicable") -> 31.199783 | E41: =IF(Calculation!U130,Calculation!P107,"Not Applicable") -> 29.529757 | F41: =IF(Calculation!U130,Calculation!Q107,"Not Applicable") -> 34.665367 | G41: =IF(Calculation!U130,Calculation!S107,"Not Applicable") -> 2.9167864 | H41: =IF(Calculation!U130,Calculation!U107,"Not Applicable") -> 154.27938 | I41: =IF(Calculation!W130,Calculation!X107,"Not Applicable") -> 76.179656 | J41: =IF(Calculation!U176,Calculation!N153,"Not Applicable") -> 2045.1711 | K41: =IF(Calculation!U176,Calculation!R153,"Not Applicable") -> 32.421209 | L41: =IF(Calculation!U176,Calculation!P153,"Not Applicable") -> 29.827513 | M41: =IF(Calculation!U176,Calculation!Q153,"Not Applicable") -> 35.014906 | N41: =IF(Calculation!U176,Calculation!S153,"Not Applicable") -> 14.589544 | O41: =IF(Calculation!U176,Calculation!U153,"Not Applicable") -> 140.1806 | P41: =IF(Calculation!W176,Calculation!X153,"Not Applicable") -> 81.78258
B42: =IF(B10="","",CONCATENATE(B10,"-",C10,D10,E10)) -> CLU03J-1210C9 | C42: =IF(Calculation!U131,Calculation!N108,"Not Applicable") -> 93.412626 | D42: =IF(Calculation!U131,Calculation!R108,"Not Applicable") -> 31.12546 | E42: =IF(Calculation!U131,Calculation!P108,"Not Applicable") -> 29.459413 | F42: =IF(Calculation!U131,Calculation!Q108,"Not Applicable") -> 34.582789 | G42: =IF(Calculation!U131,Calculation!S108,"Not Applicable") -> 2.907511 | H42: =IF(Calculation!U131,Calculation!U108,"Not Applicable") -> 154.77156 | I42: =IF(Calculation!W131,Calculation!X108,"Not Applicable") -> 75.942603 | J42: =IF(Calculation!U177,Calculation!N154,"Not Applicable") -> 2051.9814 | K42: =IF(Calculation!U177,Calculation!R154,"Not Applicable") -> 32.112102 | L42: =IF(Calculation!U177,Calculation!P154,"Not Applicable") -> 29.543134 | M42: =IF(Calculation!U177,Calculation!Q154,"Not Applicable") -> 34.68107 | N42: =IF(Calculation!U177,Calculation!S154,"Not Applicable") -> 14.450446 | O42: =IF(Calculation!U177,Calculation!U154,"Not Applicable") -> 142.00125 | P42: =IF(Calculation!W177,Calculation!X154,"Not Applicable") -> 80.559777
B43: =IF(B11="","",CONCATENATE(B11,"-",C11,D11,E11)) -> CLU04J-1211C9 | C43: =IF(Calculation!U132,Calculation!N109,"Not Applicable") -> 89.213958 | D43: =IF(Calculation!U132,Calculation!R109,"Not Applicable") -> 31.092483 | E43: =IF(Calculation!U132,Calculation!P109,"Not Applicable") -> 29.4282 | F43: =IF(Calculation!U132,Calculation!Q109,"Not Applicable") -> 34.546148 | G43: =IF(Calculation!U132,Calculation!S109,"Not Applicable") -> 2.7738834 | H43: =IF(Calculation!U132,Calculation!U109,"Not Applicable") -> 162.22744 | I43: =IF(Calculation!W132,Calculation!X109,"Not Applicable") -> 75.778197 | J43: =IF(Calculation!U178,Calculation!N155,"Not Applicable") -> 2144.8067 | K43: =IF(Calculation!U178,Calculation!R155,"Not Applicable") -> 32.003485 | L43: =IF(Calculation!U178,Calculation!P155,"Not Applicable") -> 29.443206 | M43: =IF(Calculation!U178,Calculation!Q155,"Not Applicable") -> 34.563764 | N43: =IF(Calculation!U178,Calculation!S155,"Not Applicable") -> 14.401568 | O43: =IF(Calculation!U178,Calculation!U155,"Not Applicable") -> 148.92869 | P43: =IF(Calculation!W178,Calculation!X155,"Not Applicable") -> 79.964163
B44: =IF(B12="","",CONCATENATE(B12,"-",C12,D12,E12)) -> CLU04J-1212C9 | C44: =IF(Calculation!U133,Calculation!N110,"Not Applicable") -> 88.763487 | D44: =IF(Calculation!U133,Calculation!R110,"Not Applicable") -> 31.078103 | E44: =IF(Calculation!U133,Calculation!P110,"Not Applicable") -> 29.414591 | F44: =IF(Calculation!U133,Calculation!Q110,"Not Applicable") -> 34.530172 | G44: =IF(Calculation!U133,Calculation!S110,"Not Applicable") -> 2.7586008 | H44: =IF(Calculation!U133,Calculation!U110,"Not Applicable") -> 163.12617 | I44: =IF(Calculation!W133,Calculation!X110,"Not Applicable") -> 75.662351 | J44: =IF(Calculation!U179,Calculation!N156,"Not Applicable") -> 2154.4417 | K44: =IF(Calculation!U179,Calculation!R156,"Not Applicable") -> 31.916834 | L44: =IF(Calculation!U179,Calculation!P156,"Not Applicable") -> 29.363487 | M44: =IF(Calculation!U179,Calculation!Q156,"Not Applicable") -> 34.470181 | N44: =IF(Calculation!U179,Calculation!S156,"Not Applicable") -> 14.362575 | O44: =IF(Calculation!U179,Calculation!U156,"Not Applicable") -> 150.00386 | P44: =IF(Calculation!W179,Calculation!X156,"Not Applicable") -> 79.375623
B45: =IF(B13="","",CONCATENATE(B13,"-",C13,D13,E13)) -> CLU04J-1812C9 | C45: =IF(Calculation!U134,Calculation!N111,"Not Applicable") -> Not Applicable | D45: =IF(Calculation!U134,Calculation!R111,"Not Applicable") -> Not Applicable | E45: =IF(Calculation!U134,Calculation!P111,"Not Applicable") -> Not Applicable | F45: =IF(Calculation!U134,Calculation!Q111,"Not Applicable") -> Not Applicable | G45: =IF(Calculation!U134,Calculation!S111,"Not Applicable") -> Not Applicable | H45: =IF(Calculation!U134,Calculation!U111,"Not Applicable") -> Not Applicable | I45: =IF(Calculation!W134,Calculation!X111,"Not Applicable") -> Not Applicable | J45: =IF(Calculation!U180,Calculation!N157,"Not Applicable") -> 3142.2463 | K45: =IF(Calculation!U180,Calculation!R157,"Not Applicable") -> 47.838762 | L45: =IF(Calculation!U180,Calculation!P157,"Not Applicable") -> 44.011661 | M45: =IF(Calculation!U180,Calculation!Q157,"Not Applicable") -> 51.665862 | N45: =IF(Calculation!U180,Calculation!S157,"Not Applicable") -> 21.527443 | O45: =IF(Calculation!U180,Calculation!U157,"Not Applicable") -> 145.96468 | P45: =IF(Calculation!W180,Calculation!X157,"Not Applicable") -> 79.946185
...

Sheet 02C
J2: カタログ値 | M2: 比較(実績/カタログ値)
B3: 機種 | C3: IF(mA) | D3: VF(V) | E3: Φv(lm) | F3: Ra | G3: R9 | H3: N(pcs) | I3: 備考 | J3: VF[V] | K3: Φv[lm] | M3: RVF | N3: RΦv | O3: 確定値
B4: CHU02CH1201C4-30AL7M4 | C4: 90 | D4: 33.834 | E4: 502.65813 | F4: 72.323108 | G4: -34.387644 | H4: 679 | J4: 34 | K4: 495 | M4: =D4/J4 -> 0.99511765 | N4: =E4/K4 -> 1.015471 | O4: =K4*P4 -> 499.95 | P4: 1.01 | Q4: =O4/$O$4 -> 1
B5: CHU02CH1201C4-40AL7M4 | C5: 90 | D5: 33.779529 | E5: 509.7433 | F5: 76.158278 | G5: -22.295831 | H5: 663 | J5: 34 | K5: 509 | M5: =D5/J5 -> 0.99351555 | N5: =E5/K5 -> 1.0014603 | O5: =K5 -> 509 | Q5: =O5/$O$4 -> 1.0181018
B6: CHU02CH1201C4-50AL7M4 | C6: 90 | D6: 33.835192 | E6: 514.03394 | F6: 77.69575 | G6: -16.726508 | H6: 673 | J6: 34 | K6: 516 | M6: =D6/J6 -> 0.9951527 | N6: =E6/K6 -> 0.9961898 | O6: =K6 -> 516 | Q6: =O6/$O$4 -> 1.0321032
B7: CHU02CH1201C4-273M2M2 | C7: 90 | D7: 33.383383 | E7: 460.58971 | F7: 83.153474 | G7: 8.2589978 | H7: 326531 | J7: 34 | K7: 449 | M7: =D7/J7 -> 0.98186421 | N7: =E7/K7 -> 1.0258123 | O7: =K7*P7 -> 457.98 | P7: 1.02 | Q7: =O7/$O$8 -> 0.97858974
B8: CHU02CH1201C4-303M2M2 | C8: 90 | D8: 33.442976 | E8: 463.39433 | F8: 84.286687 | G8: 12.195272 | H8: 229653 | J8: 34 | K8: 468 | M8: =D8/J8 -> 0.98361694 | N8: =E8/K8 -> 0.99015882 | O8: =K8 -> 468 | Q8: =O8/$O$8 -> 1
B9: CHU02CH1201C4-353M2M2 | C9: 90 | D9: 33.18352 | E9: 473.92231 | F9: 84.404396 | G9: 13.976421 | H9: 64960 | J9: 34 | K9: 476 | M9: =D9/J9 -> 0.97598587 | N9: =E9/K9 -> 0.99563511 | O9: =K9 -> 476 | Q9: =O9/$O$8 -> 1.017094
B10: CHU02CH1201C4-403M2M2 | C10: 90 | D10: 33.352659 | E10: 475.16008 | F10: 84.96816 | G10: 17.293274 | H10: 31759 | J10: 34 | K10: 480 | M10: =D10/J10 -> 0.98096057 | N10: =E10/K10 -> 0.98991684 | O10: =K10 -> 480 | Q10: =O10/$O$8 -> 1.025641
B11: CHU02CH1201C4-503M2M2 | C11: 90 | D11: 33.397916 | E11: 485.70551 | F11: 83.632152 | G11: 12.297999 | H11: 227009 | J11: 34 | K11: 487 | M11: =D11/J11 -> 0.98229164 | N11: =E11/K11 -> 0.99734191 | O11: =K11 -> 487 | Q11: =O11/$O$8 -> 1.0405983
B12: CHU02CH1201C4-653M2M2 | C12: 90 | D12: 32.812266 | E12: 491.1288 | F12: 82.465683 | G12: 8.0441727 | H12: 586 | J12: 34 | K12: 496 | M12: =D12/J12 -> 0.96506665 | N12: =E12/K12 -> 0.99017904 | O12: =K12 -> 496 | Q12: =O12/$O$8 -> 1.0598291
B13: CHU02CH1201C4-273H5M3 | C13: 90 | D13: 33.449236 | E13: 384.23651 | F13: 92.520271 | G13: 57.50415 | H13: 126691 | J13: 34 | K13: 385 | M13: =D13/J13 -> 0.98380105 | N13: =E13/K13 -> 0.9980169 | O13: =K13 -> 385 | Q13: =O13/$O$14 -> 0.95059381
B14: CHU02CH1201C4-303H5M3 | C14: 90 | D14: 33.615488 | E14: 406.79854 | F14: 92.693149 | G14: 58.761166 | H14: 50258 | J14: 34 | K14: 401 | M14: =D14/J14 -> 0.98869082 | N14: =E14/K14 -> 1.0144602 | O14: =K14*P14 -> 405.01 | P14: 1.01 | Q14: =O14/$O$14 -> 1
B15: CHU02CH1201C4-353H5M3 | C15: 90 | D15: 33.263665 | E15: 411.37866 | F15: 92.96477 | G15: 64.418042 | H15: 535 | J15: 34 | K15: 407 | M15: =D15/J15 -> 0.9783431 | N15: =E15/K15 -> 1.0107584 | O15: =K15 -> 407 | Q15: =O15/$O$14 -> 1.0049135
B16: CHU02CH1201C4-403H5M3 | C16: 90 | D16: 33.205881 | E16: 424.4389 | F16: 92.778575 | G16: 63.742153 | H16: 10187 | J16: 34 | K16: 407 | M16: =D16/J16 -> 0.97664356 | N16: =E16/K16 -> 1.0428474 | O16: =K16*P16 -> 419.21 | P16: 1.03 | Q16: =O16/$O$14 -> 1.0350609
B17: CHU02CH1201C4-273H7M5 | C17: 90 | D17: 33.343404 | E17: 334.75265 | F17: 96.813101 | G17: 89.668766 | H17: 701 | J17: 34 | K17: 345 | M17: =D17/J17 -> 0.98068836 | N17: =E17/K17 -> 0.97029753 | O17: =K17*P17 -> 338.1 | P17: 0.98 | Q17: =O17/$O$18 -> 0.94441341
B18: CHU02CH1201C4-303H7M5 | C18: 90 | D18: 33.625425 | E18: 355.33096 | F18: 98.410303 | G18: 96.74171 | H18: 35903 | J18: 34 | K18: 358 | M18: =D18/J18 -> 0.98898308 | N18: =E18/K18 -> 0.99254458 | O18: =K18 -> 358 | Q18: =O18/$O$18 -> 1
B19: CHU02CH1201C4-403H7M5 | C19: 90 | D19: 33.266463 | E19: 383.11704 | F19: 97.27989 | G19: 99.463181 | H19: 1606 | J19: 34 | K19: 367 | M19: =D19/J19 -> 0.97842539 | N19: =E19/K19 -> 1.0439156 | O19: =K19*P19 -> 378.01 | P19: 1.03 | Q19: =O19/$O$18 -> 1.0558939
J21: カタログ値 | M21: 比較(実績/カタログ値)
B22: 機種 | C22: IF(mA) | D22: VF(V) | E22: Φv(lm) | F22: Ra | G22: R9 | H22: N(pcs) | I22: 備考 | J22: VF[V] | K22: Φv[lm] | M22: RVF | N22: RΦv
B23: CHU02CH1202C4-30AL7M4 | C23: 180 | D23: 34.091625 | E23: 1009.2374 | F23: 72.567214 | G23: -33.504518 | H23: 665 | J23: 34 | K23: 979 | M23: =D23/J23 -> 1.0026949 | N23: =E23/K23 -> 1.030886 | O23: =K23*P23 -> 998.58 | P23: 1.02
B24: CHU02CH1202C4-40AL7M4 | C24: 180 | D24: 33.340819 | E24: 1022.7766 | F24: 76.333627 | G24: -22.048127 | H24: 1196 | J24: 34 | K24: 1007 | M24: =D24/J24 -> 0.98061233 | N24: =E24/K24 -> 1.0156669 | O24: =K24 -> 1007
B25: CHU02CH1202C4-50AL7M4 | C25: 180 | D25: 33.555119 | E25: 1018.5304 | F25: 77.584731 | G25: -17.853776 | H25: 2760 | J25: 34 | K25: 1017 | M25: =D25/J25 -> 0.98691527 | N25: =E25/K25 -> 1.0015048 | O25: =K25 -> 1017
B26: CHU02CH1202C4-273M2M2 | C26: 180 | D26: 33.527002 | E26: 904.8043 | F26: 83.040353 | G26: 8.3277282 | H26: 86258 | J26: 34 | K26: 886 | M26: =D26/J26 -> 0.98608829 | N26: =E26/K26 -> 1.0212238 | O26: =K26*P26 -> 894.86 | P26: 1.01
B27: CHU02CH1202C4-303M2M2 | C27: 180 | D27: 33.75156 | E27: 909.81169 | F27: 84.369362 | G27: 12.657635 | H27: 78008 | J27: 34 | K27: 924 | M27: =D27/J27 -> 0.99269296 | N27: =E27/K27 -> 0.98464469 | O27: =K27*P27 -> 914.76 | P27: 0.99
B28: CHU02CH1202C4-353M2M2 | C28: 180 | D28: 33.412547 | E28: 932.80647 | F28: 83.882613 | G28: 11.843695 | H28: 9279 | J28: 34 | K28: 941 | M28: =D28/J28 -> 0.98272197 | N28: =E28/K28 -> 0.99129274 | O28: =K28 -> 941
B29: CHU02CH1202C4-403M2M2 | C29: 180 | D29: 33.63926 | E29: 948.28119 | F29: 84.217268 | G29: 13.430981 | H29: 120978 | J29: 34 | K29: 948 | M29: =D29/J29 -> 0.98939001 | N29: =E29/K29 -> 1.0002966 | O29: =K29 -> 948
B30: CHU02CH1202C4-503M2M2 | C30: 180 | D30: 33.357993 | E30: 950.60498 | F30: 84.41667 | G30: 13.686257 | H30: 17209 | J30: 34 | K30: 960 | M30: =D30/J30 -> 0.98111746 | N30: =E30/K30 -> 0.99021353 | O30: =K30 -> 960
B31: CHU02CH1202C4-653M2M2 | C31: 180 | D31: 33.534436 | E31: 944.80314 | F31: 84.113941 | G31: 12.259591 | H31: 10495 | J31: 34 | K31: 978 | M31: =D31/J31 -> 0.98630695 | N31: =E31/K31 -> 0.96605638 | O31: =K31*P31 -> 948.66 | P31: 0.97
B32: CHU02CH1202C4-273H5M3 | C32: 180 | D32: 33.68069 | E32: 755.69468 | F32: 92.881686 | G32: 58.119404 | H32: 183966 | J32: 34 | K32: 762 | M32: =D32/J32 -> 0.99060854 | N32: =E32/K32 -> 0.9917253 | O32: =K32 -> 762
B33: CHU02CH1202C4-303H5M3 | C33: 180 | D33: 33.626294 | E33: 804.66125 | F33: 92.861168 | G33: 58.624228 | H33: 160532 | J33: 34 | K33: 791 | M33: =D33/J33 -> 0.98900865 | N33: =E33/K33 -> 1.0172709 | O33: =K33*P33 -> 798.91 | P33: 1.01
B34: CHU02CH1202C4-353H5M3 | C34: 180 | D34: 33.657535 | E34: 818.93558 | F34: 92.361794 | G34: 60.033479 | H34: 30180 | J34: 34 | K34: 803 | M34: =D34/J34 -> 0.98992751 | N34: =E34/K34 -> 1.0198451 | O34: =K34*P34 -> 811.03 | P34: 1.01
B35: CHU02CH1202C4-403H5M3 | C35: 180 | D35: 33.647197 | E35: 836.97081 | F35: 92.82766 | G35: 63.875073 | H35: 69655 | J35: 34 | K35: 805 | M35: =D35/J35 -> 0.98962345 | N35: =E35/K35 -> 1.0397153 | O35: =K35*P35 -> 829.15 | P35: 1.03
B36: CHU02CH1202C4-273H7M5 | C36: 180 | D36: 33.708782 | E36: 655.2073 | F36: 97.053515 | G36: 91.032334 | H36: 63300 | J36: 34 | K36: 681 | M36: =D36/J36 -> 0.99143476 | N36: =E36/K36 -> 0.96212526 | O36: =K36*P36 -> 660.57 | P36: 0.97
B37: CHU02CH1202C4-303H7M5 | C37: 180 | D37: 33.478951 | E37: 693.64409 | F37: 97.544315 | G37: 94.87598 | H37: 183970 | J37: 34 | K37: 708 | M37: =D37/J37 -> 0.98467502 | N37: =E37/K37 -> 0.97972329 | O37: =K37*P37 -> 700.92 | P37: 0.99
B38: CHU02CH1202C4-403H7M5 | C38: 180 | D38: 33.439152 | E38: 758.44937 | F38: 97.212368 | G38: 100.41869 | H38: 57833 | J38: 34 | K38: 726 | M38: =D38/J38 -> 0.98350448 | N38: =E38/K38 -> 1.0446961 | O38: =K38*P38 -> 747.78 | P38: 1.03
J40: カタログ値 | M40: 比較(実績/カタログ値)
B41: 機種 | C41: IF(mA) | D41: VF(V) | E41: Φv(lm) | F41: Ra | G41: R9 | H41: N(pcs) | I41: 備考 | J41: VF[V] | K41: Φv[lm] | M41: RVF | N41: RΦv
B42: CHU02CH1203C4-30AL7M4 | C42: 270 | D42: 33.632401 | E42: 1509.8321 | F42: 72.257784 | G42: -33.25859 | H42: 696 | J42: 34 | K42: 1442 | M42: =D42/J42 -> 0.98918828 | N42: =E42/K42 -> 1.0470403 | O42: =K42*P42 -> 1485.26 | P42: 1.03
B43: CHU02CH1203C4-40AL7M4 | C43: 270 | D43: 33.668706 | E43: 1517.6852 | F43: 76.309985 | G43: -20.977809 | H43: 6487 | I43: 2017年実績多 | J43: 34 | K43: 1483 | M43: =D43/J43 -> 0.99025607 | N43: =E43/K43 -> 1.0233886 | O43: =K43*P43 -> 1497.83 | P43: 1.01
...

Sheet 03C
J2: カタログ値 | M2: 比較(実績/カタログ値)
B3: 機種 | C3: IF(mA) | D3: VF(V) | E3: Φv(lm) | F3: Ra | G3: R9 | H3: N(pcs) | J3: VF[V] | K3: Φv[lm] | M3: RVF | N3: RΦv
B4: CHU03CH1205C4-30AL7M4 | C4: 450 | D4: 33.601816 | E4: 2582.1041 | F4: 72.063416 | G4: -35.532073 | H4: 186 | J4: 34 | K4: 2463 | M4: =D4/J4 -> 0.98828871 | N4: =E4/K4 -> 1.0483573 | O4: =K4*P4 -> 2561.52 | P4: 1.04
B5: CHU03CH1205C4-40AL7M4 | C5: 450 | D5: 33.300064 | E5: 2631.8311 | F5: 75.577533 | G5: -24.673943 | H5: 1096 | J5: 34 | K5: 2531 | M5: =D5/J5 -> 0.97941364 | N5: =E5/K5 -> 1.0398385 | O5: =K5*P5 -> 2606.93 | P5: 1.03
B6: CHU03CH1205C4-50AL7M4 | C6: 450 | D6: 34.216204 | E6: 2578.771 | F6: 77.660056 | G6: -18.853656 | H6: 10472 | J6: 34 | K6: 2557 | M6: =D6/J6 -> 1.0063589 | N6: =E6/K6 -> 1.0085143 | O6: =K6 -> 2557
B7: CHU03CH1205C4-273M2M2 | C7: 450 | D7: 33.48795 | E7: 2209.8398 | F7: 82.938299 | G7: 6.9887267 | H7: 9573 | J7: 34 | K7: 2231 | M7: =D7/J7 -> 0.98493971 | N7: =E7/K7 -> 0.99051538 | O7: =K7 -> 2231
B8: CHU03CH1205C4-303M2M2 | C8: 450 | D8: 33.444296 | E8: 2268.269 | F8: 84.237824 | G8: 11.86263 | H8: 192880 | J8: 34 | K8: 2326 | M8: =D8/J8 -> 0.98365577 | N8: =E8/K8 -> 0.97518013 | O8: =K8*P8 -> 2279.48 | P8: 0.98
B9: CHU03CH1205C4-353M2M2 | C9: 450 | D9: 33.774416 | E9: 2348.2419 | F9: 84.078161 | G9: 12.533121 | H9: 35763 | J9: 34 | K9: 2366 | M9: =D9/J9 -> 0.99336518 | N9: =E9/K9 -> 0.99249447 | O9: =K9 -> 2366
B10: CHU03CH1205C4-403M2M2 | C10: 450 | D10: 33.531267 | E10: 2379.1529 | F10: 83.918782 | G10: 11.980602 | H10: 185915 | J10: 34 | K10: 2385 | M10: =D10/J10 -> 0.98621374 | N10: =E10/K10 -> 0.99754838 | O10: =K10 -> 2385
B11: CHU03CH1205C4-503M2M2 | C11: 450 | D11: 33.880015 | E11: 2420.4001 | F11: 84.306213 | G11: 13.115749 | H11: 11299 | J11: 34 | K11: 2414 | M11: =D11/J11 -> 0.99647104 | N11: =E11/K11 -> 1.0026512 | O11: =K11 -> 2414
B12: CHU03CH1205C4-653M2M2 | C12: 450 | D12: 33.653636 | E12: 2364.8628 | F12: 83.429866 | G12: 11.011992 | H12: 30268 | J12: 34 | K12: 2458 | M12: =D12/J12 -> 0.98981282 | N12: =E12/K12 -> 0.96210854 | O12: =K12*P12 -> 2384.26 | P12: 0.97
B13: CHU03CH1205C4-273H5M3 | C13: 450 | D13: 33.329852 | E13: 1875.7339 | F13: 92.665514 | G13: 58.118561 | H13: 28240 | J13: 34 | K13: 1916 | M13: =D13/J13 -> 0.98028977 | N13: =E13/K13 -> 0.97898427 | O13: =K13*P13 -> 1896.84 | P13: 0.99
B14: CHU03CH1205C4-303H5M3 | C14: 450 | D14: 33.481189 | E14: 1978.945 | F14: 92.922834 | G14: 59.36481 | H14: 240894 | J14: 34 | K14: 1992 | M14: =D14/J14 -> 0.98474084 | N14: =E14/K14 -> 0.99344628 | O14: =K14 -> 1992
B15: CHU03CH1205C4-353H5M3 | C15: 450 | D15: 33.357545 | E15: 2049.7019 | F15: 92.854776 | G15: 61.900023 | H15: 50628 | J15: 34 | K15: 2020 | M15: =D15/J15 -> 0.98110427 | N15: =E15/K15 -> 1.0147039 | O15: =K15 -> 2020
B16: CHU03CH1205C4-403H5M3 | C16: 450 | D16: 33.769672 | E16: 2105.0893 | F16: 92.821562 | G16: 63.360387 | H16: 20191 | J16: 34 | K16: 2023 | M16: =D16/J16 -> 0.99322563 | N16: =E16/K16 -> 1.040578 | O16: =K16*P16 -> 2083.69 | P16: 1.03
B17: CHU03CH1205C4-273H7M5 | C17: 450 | D17: 33.326094 | E17: 1633.2992 | F17: 97.019578 | G17: 89.248398 | H17: 1430 | J17: 34 | K17: 1714 | M17: =D17/J17 -> 0.98017924 | N17: =E17/K17 -> 0.95291666 | O17: =K17*P17 -> 1645.44 | P17: 0.96
B18: CHU03CH1205C4-303H7M5 | C18: 450 | D18: 33.67867 | E18: 1732.2629 | F18: 97.617743 | G18: 94.674145 | H18: 24414 | J18: 34 | K18: 1783 | M18: =D18/J18 -> 0.99054912 | N18: =E18/K18 -> 0.97154396 | O18: =K18*P18 -> 1747.34 | P18: 0.98
B19: CHU03CH1205C4-403H7M5 | C19: 450 | D19: 33.705729 | E19: 1923.2257 | F19: 97.044323 | G19: 96.237996 | H19: 25228 | J19: 34 | K19: 1827 | M19: =D19/J19 -> 0.99134498 | N19: =E19/K19 -> 1.0526687 | O19: =K19*P19 -> 1900.08 | P19: 1.04
J21: カタログ値 | M21: 比較(実績/カタログ値)
B22: 機種 | C22: IF(mA) | D22: VF(V) | E22: Φv(lm) | F22: Ra | G22: R9 | H22: N(pcs) | J22: VF[V] | K22: Φv[lm] | M22: RVF | N22: RΦv
B23: CHU03CH1206C4-30AL7M4 | C23: 540 | D23: 33.354653 | E23: 3047.6981 | F23: 72.619872 | G23: -34.610946 | H23: 709 | J23: 34 | K23: 2925 | M23: =D23/J23 -> 0.98101921 | N23: =E23/K23 -> 1.0419481 | O23: =K23*P23 -> 3012.75 | P23: 1.03
B24: CHU03CH1206C4-40AL7M4 | C24: 540 | D24: 33.66495 | E24: 3108.1239 | F24: 75.908719 | G24: -24.656373 | H24: 42794 | J24: 34 | K24: 3006 | M24: =D24/J24 -> 0.99014559 | N24: =E24/K24 -> 1.0339734 | O24: =K24*P24 -> 3066.12 | P24: 1.02
B25: CHU03CH1206C4-50AL7M4 | C25: 540 | D25: 33.664634 | E25: 3069.9833 | F25: 76.383397 | G25: -23.86981 | H25: 9611 | J25: 34 | K25: 3038 | M25: =D25/J25 -> 0.9901363 | N25: =E25/K25 -> 1.0105277 | O25: =K25 -> 3038
B26: CHU03CH1206C4-273M2M2 | C26: 540 | D26: 33.526051 | E26: 2620.8334 | F26: 82.411689 | G26: 5.5432172 | H26: 373 | J26: 34 | K26: 2651 | M26: =D26/J26 -> 0.98606032 | N26: =E26/K26 -> 0.98862068 | O26: =K26 -> 2651
B27: CHU03CH1206C4-303M2M2 | C27: 540 | D27: 33.714498 | E27: 2703.4942 | F27: 84.065792 | G27: 11.109879 | H27: 430586 | J27: 34 | K27: 2762 | M27: =D27/J27 -> 0.99160289 | N27: =E27/K27 -> 0.97881761 | O27: =K27*P27 -> 2734.38 | P27: 0.99
B28: CHU03CH1206C4-353M2M2 | C28: 540 | D28: 33.561809 | E28: 2779.9587 | F28: 84.311577 | G28: 13.673284 | H28: 20549 | J28: 34 | K28: 2811 | M28: =D28/J28 -> 0.98711202 | N28: =E28/K28 -> 0.98895719 | O28: =K28 -> 2811
B29: CHU03CH1206C4-403M2M2 | C29: 540 | D29: 33.56687 | E29: 2824.9602 | F29: 84.516978 | G29: 14.430567 | H29: 68900 | J29: 34 | K29: 2834 | M29: =D29/J29 -> 0.98726089 | N29: =E29/K29 -> 0.99681024 | O29: =K29 -> 2834
B30: CHU03CH1206C4-503M2M2 | C30: 540 | D30: 33.438394 | E30: 2905.5619 | F30: 84.466593 | G30: 13.166746 | H30: 1107 | J30: 34 | K30: 2867 | M30: =D30/J30 -> 0.98348219 | N30: =E30/K30 -> 1.0134503 | O30: =K30 -> 2867
B31: CHU03CH1206C4-653M2M2 | C31: 540 | D31: 33.620704 | E31: 2823.2835 | F31: 82.726763 | G31: 8.730772 | H31: 56305 | J31: 34 | K31: 2919 | M31: =D31/J31 -> 0.98884423 | N31: =E31/K31 -> 0.96720915 | O31: =K31*P31 -> 2860.62 | P31: 0.98
B32: CHU03CH1206C4-273H5M3 | C32: 540 | D32: 33.528662 | E32: 2242.2617 | F32: 92.49886 | G32: 57.484065 | H32: 20214 | J32: 34 | K32: 2276 | M32: =D32/J32 -> 0.98613711 | N32: =E32/K32 -> 0.98517648 | O32: =K32*P32 -> 2253.24 | P32: 0.99
B33: CHU03CH1206C4-303H5M3 | C33: 540 | D33: 33.719817 | E33: 2346.7425 | F33: 92.615607 | G33: 59.124732 | H33: 147314 | J33: 34 | K33: 2366 | M33: =D33/J33 -> 0.99175933 | N33: =E33/K33 -> 0.99186075 | O33: =K33 -> 2366
B34: CHU03CH1206C4-353H5M3 | C34: 540 | D34: 33.293304 | E34: 2423.3355 | F34: 93.099632 | G34: 64.451261 | H34: 6562 | J34: 34 | K34: 2401 | M34: =D34/J34 -> 0.97921483 | N34: =E34/K34 -> 1.0093026 | O34: =K34 -> 2401
B35: CHU03CH1206C4-403H5M3 | C35: 540 | D35: 33.6773 | E35: 2522.5944 | F35: 92.421797 | G35: 62.046971 | H35: 110222 | J35: 34 | K35: 2402 | M35: =D35/J35 -> 0.99050883 | N35: =E35/K35 -> 1.0502058 | O35: =K35*P35 -> 2498.08 | P35: 1.04
B36: CHU03CH1206C4-273H7M5 | C36: 540 | D36: 33.191848 | E36: 1955.8184 | F36: 97.114739 | G36: 91.19631 | H36: 1047 | J36: 34 | K36: 2037 | M36: =D36/J36 -> 0.97623081 | N36: =E36/K36 -> 0.96014649 | O36: =K36*P36 -> 1975.89 | P36: 0.97
B37: CHU03CH1206C4-303H7M5 | C37: 540 | D37: 33.45452 | E37: 2072.1736 | F37: 97.528935 | G37: 93.743576 | H37: 10582 | J37: 34 | K37: 2117 | M37: =D37/J37 -> 0.98395648 | N37: =E37/K37 -> 0.97882551 | O37: =K37*P37 -> 2095.83 | P37: 0.99
B38: CHU03CH1206C4-403H7M5 | C38: 540 | D38: 33.71519 | E38: 2286.8956 | F38: 97.251617 | G38: 96.16246 | H38: 9428 | J38: 34 | K38: 2170 | M38: =D38/J38 -> 0.99162323 | N38: =E38/K38 -> 1.0538689 | O38: =K38*P38 -> 2256.8 | P38: 1.04
J40: カタログ値 | M40: 比較(実績/カタログ値)
B41: 機種 | C41: IF(mA) | D41: VF(V) | E41: Φv(lm) | F41: Ra | G41: R9 | H41: N(pcs) | J41: VF[V] | K41: Φv[lm] | M41: RVF | N41: RΦv
B42: CHU03CH1208C4-30AL7M4 | C42: 720 | D42: 33.811392 | E42: 4003.5777 | F42: 72.711113 | G42: -33.084156 | H42: 579 | J42: 34 | K42: 3825 | M42: =D42/J42 -> 0.99445272 | N42: =E42/K42 -> 1.046687 | O42: =K42*P42 -> 3939.75 | P42: 1.03
B43: CHU03CH1208C4-40AL7M4 | C43: 720 | D43: 33.844469 | E43: 4109.1428 | F43: 75.848965 | G43: -23.294126 | H43: 11353 | J43: 34 | K43: 3932 | M43: =D43/J43 -> 0.99542557 | N43: =E43/K43 -> 1.0450516 | O43: =K43*P43 -> 4049.96 | P43: 1.03
...

Sheet 04C
J2: カタログ値 | M2: 比較(実績/カタログ値)
B3: 機種 | C3: IF(mA) | D3: VF(V) | E3: Φv(lm) | F3: Ra | G3: R9 | H3: N(pcs) | J3: VF[V] | K3: Φv[lm] | M3: RVF | N3: RΦv
B4: CHU04CH1211C4-30AL7M4 | C4: 990 | D4: 32.960771 | E4: 5453.5052 | F4: 71.506247 | G4: -38.787432 | H4: 2505 | J4: 34 | K4: 5440 | M4: =D4/J4 -> 0.96943445 | N4: =E4/K4 -> 1.0024826 | O4: =K4 -> 5440
B5: CHU04CH1211C4-40AL7M4 | C5: 990 | D5: 33.290411 | E5: 5549.285 | F5: 75.604275 | G5: -25.098949 | H5: 2118 | J5: 34 | K5: 5590 | M5: =D5/J5 -> 0.97912975 | N5: =E5/K5 -> 0.99271647 | O5: =K5 -> 5590
B6: CHU04CH1211C4-50AL7M4 | C6: 990 | D6: 33.328429 | E6: 5564.5889 | F6: 76.82966 | G6: -21.850957 | H6: 11609 | J6: 34 | K6: 5648 | M6: =D6/J6 -> 0.98024792 | N6: =E6/K6 -> 0.98523174 | O6: =K6*P6 -> 5591.52 | P6: 0.99
B7: CHU04CH1211C4-273M2M2 | C7: 990 | D7: 33.234383 | E7: 4834.0338 | F7: 82.802932 | G7: 6.0606307 | H7: 533 | J7: 34 | K7: 4926 | M7: =D7/J7 -> 0.97748186 | N7: =E7/K7 -> 0.98133045 | O7: =K7*P7 -> 4876.74 | P7: 0.99
