Workbook
Name Master: [1]Master!$B$6:$Q$1506
Name Master波長: [1]List!$B$5:$C$8
Name sheetcount: #REF!
Name sheetcount: #REF!
Name 校正球一覧: #REF!
Name 校正球一覧: #REF!
Name 校正球一覧: #REF!
Name 大口評価: #REF!
Name 大口評価: #REF!
Name 大口評価: #REF!
Name 注意機種: #REF!
Name 注意機種: #REF!
Name 注意機種: #REF!
Name 投入Lot数: #REF!
Name 投入Lot数: #REF!
Name 投入Lot数: #REF!
Name 波長ランク変更: #REF!
Name 波長ランク変更: #REF!
Name 波長ランク変更: #REF!

Sheet Selector
P3: A number of LEDs
P5: Series | S5: Parallel | X5: Total Q'ty
B6: CCT,Ra | C6: 14 | D6: 1 | E6: 2 | G6: 450 | H6: =VLOOKUP(E6,Calculation!A27:I28,9,FALSE) -> mA | J6: Tc (C) | L6: 74.779599 | P6: 1 | S6: 1 | X6: =P6*S6 -> 1
Q8: Reference | R8: ★ | T8: ★ | U8: Reference | W8: ★ | X8: Reference | Z8: ★
B9: Product code | E9: =VLOOKUP($E6,#REF!,3,FALSE) -> #REF! | G9: =VLOOKUP($E6,#REF!,4,FALSE) -> #REF! | I9: =VLOOKUP($E6,#REF!,7,FALSE) -> #REF! | K9: =VLOOKUP($E6,#REF!,8,FALSE) -> #REF! | M9: Tj (C) | P9: If [mA] | Q9: Vf [V] | V9: Pd [W] | W9: Pd [W] | X9: φv (lm) | Z9: lm/W
Q10: min | R10: Vf rate | S10: typ | T10: Vf rate | U10: max | V10: typ | W10: max | X10: min | Y10: typ | Z10: min | AA10: typ
B11: Code | E11: =CONCATENATE($E6,E9) -> #REF! | G11: =CONCATENATE($E6,G9) -> #REF! | I11: =CONCATENATE($E6,I9) -> #REF! | K11: =CONCATENATE($E6,K9) -> #REF! | M11: =CONCATENATE($E6,M9) -> 2Tj (C) | P11: N/A | S11: N/A | V11: N/A | X11: 0.879 | Y11: N/A
B12: =CONCATENATE(#REF!,"-",#REF!,#REF!,"-",#REF!) -> #REF! | E12: =HLOOKUP(E$11,#REF!,2,FALSE) -> #REF! | G12: =HLOOKUP(G$11,#REF!,2,FALSE) -> #REF! | I12: =HLOOKUP(I$11,#REF!,2,FALSE) -> #REF! | K12: =HLOOKUP(K$11,#REF!,2,FALSE) -> #REF! | M12: =HLOOKUP(M$11,#REF!,2,FALSE) -> #REF! | P12: =IF(G12="Not Applicable","Not Applicable",IF($H$6="mA",$G$6*$S$6,E12*$S$6)) -> #REF! | Q12: =IF(G12="Not Applicable","Not Applicable",S12*R12) -> #REF! | R12: 0.917647 | S12: =IF(G12="Not Applicable","Not Applicable",G12*$P$6) -> #REF! | T12: 0.082353 | U12: =IF(G12="Not Applicable","Not Applicable",S12*(1+T12)) -> #REF! | V12: =IF(G12="Not Applicable","Not Applicable",P12/1000*S12) -> #REF! | W12: =IF(G12="Not Applicable","Not Applicable",P12/1000*U12) -> #REF! | X12: =IF(G12="Not Applicable","Not Applicable",ROUNDDOWN(Y12*X$11,0)) -> #REF! | Y12: =IF(G12="Not Applicable","Not Applicable",IF($H$6="mA",E12*$P$6*$S$6,$G$6*$P$6*$S$6)) -> #REF! | Z12: =IF(E12="Not Applicable","Not Applicable",ROUNDDOWN(X12/W12,0)) -> #REF! | AA12: =IF(E12="Not Applicable","Not Applicable",Y12/V12) -> #REF!
B13: =CONCATENATE(#REF!,"-",#REF!,#REF!,"-",#REF!) -> #REF! | E13: =HLOOKUP(E$11,#REF!,3,FALSE) -> #REF! | G13: =HLOOKUP(G$11,#REF!,3,FALSE) -> #REF! | I13: =HLOOKUP(I$11,#REF!,3,FALSE) -> #REF! | K13: =HLOOKUP(K$11,#REF!,3,FALSE) -> #REF! | M13: =HLOOKUP(M$11,#REF!,3,FALSE) -> #REF! | P13: =IF(G13="Not Applicable","Not Applicable",IF($H$6="mA",$G$6*$S$6,E13*$S$6)) -> #REF! | Q13: =IF(G13="Not Applicable","Not Applicable",S13*R13) -> #REF! | R13: =R12 -> 0.917647 | S13: =IF(G13="Not Applicable","Not Applicable",G13*$P$6) -> #REF! | T13: =T12 -> 0.082353 | U13: =IF(G13="Not Applicable","Not Applicable",S13*(1+T13)) -> #REF! | V13: =IF(G13="Not Applicable","Not Applicable",P13/1000*S13) -> #REF! | W13: =IF(G13="Not Applicable","Not Applicable",P13/1000*U13) -> #REF! | X13: =IF(G13="Not Applicable","Not Applicable",ROUNDDOWN(Y13*X$11,0)) -> #REF! | Y13: =IF(G13="Not Applicable","Not Applicable",IF($H$6="mA",E13*$P$6*$S$6,$G$6*$P$6*$S$6)) -> #REF! | Z13: =IF(E13="Not Applicable","Not Applicable",ROUNDDOWN(X13/W13,0)) -> #REF! | AA13: =IF(E13="Not Applicable","Not Applicable",Y13/V13) -> #REF!
B14: =CONCATENATE(#REF!,"-",#REF!,#REF!,"-",#REF!) -> #REF! | E14: =HLOOKUP(E$11,#REF!,4,FALSE) -> #REF! | G14: =HLOOKUP(G$11,#REF!,4,FALSE) -> #REF! | I14: =HLOOKUP(I$11,#REF!,4,FALSE) -> #REF! | K14: =HLOOKUP(K$11,#REF!,4,FALSE) -> #REF! | M14: =HLOOKUP(M$11,#REF!,4,FALSE) -> #REF! | P14: =IF(G14="Not Applicable","Not Applicable",IF($H$6="mA",$G$6*$S$6,E14*$S$6)) -> #REF! | Q14: =IF(G14="Not Applicable","Not Applicable",S14*R14) -> #REF! | R14: =R13 -> 0.917647 | S14: =IF(G14="Not Applicable","Not Applicable",G14*$P$6) -> #REF! | T14: =T13 -> 0.082353 | U14: =IF(G14="Not Applicable","Not Applicable",S14*(1+T14)) -> #REF! | V14: =IF(G14="Not Applicable","Not Applicable",P14/1000*S14) -> #REF! | W14: =IF(G14="Not Applicable","Not Applicable",P14/1000*U14) -> #REF! | X14: =IF(G14="Not Applicable","Not Applicable",ROUNDDOWN(Y14*X$11,0)) -> #REF! | Y14: =IF(G14="Not Applicable","Not Applicable",IF($H$6="mA",E14*$P$6*$S$6,$G$6*$P$6*$S$6)) -> #REF! | Z14: =IF(E14="Not Applicable","Not Applicable",ROUNDDOWN(X14/W14,0)) -> #REF! | AA14: =IF(E14="Not Applicable","Not Applicable",Y14/V14) -> #REF!
B15: =CONCATENATE(#REF!,"-",#REF!,#REF!,"-",#REF!) -> #REF! | E15: =HLOOKUP(E$11,#REF!,5,FALSE) -> #REF! | G15: =HLOOKUP(G$11,#REF!,5,FALSE) -> #REF! | I15: =HLOOKUP(I$11,#REF!,5,FALSE) -> #REF! | K15: =HLOOKUP(K$11,#REF!,5,FALSE) -> #REF! | M15: =HLOOKUP(M$11,#REF!,5,FALSE) -> #REF! | P15: =IF(G15="Not Applicable","Not Applicable",IF($H$6="mA",$G$6*$S$6,E15*$S$6)) -> #REF! | Q15: =IF(G15="Not Applicable","Not Applicable",S15*R15) -> #REF! | R15: =R14 -> 0.917647 | S15: =IF(G15="Not Applicable","Not Applicable",G15*$P$6) -> #REF! | T15: =T14 -> 0.082353 | U15: =IF(G15="Not Applicable","Not Applicable",S15*(1+T15)) -> #REF! | V15: =IF(G15="Not Applicable","Not Applicable",P15/1000*S15) -> #REF! | W15: =IF(G15="Not Applicable","Not Applicable",P15/1000*U15) -> #REF! | X15: =IF(G15="Not Applicable","Not Applicable",ROUNDDOWN(Y15*X$11,0)) -> #REF! | Y15: =IF(G15="Not Applicable","Not Applicable",IF($H$6="mA",E15*$P$6*$S$6,$G$6*$P$6*$S$6)) -> #REF! | Z15: =IF(E15="Not Applicable","Not Applicable",ROUNDDOWN(X15/W15,0)) -> #REF! | AA15: =IF(E15="Not Applicable","Not Applicable",Y15/V15) -> #REF!
A16: ★ | B16: =CONCATENATE(#REF!,"-",#REF!,#REF!,"-",#REF!) -> #REF! | E16: =HLOOKUP(E$11,#REF!,6,FALSE) -> #REF! | G16: =HLOOKUP(G$11,#REF!,6,FALSE) -> #REF! | I16: =HLOOKUP(I$11,#REF!,6,FALSE) -> #REF! | K16: =HLOOKUP(K$11,#REF!,6,FALSE) -> #REF! | M16: =HLOOKUP(M$11,#REF!,6,FALSE) -> #REF! | P16: =IF(G16="Not Applicable","Not Applicable",IF($H$6="mA",$G$6*$S$6,E16*$S$6)) -> #REF! | Q16: =IF(G16="Not Applicable","Not Applicable",S16*R16) -> #REF! | R16: =R15 -> 0.917647 | S16: =IF(G16="Not Applicable","Not Applicable",G16*$P$6) -> #REF! | T16: =T15 -> 0.082353 | U16: =IF(G16="Not Applicable","Not Applicable",S16*(1+T16)) -> #REF! | V16: =IF(G16="Not Applicable","Not Applicable",P16/1000*S16) -> #REF! | W16: =IF(G16="Not Applicable","Not Applicable",P16/1000*U16) -> #REF! | X16: =IF(G16="Not Applicable","Not Applicable",ROUNDDOWN(Y16*X$11,0)) -> #REF! | Y16: =IF(G16="Not Applicable","Not Applicable",IF($H$6="mA",E16*$P$6*$S$6,$G$6*$P$6*$S$6)) -> #REF! | Z16: =IF(E16="Not Applicable","Not Applicable",ROUNDDOWN(X16/W16,0)) -> #REF! | AA16: =IF(E16="Not Applicable","Not Applicable",Y16/V16) -> #REF!
B17: =CONCATENATE(#REF!,"-",#REF!,#REF!,"-",#REF!) -> #REF! | E17: =HLOOKUP(E$11,#REF!,7,FALSE) -> #REF! | G17: =HLOOKUP(G$11,#REF!,7,FALSE) -> #REF! | I17: =HLOOKUP(I$11,#REF!,7,FALSE) -> #REF! | K17: =HLOOKUP(K$11,#REF!,7,FALSE) -> #REF! | M17: =HLOOKUP(M$11,#REF!,7,FALSE) -> #REF! | P17: =IF(G17="Not Applicable","Not Applicable",IF($H$6="mA",$G$6*$S$6,E17*$S$6)) -> #REF! | Q17: =IF(G17="Not Applicable","Not Applicable",S17*R17) -> #REF! | R17: =R16 -> 0.917647 | S17: =IF(G17="Not Applicable","Not Applicable",G17*$P$6) -> #REF! | T17: =T16 -> 0.082353 | U17: =IF(G17="Not Applicable","Not Applicable",S17*(1+T17)) -> #REF! | V17: =IF(G17="Not Applicable","Not Applicable",P17/1000*S17) -> #REF! | W17: =IF(G17="Not Applicable","Not Applicable",P17/1000*U17) -> #REF! | X17: =IF(G17="Not Applicable","Not Applicable",ROUNDDOWN(Y17*X$11,0)) -> #REF! | Y17: =IF(G17="Not Applicable","Not Applicable",IF($H$6="mA",E17*$P$6*$S$6,$G$6*$P$6*$S$6)) -> #REF! | Z17: =IF(E17="Not Applicable","Not Applicable",ROUNDDOWN(X17/W17,0)) -> #REF! | AA17: =IF(E17="Not Applicable","Not Applicable",Y17/V17) -> #REF!
B18: =CONCATENATE(#REF!,"-",#REF!,#REF!,"-",#REF!) -> #REF! | E18: =HLOOKUP(E$11,#REF!,8,FALSE) -> #REF! | G18: =HLOOKUP(G$11,#REF!,8,FALSE) -> #REF! | I18: =HLOOKUP(I$11,#REF!,8,FALSE) -> #REF! | K18: =HLOOKUP(K$11,#REF!,8,FALSE) -> #REF! | M18: =HLOOKUP(M$11,#REF!,8,FALSE) -> #REF! | P18: =IF(G18="Not Applicable","Not Applicable",IF($H$6="mA",$G$6*$S$6,E18*$S$6)) -> #REF! | Q18: =IF(G18="Not Applicable","Not Applicable",S18*R18) -> #REF! | R18: =R17 -> 0.917647 | S18: =IF(G18="Not Applicable","Not Applicable",G18*$P$6) -> #REF! | T18: =T17 -> 0.082353 | U18: =IF(G18="Not Applicable","Not Applicable",S18*(1+T18)) -> #REF! | V18: =IF(G18="Not Applicable","Not Applicable",P18/1000*S18) -> #REF! | W18: =IF(G18="Not Applicable","Not Applicable",P18/1000*U18) -> #REF! | X18: =IF(G18="Not Applicable","Not Applicable",ROUNDDOWN(Y18*X$11,0)) -> #REF! | Y18: =IF(G18="Not Applicable","Not Applicable",IF($H$6="mA",E18*$P$6*$S$6,$G$6*$P$6*$S$6)) -> #REF! | Z18: =IF(E18="Not Applicable","Not Applicable",ROUNDDOWN(X18/W18,0)) -> #REF! | AA18: =IF(E18="Not Applicable","Not Applicable",Y18/V18) -> #REF!
B19: =CONCATENATE(#REF!,"-",#REF!,#REF!,"-",#REF!) -> #REF! | E19: =HLOOKUP(E$11,#REF!,9,FALSE) -> #REF! | G19: =HLOOKUP(G$11,#REF!,9,FALSE) -> #REF! | I19: =HLOOKUP(I$11,#REF!,9,FALSE) -> #REF! | K19: =HLOOKUP(K$11,#REF!,9,FALSE) -> #REF! | M19: =HLOOKUP(M$11,#REF!,9,FALSE) -> #REF! | P19: =IF(G19="Not Applicable","Not Applicable",IF($H$6="mA",$G$6*$S$6,E19*$S$6)) -> #REF! | Q19: =IF(G19="Not Applicable","Not Applicable",S19*R19) -> #REF! | R19: =R18 -> 0.917647 | S19: =IF(G19="Not Applicable","Not Applicable",G19*$P$6) -> #REF! | T19: =T18 -> 0.082353 | U19: =IF(G19="Not Applicable","Not Applicable",S19*(1+T19)) -> #REF! | V19: =IF(G19="Not Applicable","Not Applicable",P19/1000*S19) -> #REF! | W19: =IF(G19="Not Applicable","Not Applicable",P19/1000*U19) -> #REF! | X19: =IF(G19="Not Applicable","Not Applicable",ROUNDDOWN(Y19*X$11,0)) -> #REF! | Y19: =IF(G19="Not Applicable","Not Applicable",IF($H$6="mA",E19*$P$6*$S$6,$G$6*$P$6*$S$6)) -> #REF! | Z19: =IF(E19="Not Applicable","Not Applicable",ROUNDDOWN(X19/W19,0)) -> #REF! | AA19: =IF(E19="Not Applicable","Not Applicable",Y19/V19) -> #REF!
B20: =CONCATENATE(#REF!,"-",#REF!,#REF!,"-",#REF!) -> #REF! | E20: =HLOOKUP(E$11,#REF!,10,FALSE) -> #REF! | G20: =HLOOKUP(G$11,#REF!,10,FALSE) -> #REF! | I20: =HLOOKUP(I$11,#REF!,10,FALSE) -> #REF! | K20: =HLOOKUP(K$11,#REF!,10,FALSE) -> #REF! | M20: =HLOOKUP(M$11,#REF!,10,FALSE) -> #REF! | P20: =IF(G20="Not Applicable","Not Applicable",IF($H$6="mA",$G$6*$S$6,E20*$S$6)) -> #REF! | Q20: =IF(G20="Not Applicable","Not Applicable",S20*R20) -> #REF! | R20: =R19 -> 0.917647 | S20: =IF(G20="Not Applicable","Not Applicable",G20*$P$6) -> #REF! | T20: =T19 -> 0.082353 | U20: =IF(G20="Not Applicable","Not Applicable",S20*(1+T20)) -> #REF! | V20: =IF(G20="Not Applicable","Not Applicable",P20/1000*S20) -> #REF! | W20: =IF(G20="Not Applicable","Not Applicable",P20/1000*U20) -> #REF! | X20: =IF(G20="Not Applicable","Not Applicable",ROUNDDOWN(Y20*X$11,0)) -> #REF! | Y20: =IF(G20="Not Applicable","Not Applicable",IF($H$6="mA",E20*$P$6*$S$6,$G$6*$P$6*$S$6)) -> #REF! | Z20: =IF(E20="Not Applicable","Not Applicable",ROUNDDOWN(X20/W20,0)) -> #REF! | AA20: =IF(E20="Not Applicable","Not Applicable",Y20/V20) -> #REF!
B21: =CONCATENATE(#REF!,"-",#REF!,#REF!,"-",#REF!) -> #REF! | E21: =HLOOKUP(E$11,#REF!,11,FALSE) -> #REF! | G21: =HLOOKUP(G$11,#REF!,11,FALSE) -> #REF! | I21: =HLOOKUP(I$11,#REF!,11,FALSE) -> #REF! | K21: =HLOOKUP(K$11,#REF!,11,FALSE) -> #REF! | M21: =HLOOKUP(M$11,#REF!,11,FALSE) -> #REF! | P21: =IF(G21="Not Applicable","Not Applicable",IF($H$6="mA",$G$6*$S$6,E21*$S$6)) -> #REF! | Q21: =IF(G21="Not Applicable","Not Applicable",S21*R21) -> #REF! | R21: =R20 -> 0.917647 | S21: =IF(G21="Not Applicable","Not Applicable",G21*$P$6) -> #REF! | T21: =T20 -> 0.082353 | U21: =IF(G21="Not Applicable","Not Applicable",S21*(1+T21)) -> #REF! | V21: =IF(G21="Not Applicable","Not Applicable",P21/1000*S21) -> #REF! | W21: =IF(G21="Not Applicable","Not Applicable",P21/1000*U21) -> #REF! | X21: =IF(G21="Not Applicable","Not Applicable",ROUNDDOWN(Y21*X$11,0)) -> #REF! | Y21: =IF(G21="Not Applicable","Not Applicable",IF($H$6="mA",E21*$P$6*$S$6,$G$6*$P$6*$S$6)) -> #REF! | Z21: =IF(E21="Not Applicable","Not Applicable",ROUNDDOWN(X21/W21,0)) -> #REF! | AA21: =IF(E21="Not Applicable","Not Applicable",Y21/V21) -> #REF!
B22: =CONCATENATE(#REF!,"-",#REF!,#REF!,"-",#REF!) -> #REF! | E22: =HLOOKUP(E$11,#REF!,12,FALSE) -> #REF! | G22: =HLOOKUP(G$11,#REF!,12,FALSE) -> #REF! | I22: =HLOOKUP(I$11,#REF!,12,FALSE) -> #REF! | K22: =HLOOKUP(K$11,#REF!,12,FALSE) -> #REF! | M22: =HLOOKUP(M$11,#REF!,12,FALSE) -> #REF! | P22: =IF(G22="Not Applicable","Not Applicable",IF($H$6="mA",$G$6*$S$6,E22*$S$6)) -> #REF! | Q22: =IF(G22="Not Applicable","Not Applicable",S22*R22) -> #REF! | R22: =R21 -> 0.917647 | S22: =IF(G22="Not Applicable","Not Applicable",G22*$P$6) -> #REF! | T22: =T21 -> 0.082353 | U22: =IF(G22="Not Applicable","Not Applicable",S22*(1+T22)) -> #REF! | V22: =IF(G22="Not Applicable","Not Applicable",P22/1000*S22) -> #REF! | W22: =IF(G22="Not Applicable","Not Applicable",P22/1000*U22) -> #REF! | X22: =IF(G22="Not Applicable","Not Applicable",ROUNDDOWN(Y22*X$11,0)) -> #REF! | Y22: =IF(G22="Not Applicable","Not Applicable",IF($H$6="mA",E22*$P$6*$S$6,$G$6*$P$6*$S$6)) -> #REF! | Z22: =IF(E22="Not Applicable","Not Applicable",ROUNDDOWN(X22/W22,0)) -> #REF! | AA22: =IF(E22="Not Applicable","Not Applicable",Y22/V22) -> #REF!
B23: =CONCATENATE(#REF!,"-",#REF!,#REF!,"-",#REF!) -> #REF! | E23: =HLOOKUP(E$11,#REF!,13,FALSE) -> #REF! | G23: =HLOOKUP(G$11,#REF!,13,FALSE) -> #REF! | I23: =HLOOKUP(I$11,#REF!,13,FALSE) -> #REF! | K23: =HLOOKUP(K$11,#REF!,13,FALSE) -> #REF! | M23: =HLOOKUP(M$11,#REF!,13,FALSE) -> #REF! | P23: =IF(G23="Not Applicable","Not Applicable",IF($H$6="mA",$G$6*$S$6,E23*$S$6)) -> #REF! | Q23: =IF(G23="Not Applicable","Not Applicable",S23*R23) -> #REF! | R23: =R22 -> 0.917647 | S23: =IF(G23="Not Applicable","Not Applicable",G23*$P$6) -> #REF! | T23: =T22 -> 0.082353 | U23: =IF(G23="Not Applicable","Not Applicable",S23*(1+T23)) -> #REF! | V23: =IF(G23="Not Applicable","Not Applicable",P23/1000*S23) -> #REF! | W23: =IF(G23="Not Applicable","Not Applicable",P23/1000*U23) -> #REF! | X23: =IF(G23="Not Applicable","Not Applicable",ROUNDDOWN(Y23*X$11,0)) -> #REF! | Y23: =IF(G23="Not Applicable","Not Applicable",IF($H$6="mA",E23*$P$6*$S$6,$G$6*$P$6*$S$6)) -> #REF! | Z23: =IF(E23="Not Applicable","Not Applicable",ROUNDDOWN(X23/W23,0)) -> #REF! | AA23: =IF(E23="Not Applicable","Not Applicable",Y23/V23) -> #REF!
B24: =CONCATENATE(#REF!,"-",#REF!,#REF!,"-",#REF!) -> #REF! | E24: =HLOOKUP(E$11,#REF!,14,FALSE) -> #REF! | G24: =HLOOKUP(G$11,#REF!,14,FALSE) -> #REF! | I24: =HLOOKUP(I$11,#REF!,14,FALSE) -> #REF! | K24: =HLOOKUP(K$11,#REF!,14,FALSE) -> #REF! | M24: =HLOOKUP(M$11,#REF!,14,FALSE) -> #REF! | P24: =IF(G24="Not Applicable","Not Applicable",IF($H$6="mA",$G$6*$S$6,E24*$S$6)) -> #REF! | Q24: =IF(G24="Not Applicable","Not Applicable",S24*R24) -> #REF! | R24: 0.919765 | S24: =IF(G24="Not Applicable","Not Applicable",G24*$P$6) -> #REF! | T24: 0.080235 | U24: =IF(G24="Not Applicable","Not Applicable",S24*(1+T24)) -> #REF! | V24: =IF(G24="Not Applicable","Not Applicable",P24/1000*S24) -> #REF! | W24: =IF(G24="Not Applicable","Not Applicable",P24/1000*U24) -> #REF! | X24: =IF(G24="Not Applicable","Not Applicable",ROUNDDOWN(Y24*X$11,0)) -> #REF! | Y24: =IF(G24="Not Applicable","Not Applicable",IF($H$6="mA",E24*$P$6*$S$6,$G$6*$P$6*$S$6)) -> #REF! | Z24: =IF(E24="Not Applicable","Not Applicable",ROUNDDOWN(X24/W24,0)) -> #REF! | AA24: =IF(E24="Not Applicable","Not Applicable",Y24/V24) -> #REF!
B25: =CONCATENATE(#REF!,"-",#REF!,#REF!,"-",#REF!) -> #REF! | E25: =HLOOKUP(E$11,#REF!,15,FALSE) -> #REF! | G25: =HLOOKUP(G$11,#REF!,15,FALSE) -> #REF! | I25: =HLOOKUP(I$11,#REF!,15,FALSE) -> #REF! | K25: =HLOOKUP(K$11,#REF!,15,FALSE) -> #REF! | M25: =HLOOKUP(M$11,#REF!,15,FALSE) -> #REF! | P25: =IF(G25="Not Applicable","Not Applicable",IF($H$6="mA",$G$6*$S$6,E25*$S$6)) -> #REF! | Q25: =IF(G25="Not Applicable","Not Applicable",S25*R25) -> #REF! | R25: =R24 -> 0.919765 | S25: =IF(G25="Not Applicable","Not Applicable",G25*$P$6) -> #REF! | T25: =T24 -> 0.080235 | U25: =IF(G25="Not Applicable","Not Applicable",S25*(1+T25)) -> #REF! | V25: =IF(G25="Not Applicable","Not Applicable",P25/1000*S25) -> #REF! | W25: =IF(G25="Not Applicable","Not Applicable",P25/1000*U25) -> #REF! | X25: =IF(G25="Not Applicable","Not Applicable",ROUNDDOWN(Y25*X$11,0)) -> #REF! | Y25: =IF(G25="Not Applicable","Not Applicable",IF($H$6="mA",E25*$P$6*$S$6,$G$6*$P$6*$S$6)) -> #REF! | Z25: =IF(E25="Not Applicable","Not Applicable",ROUNDDOWN(X25/W25,0)) -> #REF! | AA25: =IF(E25="Not Applicable","Not Applicable",Y25/V25) -> #REF!
B26: =CONCATENATE(#REF!,"-",#REF!,#REF!,"-",#REF!) -> #REF! | E26: =HLOOKUP(E$11,#REF!,16,FALSE) -> #REF! | G26: =HLOOKUP(G$11,#REF!,16,FALSE) -> #REF! | I26: =HLOOKUP(I$11,#REF!,16,FALSE) -> #REF! | K26: =HLOOKUP(K$11,#REF!,16,FALSE) -> #REF! | M26: =HLOOKUP(M$11,#REF!,16,FALSE) -> #REF! | P26: =IF(G26="Not Applicable","Not Applicable",IF($H$6="mA",$G$6*$S$6,E26*$S$6)) -> #REF! | Q26: =IF(G26="Not Applicable","Not Applicable",S26*R26) -> #REF! | R26: =R25 -> 0.919765 | S26: =IF(G26="Not Applicable","Not Applicable",G26*$P$6) -> #REF! | T26: =T25 -> 0.080235 | U26: =IF(G26="Not Applicable","Not Applicable",S26*(1+T26)) -> #REF! | V26: =IF(G26="Not Applicable","Not Applicable",P26/1000*S26) -> #REF! | W26: =IF(G26="Not Applicable","Not Applicable",P26/1000*U26) -> #REF! | X26: =IF(G26="Not Applicable","Not Applicable",ROUNDDOWN(Y26*X$11,0)) -> #REF! | Y26: =IF(G26="Not Applicable","Not Applicable",IF($H$6="mA",E26*$P$6*$S$6,$G$6*$P$6*$S$6)) -> #REF! | Z26: =IF(E26="Not Applicable","Not Applicable",ROUNDDOWN(X26/W26,0)) -> #REF! | AA26: =IF(E26="Not Applicable","Not Applicable",Y26/V26) -> #REF!
B27: =CONCATENATE(#REF!,"-",#REF!,#REF!,"-",#REF!) -> #REF! | E27: =HLOOKUP(E$11,#REF!,17,FALSE) -> #REF! | G27: =HLOOKUP(G$11,#REF!,17,FALSE) -> #REF! | I27: =HLOOKUP(I$11,#REF!,17,FALSE) -> #REF! | K27: =HLOOKUP(K$11,#REF!,17,FALSE) -> #REF! | M27: =HLOOKUP(M$11,#REF!,17,FALSE) -> #REF! | P27: =IF(G27="Not Applicable","Not Applicable",IF($H$6="mA",$G$6*$S$6,E27*$S$6)) -> #REF! | Q27: =IF(G27="Not Applicable","Not Applicable",S27*R27) -> #REF! | R27: 0.9196866 | S27: =IF(G27="Not Applicable","Not Applicable",G27*$P$6) -> #REF! | T27: 0.0803134 | U27: =IF(G27="Not Applicable","Not Applicable",S27*(1+T27)) -> #REF! | V27: =IF(G27="Not Applicable","Not Applicable",P27/1000*S27) -> #REF! | W27: =IF(G27="Not Applicable","Not Applicable",P27/1000*U27) -> #REF! | X27: =IF(G27="Not Applicable","Not Applicable",ROUNDDOWN(Y27*X$11,0)) -> #REF! | Y27: =IF(G27="Not Applicable","Not Applicable",IF($H$6="mA",E27*$P$6*$S$6,$G$6*$P$6*$S$6)) -> #REF! | Z27: =IF(E27="Not Applicable","Not Applicable",ROUNDDOWN(X27/W27,0)) -> #REF! | AA27: =IF(E27="Not Applicable","Not Applicable",Y27/V27) -> #REF!
B29: Product code | E29: =VLOOKUP($E6,Calculation!A27:I28,3,FALSE) -> φv (lm) | G29: =VLOOKUP($E6,Calculation!A27:I28,4,FALSE) -> Vf (V) | I29: =VLOOKUP($E6,Calculation!A27:I28,7,FALSE) -> Pd (W) | K29: =VLOOKUP($E6,Calculation!A27:I28,8,FALSE) -> lm/W | M29: Tj (C)
B31: Code | E31: =CONCATENATE($E6,E29) -> 2φv (lm) | G31: =CONCATENATE($E6,G29) -> 2Vf (V) | I31: =CONCATENATE($E6,I29) -> 2Pd (W) | K31: =CONCATENATE($E6,K29) -> 2lm/W | M31: =CONCATENATE($E6,M29) -> 2Tj (C)
B32: =CONCATENATE(Calculation!B3,"-",Calculation!C3,Calculation!D3,Calculation!E3,"-",VLOOKUP($C$6,Calculation!$G$3:$I$23,3,FALSE)) -> CLU02J-1201C9-302H5U2 | E32: =HLOOKUP(E$31,Calculation!$C$34:$P$52,2,FALSE) -> Not Applicable | G32: =HLOOKUP(G$31,Calculation!$C$34:$P$52,2,FALSE) -> Not Applicable | I32: =HLOOKUP(I$31,Calculation!$C$34:$P$52,2,FALSE) -> Not Applicable | K32: =HLOOKUP(K$31,Calculation!$C$34:$P$52,2,FALSE) -> Not Applicable | M32: =HLOOKUP(M$31,Calculation!$C$34:$P$52,2,FALSE) -> Not Applicable
B33: =CONCATENATE(Calculation!B4,"-",Calculation!C4,Calculation!D4,Calculation!E4,"-",VLOOKUP($C$6,Calculation!$G$3:$I$23,3,FALSE)) -> CLU02J-1202C9-302H5U2 | E33: =HLOOKUP(E$31,Calculation!$C$34:$P$52,3,FALSE) -> Not Applicable | G33: =HLOOKUP(G$31,Calculation!$C$34:$P$52,3,FALSE) -> Not Applicable | I33: =HLOOKUP(I$31,Calculation!$C$34:$P$52,3,FALSE) -> Not Applicable | K33: =HLOOKUP(K$31,Calculation!$C$34:$P$52,3,FALSE) -> Not Applicable | M33: =HLOOKUP(M$31,Calculation!$C$34:$P$52,3,FALSE) -> Not Applicable
B34: =CONCATENATE(Calculation!B5,"-",Calculation!C5,Calculation!D5,Calculation!E5,"-",VLOOKUP($C$6,Calculation!$G$3:$I$23,3,FALSE)) -> CLU02J-1203C9-302H5U2 | E34: =HLOOKUP(E$31,Calculation!$C$34:$P$52,4,FALSE) -> 1904.5919 | G34: =HLOOKUP(G$31,Calculation!$C$34:$P$52,4,FALSE) -> 34.781298 | I34: =HLOOKUP(I$31,Calculation!$C$34:$P$52,4,FALSE) -> 15.651584 | K34: =HLOOKUP(K$31,Calculation!$C$34:$P$52,4,FALSE) -> 121.68685 | M34: =HLOOKUP(M$31,Calculation!$C$34:$P$52,4,FALSE) -> 90.431183
B35: =CONCATENATE(Calculation!B6,"-",Calculation!C6,Calculation!D6,Calculation!E6,"-",VLOOKUP($C$6,Calculation!$G$3:$I$23,3,FALSE)) -> CLU02J-1204C9-302H5U2 | E35: =HLOOKUP(E$31,Calculation!$C$34:$P$52,5,FALSE) -> 1925.5453 | G35: =HLOOKUP(G$31,Calculation!$C$34:$P$52,5,FALSE) -> 33.872628 | I35: =HLOOKUP(I$31,Calculation!$C$34:$P$52,5,FALSE) -> 15.242682 | K35: =HLOOKUP(K$31,Calculation!$C$34:$P$52,5,FALSE) -> 126.32588 | M35: =HLOOKUP(M$31,Calculation!$C$34:$P$52,5,FALSE) -> 87.888306
B36: =CONCATENATE(Calculation!B7,"-",Calculation!C7,Calculation!D7,Calculation!E7,"-",VLOOKUP($C$6,Calculation!$G$3:$I$23,3,FALSE)) -> CLU03J-1205C9-302H5U2 | E36: =HLOOKUP(E$31,Calculation!$C$34:$P$52,6,FALSE) -> 2049.0339 | G36: =HLOOKUP(G$31,Calculation!$C$34:$P$52,6,FALSE) -> 33.317303 | I36: =HLOOKUP(I$31,Calculation!$C$34:$P$52,6,FALSE) -> 14.992786 | K36: =HLOOKUP(K$31,Calculation!$C$34:$P$52,6,FALSE) -> 136.66798 | M36: =HLOOKUP(M$31,Calculation!$C$34:$P$52,6,FALSE) -> 84.974694
B37: =CONCATENATE(Calculation!B8,"-",Calculation!C8,Calculation!D8,Calculation!E8,"-",VLOOKUP($C$6,Calculation!$G$3:$I$23,3,FALSE)) -> CLU03J-1206C9-302H5U2 | E37: =HLOOKUP(E$31,Calculation!$C$34:$P$52,7,FALSE) -> 2051.544 | G37: =HLOOKUP(G$31,Calculation!$C$34:$P$52,7,FALSE) -> 32.921101 | I37: =HLOOKUP(I$31,Calculation!$C$34:$P$52,7,FALSE) -> 14.814496 | K37: =HLOOKUP(K$31,Calculation!$C$34:$P$52,7,FALSE) -> 138.4822 | M37: =HLOOKUP(M$31,Calculation!$C$34:$P$52,7,FALSE) -> 83.816441
B38: =CONCATENATE(Calculation!B9,"-",Calculation!C9,Calculation!D9,Calculation!E9,"-",VLOOKUP($C$6,Calculation!$G$3:$I$23,3,FALSE)) -> CLU03J-1208C9-302H5U2 | E38: =HLOOKUP(E$31,Calculation!$C$34:$P$52,8,FALSE) -> 2045.1711 | G38: =HLOOKUP(G$31,Calculation!$C$34:$P$52,8,FALSE) -> 32.421209 | I38: =HLOOKUP(I$31,Calculation!$C$34:$P$52,8,FALSE) -> 14.589544 | K38: =HLOOKUP(K$31,Calculation!$C$34:$P$52,8,FALSE) -> 140.1806 | M38: =HLOOKUP(M$31,Calculation!$C$34:$P$52,8,FALSE) -> 81.78258
B39: =CONCATENATE(Calculation!B10,"-",Calculation!C10,Calculation!D10,Calculation!E10,"-",VLOOKUP($C$6,Calculation!$G$3:$I$23,3,FALSE)) -> CLU03J-1210C9-302H5U2 | E39: =HLOOKUP(E$31,Calculation!$C$34:$P$52,9,FALSE) -> 2051.9814 | G39: =HLOOKUP(G$31,Calculation!$C$34:$P$52,9,FALSE) -> 32.112102 | I39: =HLOOKUP(I$31,Calculation!$C$34:$P$52,9,FALSE) -> 14.450446 | K39: =HLOOKUP(K$31,Calculation!$C$34:$P$52,9,FALSE) -> 142.00125 | M39: =HLOOKUP(M$31,Calculation!$C$34:$P$52,9,FALSE) -> 80.559777
B40: =CONCATENATE(Calculation!B11,"-",Calculation!C11,Calculation!D11,Calculation!E11,"-",VLOOKUP($C$6,Calculation!$G$3:$I$23,3,FALSE)) -> CLU04J-1211C9-302H5U2 | E40: =HLOOKUP(E$31,Calculation!$C$34:$P$52,10,FALSE) -> 2144.8067 | G40: =HLOOKUP(G$31,Calculation!$C$34:$P$52,10,FALSE) -> 32.003485 | I40: =HLOOKUP(I$31,Calculation!$C$34:$P$52,10,FALSE) -> 14.401568 | K40: =HLOOKUP(K$31,Calculation!$C$34:$P$52,10,FALSE) -> 148.92869 | M40: =HLOOKUP(M$31,Calculation!$C$34:$P$52,10,FALSE) -> 79.964163
B41: =CONCATENATE(Calculation!B12,"-",Calculation!C12,Calculation!D12,Calculation!E12,"-",VLOOKUP($C$6,Calculation!$G$3:$I$23,3,FALSE)) -> CLU04J-1212C9-302H5U2 | E41: =HLOOKUP(E$31,Calculation!$C$34:$P$52,11,FALSE) -> 2154.4417 | G41: =HLOOKUP(G$31,Calculation!$C$34:$P$52,11,FALSE) -> 31.916834 | I41: =HLOOKUP(I$31,Calculation!$C$34:$P$52,11,FALSE) -> 14.362575 | K41: =HLOOKUP(K$31,Calculation!$C$34:$P$52,11,FALSE) -> 150.00386 | M41: =HLOOKUP(M$31,Calculation!$C$34:$P$52,11,FALSE) -> 79.375623
B42: =CONCATENATE(Calculation!B13,"-",Calculation!C13,Calculation!D13,Calculation!E13,"-",VLOOKUP($C$6,Calculation!$G$3:$I$23,3,FALSE)) -> CLU04J-1812C9-302H5U2 | E42: =HLOOKUP(E$31,Calculation!$C$34:$P$52,12,FALSE) -> 3142.2463 | G42: =HLOOKUP(G$31,Calculation!$C$34:$P$52,12,FALSE) -> 47.838762 | I42: =HLOOKUP(I$31,Calculation!$C$34:$P$52,12,FALSE) -> 21.527443 | K42: =HLOOKUP(K$31,Calculation!$C$34:$P$52,12,FALSE) -> 145.96468 | M42: =HLOOKUP(M$31,Calculation!$C$34:$P$52,12,FALSE) -> 79.946185
B43: =CONCATENATE(Calculation!B14,"-",Calculation!C14,Calculation!D14,Calculation!E14,"-",VLOOKUP($C$6,Calculation!$G$3:$I$23,3,FALSE)) -> CLU04J-1818C9-302H5U2 | E43: =HLOOKUP(E$31,Calculation!$C$34:$P$52,13,FALSE) -> 3103.0426 | G43: =HLOOKUP(G$31,Calculation!$C$34:$P$52,13,FALSE) -> 47.323242 | I43: =HLOOKUP(I$31,Calculation!$C$34:$P$52,13,FALSE) -> 21.295459 | K43: =HLOOKUP(K$31,Calculation!$C$34:$P$52,13,FALSE) -> 145.71382 | M43: =HLOOKUP(M$31,Calculation!$C$34:$P$52,13,FALSE) -> 78.186872
B44: =CONCATENATE(Calculation!B15,"-",Calculation!C15,Calculation!D15,Calculation!E15,"-",VLOOKUP($C$6,Calculation!$G$3:$I$23,3,FALSE)) -> -1825C9-302H5U2 | E44: =HLOOKUP(E$31,Calculation!$C$34:$P$52,14,FALSE) -> 3297.5622 | G44: =HLOOKUP(G$31,Calculation!$C$34:$P$52,14,FALSE) -> 46.988852 | I44: =HLOOKUP(I$31,Calculation!$C$34:$P$52,14,FALSE) -> 21.144983 | K44: =HLOOKUP(K$31,Calculation!$C$34:$P$52,14,FALSE) -> 155.9501 | M44: =HLOOKUP(M$31,Calculation!$C$34:$P$52,14,FALSE) -> 77.528447
B45: =CONCATENATE(Calculation!B16,"-",Calculation!C16,Calculation!D16,Calculation!E16,"-",VLOOKUP($C$6,Calculation!$G$3:$I$23,3,FALSE)) -> -3618C9-302H5U2 | E45: =HLOOKUP(E$31,Calculation!$C$34:$P$52,15,FALSE) -> 6228.8319 | G45: =HLOOKUP(G$31,Calculation!$C$34:$P$52,15,FALSE) -> 94.52407 | I45: =HLOOKUP(I$31,Calculation!$C$34:$P$52,15,FALSE) -> 42.535831 | K45: =HLOOKUP(K$31,Calculation!$C$34:$P$52,15,FALSE) -> 146.43729 | M45: =HLOOKUP(M$31,Calculation!$C$34:$P$52,15,FALSE) -> 78.820503
C46: CITILED is a registered trademark of CITIZEN ELECTRONICS CO., LTD. Japan. | N46: Ref_CE-0621P-201910
B48: This selection tool is the reference material for selecting suitable products.
B49: When electing to use a product, please be sure to request a delivery and specifications manual and check the contents.
B50: CITIZEN ELECTRONICS CO., LTD. shall not be liable for any disadvantages or damages, which your company may receive, resulting from the use of selection tool.
B51: Product names and specifications in this selection tool are subject to change without notice for the purpose of improvement, or manufacturing may be discontinued.

Sheet Calculation
B1: ①機種情報
B2: Product | C2: Series | D2: Parallel | E2: chip | G2: No. | H2: CCT&Ra | I2: Color code & Phosphor
B3: CLU02J | C3: 12 | D3: 01 | E3: C9 | G3: 1 | K3: ※製品型番未決定、蛍光体組み合わせ記号未取得
B4: CLU02J | C4: 12 | D4: 02 | E4: C9 | G4: 2
B5: CLU02J | C5: 12 | D5: 03 | E5: C9 | G5: 3
B6: CLU02J | C6: 12 | D6: 04 | E6: C9 | G6: 4 | H6: 6500K,80Min | I6: 652M2U1
B7: CLU03J | C7: 12 | D7: 05 | E7: C9 | G7: 5 | H7: 5700K,80Min | I7: 572M2U1
B8: CLU03J | C8: 12 | D8: 06 | E8: C9 | G8: 6 | H8: 5000K,80Min | I8: 502M2U1
B9: CLU03J | C9: 12 | D9: 08 | E9: C9 | G9: 7 | H9: 4000K,80Min | I9: 402M2U1
B10: CLU03J | C10: 12 | D10: 10 | E10: C9 | G10: 8 | H10: 3500K,80Min | I10: 352M2U1
B11: CLU04J | C11: 12 | D11: 11 | E11: C9 | G11: 9 | H11: 3000K,80Min | I11: 302M2U1
B12: CLU04J | C12: 12 | D12: 12 | E12: C9 | G12: 10 | H12: 2700K,80Min | I12: 272M2U1
B13: CLU04J | C13: 18 | D13: 12 | E13: C9 | G13: 11 | H13: 5700K,90Min On BBL | I13: 572H5U2
B14: CLU04J | C14: 18 | D14: 18 | E14: C9 | G14: 12 | H14: 4000K,90Min On BBL | I14: 402H5U2
C15: 18 | D15: 25 | E15: C9 | G15: 13 | H15: 3500K,90Min On BBL | I15: 352H5U2
C16: 36 | D16: 18 | E16: C9 | G16: 14 | H16: 3000K,90Min On BBL | I16: 302H5U2
G17: 15 | H17: 2700K,90Min On BBL | I17: 272H5U2
G18: 16 | H18: 3500K,90Min B. BBL | I18: 352H6U2
G19: 17 | H19: 3000K,90Min B. BBL | I19: 302H6U2
G20: 18 | H20: 2700K,90Min B. BBL | I20: 272H6U2
G21: 19 | H21: 4000K,97Typ | I21: 402H7U4
G22: 20 | H22: 3000K,97Typ | I22: 302H7U4
G23: 21 | H23: 2700K,97Typ | I23: 272H7U4
A27: 1 | B27: Luminous flux | C27: If (mA) | D27: Vf (V) | E27: Vf_min (V) | F27: Vf_max (V) | G27: Pd (W) | H27: lm/W | I27: lm
A28: 2 | B28: Forward current | C28: φv (lm) | D28: Vf (V) | E28: Vf_min (V) | F28: Vf_max (V) | G28: Pd (W) | H28: lm/W | I28: mA
A29: 3 | C29: lm | D29: If | E29: Vf | F29: lm/W | G29: Vf | H29: lm/W | I29: W
C32: [Luminous flux] | J32: [Forward current]
C33: =C27 -> If (mA) | D33: =D27 -> Vf (V) | E33: =E27 -> Vf_min (V) | F33: =F27 -> Vf_max (V) | G33: =G27 -> Pd (W) | H33: =H27 -> lm/W | I33: =Selector!M9 -> Tj (C) | J33: =C28 -> φv (lm) | K33: =D28 -> Vf (V) | L33: =E28 -> Vf_min (V) | M33: =F28 -> Vf_max (V) | N33: =G28 -> Pd (W) | O33: =H28 -> lm/W | P33: =Selector!M9 -> Tj (C)
C34: =CONCATENATE($A27,C27) -> 1If (mA) | D34: =CONCATENATE($A27,D27) -> 1Vf (V) | E34: =CONCATENATE($A27,E27) -> 1Vf_min (V) | F34: =CONCATENATE($A27,F27) -> 1Vf_max (V) | G34: =CONCATENATE($A27,G27) -> 1Pd (W) | H34: =CONCATENATE($A27,H27) -> 1lm/W | I34: =CONCATENATE($A27,I33) -> 1Tj (C) | J34: =CONCATENATE($A28,C28) -> 2φv (lm) | K34: =CONCATENATE($A28,D28) -> 2Vf (V) | L34: =CONCATENATE($A28,E28) -> 2Vf_min (V) | M34: =CONCATENATE($A28,F28) -> 2Vf_max (V) | N34: =CONCATENATE($A28,G28) -> 2Pd (W) | O34: =CONCATENATE($A28,H28) -> 2lm/W | P34: =CONCATENATE($A28,P33) -> 2Tj (C)
B35: =IF(B3="","",CONCATENATE(B3,"-",C3,D3,E3)) -> CLU02J-1201C9 | C35: =IF(Calculation!U124,Calculation!N101,"Not Applicable") -> 98.305523 | D35: =IF(Calculation!U124,Calculation!R101,"Not Applicable") -> 33.567302 | E35: =IF(Calculation!U124,Calculation!P101,"Not Applicable") -> 31.770551 | F35: =IF(Calculation!U124,Calculation!Q101,"Not Applicable") -> 37.295864 | G35: =IF(Calculation!U124,Calculation!S101,"Not Applicable") -> 3.2998512 | H35: =IF(Calculation!U124,Calculation!U101,"Not Applicable") -> 136.36979 | I35: =IF(Calculation!W124,Calculation!X101,"Not Applicable") -> 83.359212 | J35: =IF(Calculation!U170,Calculation!N147,"Not Applicable") -> Not Applicable | K35: =IF(Calculation!U170,Calculation!R147,"Not Applicable") -> Not Applicable | L35: =IF(Calculation!U170,Calculation!P147,"Not Applicable") -> Not Applicable | M35: =IF(Calculation!U170,Calculation!Q147,"Not Applicable") -> Not Applicable | N35: =IF(Calculation!U170,Calculation!S147,"Not Applicable") -> Not Applicable | O35: =IF(Calculation!U170,Calculation!U147,"Not Applicable") -> Not Applicable | P35: =IF(Calculation!W170,Calculation!X147,"Not Applicable") -> Not Applicable
B36: =IF(B4="","",CONCATENATE(B4,"-",C4,D4,E4)) -> CLU02J-1202C9 | C36: =IF(Calculation!U125,Calculation!N102,"Not Applicable") -> 95.471737 | D36: =IF(Calculation!U125,Calculation!R102,"Not Applicable") -> 32.236432 | E36: =IF(Calculation!U125,Calculation!P102,"Not Applicable") -> 30.510917 | F36: =IF(Calculation!U125,Calculation!Q102,"Not Applicable") -> 35.817164 | G36: =IF(Calculation!U125,Calculation!S102,"Not Applicable") -> 3.0776681 | H36: =IF(Calculation!U125,Calculation!U102,"Not Applicable") -> 146.2146 | I36: =IF(Calculation!W125,Calculation!X102,"Not Applicable") -> 79.396101 | J36: =IF(Calculation!U171,Calculation!N148,"Not Applicable") -> Not Applicable | K36: =IF(Calculation!U171,Calculation!R148,"Not Applicable") -> Not Applicable | L36: =IF(Calculation!U171,Calculation!P148,"Not Applicable") -> Not Applicable | M36: =IF(Calculation!U171,Calculation!Q148,"Not Applicable") -> Not Applicable | N36: =IF(Calculation!U171,Calculation!S148,"Not Applicable") -> Not Applicable | O36: =IF(Calculation!U171,Calculation!U148,"Not Applicable") -> Not Applicable | P36: =IF(Calculation!W171,Calculation!X148,"Not Applicable") -> Not Applicable
B37: =IF(B5="","",CONCATENATE(B5,"-",C5,D5,E5)) -> CLU02J-1203C9 | C37: =IF(Calculation!U126,Calculation!N103,"Not Applicable") -> 95.485271 | D37: =IF(Calculation!U126,Calculation!R103,"Not Applicable") -> 31.803507 | E37: =IF(Calculation!U126,Calculation!P103,"Not Applicable") -> 30.101165 | F37: =IF(Calculation!U126,Calculation!Q103,"Not Applicable") -> 35.336151 | G37: =IF(Calculation!U126,Calculation!S103,"Not Applicable") -> 3.0367664 | H37: =IF(Calculation!U126,Calculation!U103,"Not Applicable") -> 148.18393 | I37: =IF(Calculation!W126,Calculation!X103,"Not Applicable") -> 77.816365 | J37: =IF(Calculation!U172,Calculation!N149,"Not Applicable") -> 1904.5919 | K37: =IF(Calculation!U172,Calculation!R149,"Not Applicable") -> 34.781298 | L37: =IF(Calculation!U172,Calculation!P149,"Not Applicable") -> 31.998794 | M37: =IF(Calculation!U172,Calculation!Q149,"Not Applicable") -> 37.563801 | N37: =IF(Calculation!U172,Calculation!S149,"Not Applicable") -> 15.651584 | O37: =IF(Calculation!U172,Calculation!U149,"Not Applicable") -> 121.68685 | P37: =IF(Calculation!W172,Calculation!X149,"Not Applicable") -> 90.431183
B38: =IF(B6="","",CONCATENATE(B6,"-",C6,D6,E6)) -> CLU02J-1204C9 | C38: =IF(Calculation!U127,Calculation!N104,"Not Applicable") -> 96.654507 | D38: =IF(Calculation!U127,Calculation!R104,"Not Applicable") -> 31.569572 | E38: =IF(Calculation!U127,Calculation!P104,"Not Applicable") -> 29.879753 | F38: =IF(Calculation!U127,Calculation!Q104,"Not Applicable") -> 35.076232 | G38: =IF(Calculation!U127,Calculation!S104,"Not Applicable") -> 3.0513414 | H38: =IF(Calculation!U127,Calculation!U104,"Not Applicable") -> 147.47612 | I38: =IF(Calculation!W127,Calculation!X104,"Not Applicable") -> 77.403752 | J38: =IF(Calculation!U173,Calculation!N150,"Not Applicable") -> 1925.5453 | K38: =IF(Calculation!U173,Calculation!R150,"Not Applicable") -> 33.872628 | L38: =IF(Calculation!U173,Calculation!P150,"Not Applicable") -> 31.162817 | M38: =IF(Calculation!U173,Calculation!Q150,"Not Applicable") -> 36.582438 | N38: =IF(Calculation!U173,Calculation!S150,"Not Applicable") -> 15.242682 | O38: =IF(Calculation!U173,Calculation!U150,"Not Applicable") -> 126.32588 | P38: =IF(Calculation!W173,Calculation!X150,"Not Applicable") -> 87.888306
B39: =IF(B7="","",CONCATENATE(B7,"-",C7,D7,E7)) -> CLU03J-1205C9 | C39: =IF(Calculation!U128,Calculation!N105,"Not Applicable") -> 91.842115 | D39: =IF(Calculation!U128,Calculation!R105,"Not Applicable") -> 31.409709 | E39: =IF(Calculation!U128,Calculation!P105,"Not Applicable") -> 29.728447 | F39: =IF(Calculation!U128,Calculation!Q105,"Not Applicable") -> 34.898612 | G39: =IF(Calculation!U128,Calculation!S105,"Not Applicable") -> 2.8847342 | H39: =IF(Calculation!U128,Calculation!U105,"Not Applicable") -> 155.99358 | I39: =IF(Calculation!W128,Calculation!X105,"Not Applicable") -> 76.741218 | J39: =IF(Calculation!U174,Calculation!N151,"Not Applicable") -> 2049.0339 | K39: =IF(Calculation!U174,Calculation!R151,"Not Applicable") -> 33.317303 | L39: =IF(Calculation!U174,Calculation!P151,"Not Applicable") -> 30.651919 | M39: =IF(Calculation!U174,Calculation!Q151,"Not Applicable") -> 35.982687 | N39: =IF(Calculation!U174,Calculation!S151,"Not Applicable") -> 14.992786 | O39: =IF(Calculation!U174,Calculation!U151,"Not Applicable") -> 136.66798 | P39: =IF(Calculation!W174,Calculation!X151,"Not Applicable") -> 84.974694
B40: =IF(B8="","",CONCATENATE(B8,"-",C8,D8,E8)) -> CLU03J-1206C9 | C40: =IF(Calculation!U129,Calculation!N106,"Not Applicable") -> 92.452916 | D40: =IF(Calculation!U129,Calculation!R106,"Not Applicable") -> 31.31372 | E40: =IF(Calculation!U129,Calculation!P106,"Not Applicable") -> 29.637596 | F40: =IF(Calculation!U129,Calculation!Q106,"Not Applicable") -> 34.79196 | G40: =IF(Calculation!U129,Calculation!S106,"Not Applicable") -> 2.8950448 | H40: =IF(Calculation!U129,Calculation!U106,"Not Applicable") -> 155.43801 | I40: =IF(Calculation!W129,Calculation!X106,"Not Applicable") -> 76.545576 | J40: =IF(Calculation!U175,Calculation!N152,"Not Applicable") -> 2051.544 | K40: =IF(Calculation!U175,Calculation!R152,"Not Applicable") -> 32.921101 | L40: =IF(Calculation!U175,Calculation!P152,"Not Applicable") -> 30.287413 | M40: =IF(Calculation!U175,Calculation!Q152,"Not Applicable") -> 35.55479 | N40: =IF(Calculation!U175,Calculation!S152,"Not Applicable") -> 14.814496 | O40: =IF(Calculation!U175,Calculation!U152,"Not Applicable") -> 138.4822 | P40: =IF(Calculation!W175,Calculation!X152,"Not Applicable") -> 83.816441
B41: =IF(B9="","",CONCATENATE(B9,"-",C9,D9,E9)) -> CLU03J-1208C9 | C41: =IF(Calculation!U130,Calculation!N107,"Not Applicable") -> 93.487395 | D41: =IF(Calculation!U130,Calculation!R107,"Not Applicable") -> 31.199783 | E41: =IF(Calculation!U130,Calculation!P107,"Not Applicable") -> 29.529757 | F41: =IF(Calculation!U130,Calculation!Q107,"Not Applicable") -> 34.665367 | G41: =IF(Calculation!U130,Calculation!S107,"Not Applicable") -> 2.9167864 | H41: =IF(Calculation!U130,Calculation!U107,"Not Applicable") -> 154.27938 | I41: =IF(Calculation!W130,Calculation!X107,"Not Applicable") -> 76.179656 | J41: =IF(Calculation!U176,Calculation!N153,"Not Applicable") -> 2045.1711 | K41: =IF(Calculation!U176,Calculation!R153,"Not Applicable") -> 32.421209 | L41: =IF(Calculation!U176,Calculation!P153,"Not Applicable") -> 29.827513 | M41: =IF(Calculation!U176,Calculation!Q153,"Not Applicable") -> 35.014906 | N41: =IF(Calculation!U176,Calculation!S153,"Not Applicable") -> 14.589544 | O41: =IF(Calculation!U176,Calculation!U153,"Not Applicable") -> 140.1806 | P41: =IF(Calculation!W176,Calculation!X153,"Not Applicable") -> 81.78258
B42: =IF(B10="","",CONCATENATE(B10,"-",C10,D10,E10)) -> CLU03J-1210C9 | C42: =IF(Calculation!U131,Calculation!N108,"Not Applicable") -> 93.412626 | D42: =IF(Calculation!U131,Calculation!R108,"Not Applicable") -> 31.12546 | E42: =IF(Calculation!U131,Calculation!P108,"Not Applicable") -> 29.459413 | F42: =IF(Calculation!U131,Calculation!Q108,"Not Applicable") -> 34.582789 | G42: =IF(Calculation!U131,Calculation!S108,"Not Applicable") -> 2.907511 | H42: =IF(Calculation!U131,Calculation!U108,"Not Applicable") -> 154.77156 | I42: =IF(Calculation!W131,Calculation!X108,"Not Applicable") -> 75.942603 | J42: =IF(Calculation!U177,Calculation!N154,"Not Applicable") -> 2051.9814 | K42: =IF(Calculation!U177,Calculation!R154,"Not Applicable") -> 32.112102 | L42: =IF(Calculation!U177,Calculation!P154,"Not Applicable") -> 29.543134 | M42: =IF(Calculation!U177,Calculation!Q154,"Not Applicable") -> 34.68107 | N42: =IF(Calculation!U177,Calculation!S154,"Not Applicable") -> 14.450446 | O42: =IF(Calculation!U177,Calculation!U154,"Not Applicable") -> 142.00125 | P42: =IF(Calculation!W177,Calculation!X154,"Not Applicable") -> 80.559777
B43: =IF(B11="","",CONCATENATE(B11,"-",C11,D11,E11)) -> CLU04J-1211C9 | C43: =IF(Calculation!U132,Calculation!N109,"Not Applicable") -> 89.213958 | D43: =IF(Calculation!U132,Calculation!R109,"Not Applicable") -> 31.092483 | E43: =IF(Calculation!U132,Calculation!P109,"Not Applicable") -> 29.4282 | F43: =IF(Calculation!U132,Calculation!Q109,"Not Applicable") -> 34.546148 | G43: =IF(Calculation!U132,Calculation!S109,"Not Applicable") -> 2.7738834 | H43: =IF(Calculation!U132,Calculation!U109,"Not Applicable") -> 162.22744 | I43: =IF(Calculation!W132,Calculation!X109,"Not Applicable") -> 75.778197 | J43: =IF(Calculation!U178,Calculation!N155,"Not Applicable") -> 2144.8067 | K43: =IF(Calculation!U178,Calculation!R155,"Not Applicable") -> 32.003485 | L43: =IF(Calculation!U178,Calculation!P155,"Not Applicable") -> 29.443206 | M43: =IF(Calculation!U178,Calculation!Q155,"Not Applicable") -> 34.563764 | N43: =IF(Calculation!U178,Calculation!S155,"Not Applicable") -> 14.401568 | O43: =IF(Calculation!U178,Calculation!U155,"Not Applicable") -> 148.92869 | P43: =IF(Calculation!W178,Calculation!X155,"Not Applicable") -> 79.964163
B44: =IF(B12="","",CONCATENATE(B12,"-",C12,D12,E12)) -> CLU04J-1212C9 | C44: =IF(Calculation!U133,Calculation!N110,"Not Applicable") -> 88.763487 | D44: =IF(Calculation!U133,Calculation!R110,"Not Applicable") -> 31.078103 | E44: =IF(Calculation!U133,Calculation!P110,"Not Applicable") -> 29.414591 | F44: =IF(Calculation!U133,Calculation!Q110,"Not Applicable") -> 34.530172 | G44: =IF(Calculation!U133,Calculation!S110,"Not Applicable") -> 2.7586008 | H44: =IF(Calculation!U133,Calculation!U110,"Not Applicable") -> 163.12617 | I44: =IF(Calculation!W133,Calculation!X110,"Not Applicable") -> 75.662351 | J44: =IF(Calculation!U179,Calculation!N156,"Not Applicable") -> 2154.4417 | K44: =IF(Calculation!U179,Calculation!R156,"Not Applicable") -> 31.916834 | L44: =IF(Calculation!U179,Calculation!P156,"Not Applicable") -> 29.363487 | M44: =IF(Calculation!U179,Calculation!Q156,"Not Applicable") -> 34.470181 | N44: =IF(Calculation!U179,Calculation!S156,"Not Applicable") -> 14.362575 | O44: =IF(Calculation!U179,Calculation!U156,"Not Applicable") -> 150.00386 | P44: =IF(Calculation!W179,Calculation!X156,"Not Applicable") -> 79.375623
B45: =IF(B13="","",CONCATENATE(B13,"-",C13,D13,E13)) -> CLU04J-1812C9 | C45: =IF(Calculation!U134,Calculation!N111,"Not Applicable") -> Not Applicable | D45: =IF(Calculation!U134,Calculation!R111,"Not Applicable") -> Not Applicable | E45: =IF(Calculation!U134,Calculation!P111,"Not Applicable") -> Not Applicable | F45: =IF(Calculation!U134,Calculation!Q111,"Not Applicable") -> Not Applicable | G45: =IF(Calculation!U134,Calculation!S111,"Not Applicable") -> Not Applicable | H45: =IF(Calculation!U134,Calculation!U111,"Not Applicable") -> Not Applicable | I45: =IF(Calculation!W134,Calculation!X111,"Not Applicable") -> Not Applicable | J45: =IF(Calculation!U180,Calculation!N157,"Not Applicable") -> 3142.2463 | K45: =IF(Calculation!U180,Calculation!R157,"Not Applicable") -> 47.838762 | L45: =IF(Calculation!U180,Calculation!P157,"Not Applicable") -> 44.011661 | M45: =IF(Calculation!U180,Calculation!Q157,"Not Applicable") -> 51.665862 | N45: =IF(Calculation!U180,Calculation!S157,"Not Applicable") -> 21.527443 | O45: =IF(Calculation!U180,Calculation!U157,"Not Applicable") -> 145.96468 | P45: =IF(Calculation!W180,Calculation!X157,"Not Applicable") -> 79.946185
B46: =IF(B14="","",CONCATENATE(B14,"-",C14,D14,E14)) -> CLU04J-1818C9 | C46: =IF(Calculation!U135,Calculation!N112,"Not Applicable") -> Not Applicable | D46: =IF(Calculation!U135,Calculation!R112,"Not Applicable") -> Not Applicable | E46: =IF(Calculation!U135,Calculation!P112,"Not Applicable") -> Not Applicable | F46: =IF(Calculation!U135,Calculation!Q112,"Not Applicable") -> Not Applicable | G46: =IF(Calculation!U135,Calculation!S112,"Not Applicable") -> Not Applicable | H46: =IF(Calculation!U135,Calculation!U112,"Not Applicable") -> Not Applicable | I46: =IF(Calculation!W135,Calculation!X112,"Not Applicable") -> Not Applicable | J46: =IF(Calculation!U181,Calculation!N158,"Not Applicable") -> 3103.0426 | K46: =IF(Calculation!U181,Calculation!R158,"Not Applicable") -> 47.323242 | L46: =IF(Calculation!U181,Calculation!P158,"Not Applicable") -> 43.537382 | M46: =IF(Calculation!U181,Calculation!Q158,"Not Applicable") -> 51.109101 | N46: =IF(Calculation!U181,Calculation!S158,"Not Applicable") -> 21.295459 | O46: =IF(Calculation!U181,Calculation!U158,"Not Applicable") -> 145.71382 | P46: =IF(Calculation!W181,Calculation!X158,"Not Applicable") -> 78.186872
... B52: =IF(B20="","",CONCATENATE(B20,"-",C20,D20,E20)) | C52: =IF(Calculation!U141,Calculation!N118,"Not Applicable") -> Not Applicable | D52: =IF(Calculation!U141,Calculation!R118,"Not Applicable") -> Not Applicable | E52: =IF(Calculation!U141,Calculation!P118,"Not Applicable") -> Not Applicable | F52: =IF(Calculation!U141,Calculation!Q118,"Not Applicable") -> Not Applicable | G52: =IF(Calculation!U141,Calculation!S118,"Not Applicable") -> Not Applicable | H52: =IF(Calculation!U141,Calculation!U118,"Not Applicable") -> Not Applicable | I52: =IF(Calculation!W141,Calculation!X118,"Not Applicable") -> Not Applicable | J52: =IF(Calculation!U187,Calculation!N164,"Not Applicable") -> #VALUE! | K52: =IF(Calculation!U187,Calculation!R164,"Not Applicable") -> #VALUE! | L52: =IF(Calculation!U187,Calculation!P164,"Not Applicable") -> #VALUE! | M52: =IF(Calculation!U187,Calculation!Q164,"Not Applicable") -> #VALUE! | N52: =IF(Calculation!U187,Calculation!S164,"Not Applicable") -> #VALUE! | O52: =IF(Calculation!U187,Calculation!U164,"Not Applicable") -> #VALUE! | P52: =IF(Calculation!W187,Calculation!X164,"Not Applicable") -> #VALUE!
B54: ②Limit | L54: ④全光束(Tj=85℃,定格駆動)
B55: IF Limit | C55: L/L | D55: U/L | K55: 90mA/die,Tj=85C | L55: 1 | M55: 2 | N55: 3 | O55: 4 | P55: 5 | Q55: 6 | R55: 7 | S55: 8 | T55: 9 | U55: 10 | V55: 11 | W55: 12 | X55: 13 | Y55: 14 | Z55: 15 | AA55: 16 | AB55: 17 | AC55: 18 | AD55: 19 | AE55: 20 | AF55: 21
C56: 5 | D56: 180 | J56: Tc=25C定格Lm係数 | L56: =VLOOKUP(L55,$G$3:$I$23,2,FALSE) -> 0 | M56: =VLOOKUP(M55,$G$3:$I$23,2,FALSE) -> 0 | N56: =VLOOKUP(N55,$G$3:$I$23,2,FALSE) -> 0 | O56: =VLOOKUP(O55,$G$3:$I$23,2,FALSE) -> 6500K,80Min | P56: =VLOOKUP(P55,$G$3:$I$23,2,FALSE) -> 5700K,80Min | Q56: =VLOOKUP(Q55,$G$3:$I$23,2,FALSE) -> 5000K,80Min | R56: =VLOOKUP(R55,$G$3:$I$23,2,FALSE) -> 4000K,80Min | S56: =VLOOKUP(S55,$G$3:$I$23,2,FALSE) -> 3500K,80Min | ... AF56: =VLOOKUP(AF55,$G$3:$I$23,2,FALSE) -> 2700K,97Typ
B57: Tc Limit | C57: U/L | D57: L/L | J57: =IF(B3="","",CONCATENATE(B3,"-",C3,D3,E3)) -> CLU02J-1201C9 | K57: =IF(Tcスペック算出!K11="","",Tcスペック算出!K11) -> 0.89756184 | L57: 515.2886 | M57: 508.2983 | N57: 494.3176 | O57: 495.3162 | Q57: 486.3286 | R57: 479.3383 | S57: 475.3438 | T57: 467.3548 | U57: 448.381 | W57: 406.4389 | X57: 406.4389 | Y57: 400.4472 | Z57: 384.4692 | AD57: 366.494 | AE57: 357.5064 | AF57: 344.5244
C58: 105 | D58: -40 | J58: =IF(B4="","",CONCATENATE(B4,"-",C4,D4,E4)) -> CLU02J-1202C9 | K58: =IF(Tcスペック算出!K12="","",Tcスペック算出!K12) -> 0.90033633 | L58: 1015.591 | M58: 1005.604 | N58: 977.6433 | O58: 976.6447 | Q58: 958.6696 | R58: 946.6862 | S58: 939.6959 | T58: 922.7195 | U58: 884.7722 | W58: 803.8844 | X58: 801.8872 | Y58: 789.9038 | Z58: 760.944 | AD58: 724.9939 | AE58: 707.0188 | AF58: 680.0563
B59: Tj Limit | C59: U/L | D59: L/L | J59: =IF(B5="","",CONCATENATE(B5,"-",C5,D5,E5)) -> CLU02J-1203C9 | K59: =IF(Tcスペック算出!K13="","",Tcスペック算出!K13) -> 0.90033633 | L59: 1495.924 | M59: 1480.945 | N59: 1440.002 | O59: 1437.006 | Q59: 1412.04 | R59: 1395.064 | S59: 1382.082 | T59: 1360.113 | U59: 1304.19 | W59: 1183.358 | X59: 1180.362 | Y59: 1165.383 | Z59: 1120.445 | AA59: 1121.444 | AB59: 1106.465 | AC59: 1063.524 | AD59: 1067.519 | AE59: 1042.553 | AF59: 1003.607
C60: 140 | D60: -25 | J60: =IF(B6="","",CONCATENATE(B6,"-",C6,D6,E6)) -> CLU02J-1204C9 | K60: =IF(Tcスペック算出!K14="","",Tcスペック算出!K14) -> 0.90336627 | L60: 1957.269 | M60: 1938.295 | N60: 1885.369 | O60: 1881.375 | Q60: 1847.422 | R60: 1827.45 | S60: 1811.472 | T60: 1780.515 | U60: 1706.618 | W60: 1549.837 | X60: 1546.841 | Y60: 1525.871 | Z60: 1465.954 | AD60: 1400.046 | AE60: 1365.095 | AF60: 1312.169
J61: =IF(B7="","",CONCATENATE(B7,"-",C7,D7,E7)) -> CLU03J-1205C9 | K61: =IF(Tcスペック算出!K15="","",Tcスペック算出!K15) -> 0.90309178 | L61: 2553.438 | M61: 2527.475 | N61: 2459.569 | O61: 2454.576 | Q61: 2410.638 | R61: 2381.678 | S61: 2362.704 | T61: 2322.76 | U61: 2227.893 | W61: 2020.182 | X61: 2017.186 | Y61: 1989.225 | Z61: 1913.331 | AA61: 1917.326 | AB61: 1889.365 | AC61: 1817.465 | AD61: 1824.455 | AE61: 1780.517 | AF61: 1711.613
J62: =IF(B8="","",CONCATENATE(B8,"-",C8,D8,E8)) -> CLU03J-1206C9 | K62: =IF(Tcスペック算出!K16="","",Tcスペック算出!K16) -> 0.9048726 | L62: 3033.755 | M62: 3001.8 | N62: 2920.913 | O62: 2914.921 | Q62: 2862.994 | R62: 2830.04 | S62: 2807.072 | T62: 2758.141 | U62: 2647.296 | W62: 2398.644 | X62: 2397.645 | Y62: 2362.694 | Z62: 2272.82 | AA62: 2276.814 | AB62: 2243.86 | AC62: 2157.98 | AD62: 2166.968 | AE62: 2114.042 | AF62: 2034.154
J63: =IF(B9="","",CONCATENATE(B9,"-",C9,D9,E9)) -> CLU03J-1208C9 | K63: =IF(Tcスペック算出!K17="","",Tcスペック算出!K17) -> 0.90610077 | L63: 3966.437 | M63: 3926.493 | N63: 3819.643 | O63: 3811.654 | P63: 3780.698 | Q63: 3743.75 | R63: 3700.81 | S63: 3670.852 | T63: 3606.942 | U63: 3460.147 | V63: 3245.449 | W63: 3137.6 | X63: 3135.603 | Y63: 3090.666 | Z63: 2971.832 | AA63: 2977.824 | AB63: 2935.883 | AC63: 2823.041 | AD63: 2835.024 | AE63: 2765.122 | AF63: 2659.271
J64: =IF(B10="","",CONCATENATE(B10,"-",C10,D10,E10)) -> CLU03J-1210C9 | K64: =IF(Tcスペック算出!K18="","",Tcスペック算出!K18) -> 0.90718923 | L64: 4926.078 | M64: 4877.147 | N64: 4745.332 | O64: 4734.348 | P64: 4696.401 | Q64: 4649.467 | R64: 4595.543 | S64: 4557.596 | T64: 4480.704 | U64: 4289.972 | V64: 4030.337 | W64: 3897.523 | X64: 3890.533 | Y64: 3838.606 | Z64: 3683.824
J65: =IF(B11="","",CONCATENATE(B11,"-",C11,D11,E11)) -> CLU04J-1211C9 | K65: =IF(Tcスペック算出!K19="","",Tcスペック算出!K19) -> 0.9069174 | L65: 5640.079 | M65: 5582.16 | N65: 5432.37 | O65: 5419.389 | P65: 5376.449 | Q65: 5322.525 | R65: 5261.61 | S65: 5219.669 | T65: 5129.795 | U65: 4919.091 | V65: 4614.519 | W65: 4461.734 | X65: 4456.741 | Y65: 4393.829 | Z65: 4225.066 | AA65: 4234.053 | AB65: 4175.136 | AC65: 4014.362 | AD65: 4030.34 | AE65: 3932.477 | AF65: 3780.69
B66: ③代表特性 | C66: y=ax3+bx2+cx+d/y=ax2+bx+c | J66: =IF(B12="","",CONCATENATE(B12,"-",C12,D12,E12)) -> CLU04J-1212C9 | K66: =IF(Tcスペック算出!K20="","",Tcスペック算出!K20) -> 0.90610077 | L66: 6152.372 | M66: 6090.459 | N66: 5926.688 | O66: 5911.709 | P66: 5864.775 | Q66: 5806.856 | R66: 5739.95 | S66: 5694.015 | T66: 5595.153 | U66: 5366.474 | V66: 5033.94 | W66: 4866.176 | X66: 4862.181 | Y66: 4793.278 | Z66: 4608.537 | AA66: 4618.523 | AB66: 4554.613 | AC66: 4378.859 | AD66: 4396.834 | AE66: 4288.985 | AF66: 4124.216
C67: CLU7A2-1201C9 | J67: =IF(B13="","",CONCATENATE(B13,"-",C13,D13,E13)) -> CLU04J-1812C9 | K67: =IF(Tcスペック算出!K21="","",Tcスペック算出!K21) -> 0.90935702 | L67: 9004.299 | M67: 8914.426 | N67: 8674.764 | O67: 8651.796 | P67: 8583.892 | Q67: 8499.012 | R67: 8400.151 | S67: 8328.253 | T67: 8189.448 | U67: 7852.923 | V67: 7369.605 | W67: 7122.953 | X67: 7110.97 | Y67: 7016.104 | Z67: 6743.488 | AD67: 6434.923 | AE67: 6279.143 | AF67: 6035.487
C68: IF(x)-lm%(y) | D68: lm%(x)-IF(y) | E68: IF(x)-VF%(y) | F68: Tc(x)-lm%(y) | G68: Tc(x)-VF%(y) | J68: =IF(B14="","",CONCATENATE(B14,"-",C14,D14,E14)) -> CLU04J-1818C9 | K68: =IF(Tcスペック算出!K22="","",Tcスペック算出!K22) -> 0.90935702 | L68: 13143.46 | M68: 13010.65 | N68: 12659.14 | O68: 12630.18 | P68: 12529.33 | Q68: 12405.5 | R68: 12261.7 | S68: 12163.84 | T68: 11953.14 | U68: 11463.83 | V68: 10755.83 | W68: 10396.34 | X68: 10388.35 | Y68: 10241.55 | Z68: 9846.112
B69: a | C69: 4.4848173e-09 | D69: 1.0323872 | E69: -5.9143475e-07 | F69: ='代表特性(C9)'!F4 -> -1.892436e-10 | G69: ='代表特性(C9)'!G4 -> 1.4850866e-06 | J69: =IF(B15="","",CONCATENATE(B15,"-",C15,D15,E15)) | K69: =IF(Tcスペック算出!K23="","",Tcスペック算出!K23) -> 0.91308796 | L69: 19274 | M69: 19080 | N69: 18565 | O69: 18520 | P69: 18373 | Q69: 18191 | R69: 17980 | S69: 17836 | T69: 17528 | U69: 16811 | V69: 15773 | W69: 15247 | X69: 15233 | Y69: 15018 | Z69: 14437
B70: b | C70: -1.0244018e-05 | D70: 5.4592756 | E70: 0.00086339593 | F70: ='代表特性(C9)'!F5 -> -6.5742638e-06 | G70: ='代表特性(C9)'!G5 -> -0.00073023959 | J70: =IF(B16="","",CONCATENATE(B16,"-",C16,D16,E16)) | K70: =IF(Tcスペック算出!K24="","",Tcスペック算出!K24) -> 0.91478997 | L70: 26615 | M70: 26278 | N70: 25566 | O70: 25573 | P70: 25371 | Q70: 25120 | R70: 24764 | S70: 24562 | T70: 24137 | U70: 23110 | V70: 21725 | W70: 20998 | X70: 20975 | Y70: 20681 | Z70: 19847
B71: c | C71: 0.011956803 | D71: 83.823003 | E71: 0.92708499 | F71: ='代表特性(C9)'!F6 -> -0.0013026789 | G71: ='代表特性(C9)'!G6 -> 1.0183321 | J71: =IF(B17="","",CONCATENATE(B17,"-",C17,D17,E17)) | K71: =IF(Tcスペック算出!K25="","",Tcスペック算出!K25)
B72: d | C72: 0.0035948263 | D72: -0.31466585 | F72: ='代表特性(C9)'!F7 -> 1.0374062 | J72: =IF(B18="","",CONCATENATE(B18,"-",C18,D18,E18)) | K72: =IF(Tcスペック算出!K26="","",Tcスペック算出!K26) -> 0.90842696
J73: =IF(B19="","",CONCATENATE(B19,"-",C19,D19,E19)) | K73: =IF(Tcスペック算出!K27="","",Tcスペック算出!K27)
J74: =IF(B20="","",CONCATENATE(B20,"-",C20,D20,E20)) | K74: =IF(Tcスペック算出!K28="","",Tcスペック算出!K28)
K76: 蛍光体UP率⇒ | L76: 1.005 | M76: 1.005 | N76: 1.005 | O76: 1.005 | P76: 1.005 | Q76: 1.015 | R76: 1.015 | S76: 1.015 | T76: 1.015 | U76: 1.015 | V76: 1.03 | W76: 1.03 | X76: 1.03 | Y76: 1.03 | Z76: 1.03 | AA76: 1.04 | AB76: 1.04 | AC76: 1.04 | AD76: 1.02 | AE76: 1.01 | AF76: 1
L77: ⑤全光束(Tc=25℃,定格駆動)
L78: 1 | M78: 2 | N78: 3 | O78: 4 | P78: 5 | Q78: 6 | R78: 7 | S78: 8 | T78: 9 | U78: 10 | V78: 11 | W78: 12 | X78: 13 | Y78: 14 | Z78: 15 | AA78: 16 | AB78: 17 | AC78: 18 | AD78: 19 | AE78: 20 | AF78: 21
H79: Series | I79: Parallel | K79: VF | L79: =VLOOKUP(L78,$G$3:$I$23,2,FALSE) -> 0 | M79: =VLOOKUP(M78,$G$3:$I$23,2,FALSE) -> 0 | N79: =VLOOKUP(N78,$G$3:$I$23,2,FALSE) -> 0 | O79: =VLOOKUP(O78,$G$3:$I$23,2,FALSE) -> 6500K,80Min | P79: =VLOOKUP(P78,$G$3:$I$23,2,FALSE) -> 5700K,80Min | Q79: =VLOOKUP(Q78,$G$3:$I$23,2,FALSE) -> 5000K,80Min | R79: =VLOOKUP(R78,$G$3:$I$23,2,FALSE) -> 4000K,80Min | S79: =VLOOKUP(S78,$G$3:$I$23,2,FALSE) -> 3500K,80Min | ... AF79: =VLOOKUP(AF78,$G$3:$I$23,2,FALSE) -> 2700K,97Typ
G80: =IF(H80="","",H80*I80) -> 12 | H80: =IF(C3="","",C3) -> 12 | I80: =IF(D3="","",D3) -> 01 | J80: =IF(B3="","",CONCATENATE(B3,"-",C3,D3,E3)) -> CLU02J-1201C9 | K80: =IF(Tcスペック算出!J11="","",Tcスペック算出!J11) -> 34.318853 | L80: =IF(L57="","",L57/$K57*L$76) -> 576.96865 | M80: =IF(M57="","",M57/$K57*M$76) -> 569.14161 | N80: =IF(N57="","",N57/$K57*N$76) -> 553.48742 | O80: =IF(O57="","",O57/$K57*O$76) -> 554.60556 | P80: =IF(P57="","",P57/$K57*P$76) | Q80: =IF(Q57="","",Q57/$K57*Q$76) -> 549.96047 | R80: =IF(R57="","",R57/$K57*R$76) -> 542.05555 | S80: =IF(S57="","",S57/$K57*S$76) -> 537.5384 | ... AF80: =IF(AF57="","",AF57/$K57*AF$76) -> 383.84475
G81: =IF(H81="","",H81*I81) -> 24 | H81: =IF(C4="","",C4) -> 12 | I81: =IF(D4="","",D4) -> 02 | J81: =IF(B4="","",CONCATENATE(B4,"-",C4,D4,E4)) -> CLU02J-1202C9 | K81: =IF(Tcスペック算出!J12="","",Tcスペック算出!J12) -> 34.297496 | L81: =IF(L58="","",L58/$K58*L$76) -> 1133.653 | M81: =IF(M58="","",M58/$K58*M$76) -> 1122.505 | N81: =IF(N58="","",N58/$K58*N$76) -> 1091.2939 | O81: =IF(O58="","",O58/$K58*O$76) -> 1090.1792 | P81: =IF(P58="","",P58/$K58*P$76) | Q81: =IF(Q58="","",Q58/$K58*Q$76) -> 1080.7624 | R81: =IF(R58="","",R58/$K58*R$76) -> 1067.2528 | S81: =IF(S58="","",S58/$K58*S$76) -> 1059.3723 | ... AF81: =IF(AF58="","",AF58/$K58*AF$76) -> 755.33584
G82: =IF(H82="","",H82*I82) -> 36 | H82: =IF(C5="","",C5) -> 12 | I82: =IF(D5="","",D5) -> 03 | J82: =IF(B5="","",CONCATENATE(B5,"-",C5,D5,E5)) -> CLU02J-1203C9 | K82: =IF(Tcスペック算出!J13="","",Tcスペック算出!J13) -> 34.297496 | L82: =IF(L59="","",L59/$K59*L$76) -> 1669.8245 | M82: =IF(M59="","",M59/$K59*M$76) -> 1653.1041 | N82: =IF(N59="","",N59/$K59*N$76) -> 1607.4015 | O82: =IF(O59="","",O59/$K59*O$76) -> 1604.0573 | P82: =IF(P59="","",P59/$K59*P$76) | Q82: =IF(Q59="","",Q59/$K59*Q$76) -> 1591.8724 | R82: =IF(R59="","",R59/$K59*R$76) -> 1572.7344 | S82: =IF(S59="","",S59/$K59*S$76) -> 1558.0991 | ... AF82: =IF(AF59="","",AF59/$K59*AF$76) -> 1114.7023
G83: =IF(H83="","",H83*I83) -> 48 | H83: =IF(C6="","",C6) -> 12 | I83: =IF(D6="","",D6) -> 04 | J83: =IF(B6="","",CONCATENATE(B6,"-",C6,D6,E6)) -> CLU02J-1204C9 | K83: =IF(Tcスペック算出!J14="","",Tcスペック算出!J14) -> 34.273859 | L83: =IF(L60="","",L60/$K60*L$76) -> 2177.4726 | M83: =IF(M60="","",M60/$K60*M$76) -> 2156.364 | N83: =IF(N60="","",N60/$K60*N$76) -> 2097.4835 | O83: =IF(O60="","",O60/$K60*O$76) -> 2093.0401 | P83: =IF(P60="","",P60/$K60*P$76) | Q83: =IF(Q60="","",Q60/$K60*Q$76) -> 2075.7177 | R83: =IF(R60="","",R60/$K60*R$76) -> 2053.2776 | S83: =IF(S60="","",S60/$K60*S$76) -> 2035.3251 | ... AF83: =IF(AF60="","",AF60/$K60*AF$76) -> 1452.5326
G84: =IF(H84="","",H84*I84) -> 60 | H84: =IF(C7="","",C7) -> 12 | I84: =IF(D7="","",D7) -> 05 | J84: =IF(B7="","",CONCATENATE(B7,"-",C7,D7,E7)) -> CLU03J-1205C9 | K84: =IF(Tcスペック算出!J15="","",Tcスペック算出!J15) -> 34.276014 | L84: =IF(L61="","",L61/$K61*L$76) -> 2841.5774 | M84: =IF(M61="","",M61/$K61*M$76) -> 2812.6846 | N84: =IF(N61="","",N61/$K61*N$76) -> 2737.1159 | O84: =IF(O61="","",O61/$K61*O$76) -> 2731.5595 | P84: =IF(P61="","",P61/$K61*P$76) | Q84: =IF(Q61="","",Q61/$K61*Q$76) -> 2709.3565 | R84: =IF(R61="","",R61/$K61*R$76) -> 2676.8079 | S84: =IF(S61="","",S61/$K61*S$76) -> 2655.4827 | ... AF84: =IF(AF61="","",AF61/$K61*AF$76) -> 1895.2813
G85: =IF(H85="","",H85*I85) -> 72 | H85: =IF(C8="","",C8) -> 12 | I85: =IF(D8="","",D8) -> 06 | J85: =IF(B8="","",CONCATENATE(B8,"-",C8,D8,E8)) -> CLU03J-1206C9 | K85: =IF(Tcスペック算出!J16="","",Tcスペック算出!J16) -> 34.261984 | L85: =IF(L62="","",L62/$K62*L$76) -> 3369.4509 | M85: =IF(M62="","",M62/$K62*M$76) -> 3333.9599 | N85: =IF(N62="","",N62/$K62*N$76) -> 3244.1225 | O85: =IF(O62="","",O62/$K62*O$76) -> 3237.4675 | P85: =IF(P62="","",P62/$K62*P$76) | Q85: =IF(Q62="","",Q62/$K62*Q$76) -> 3211.4343 | R85: =IF(R62="","",R62/$K62*R$76) -> 3174.4696 | S85: =IF(S62="","",S62/$K62*S$76) -> 3148.7063 | ... AF85: =IF(AF62="","",AF62/$K62*AF$76) -> 2248.0004
G86: =IF(H86="","",H86*I86) -> 96 | H86: =IF(C9="","",C9) -> 12 | I86: =IF(D9="","",D9) -> 08 | J86: =IF(B9="","",CONCATENATE(B9,"-",C9,D9,E9)) -> CLU03J-1208C9 | K86: =IF(Tcスペック算出!J17="","",Tcスペック算出!J17) -> 34.25224 | L86: =IF(L63="","",L63/$K63*L$76) -> 4399.3663 | M86: =IF(M63="","",M63/$K63*M$76) -> 4355.0625 | N86: =IF(N63="","",N63/$K63*N$76) -> 4236.55 | O86: =IF(O63="","",O63/$K63*O$76) -> 4227.689 | P86: =IF(P63="","",P63/$K63*P$76) -> 4193.3542 | Q86: =IF(Q63="","",Q63/$K63*Q$76) -> 4193.6906 | R86: =IF(R63="","",R63/$K63*R$76) -> 4145.5899 | S86: =IF(S63="","",S63/$K63*S$76) -> 4112.0314 | ... AF86: =IF(AF63="","",AF63/$K63*AF$76) -> 2934.8513
G87: =IF(H87="","",H87*I87) -> 120 | H87: =IF(C10="","",C10) -> 12 | I87: =IF(D10="","",D10) -> 10 | J87: =IF(B10="","",CONCATENATE(B10,"-",C10,D10,E10)) -> CLU03J-1210C9 | K87: =IF(Tcスペック算出!J18="","",Tcスペック算出!J18) -> 34.243556 | L87: =IF(L64="","",L64/$K64*L$76) -> 5457.1948 | M87: =IF(M64="","",M64/$K64*M$76) -> 5402.9882 | N87: =IF(N64="","",N64/$K64*N$76) -> 5256.9613 | O87: =IF(O64="","",O64/$K64*O$76) -> 5244.793 | P87: =IF(P64="","",P64/$K64*P$76) -> 5202.7547 | Q87: =IF(Q64="","",Q64/$K64*Q$76) -> 5202.0117 | R87: =IF(R64="","",R64/$K64*R$76) -> 5141.6794 | S87: =IF(S64="","",S64/$K64*S$76) -> 5099.2227 | ... AF87: =IF(AF64="","",AF64/$K64*AF$76)
G88: =IF(H88="","",H88*I88) -> 132 | H88: =IF(C11="","",C11) -> 12 | I88: =IF(D11="","",D11) -> 11 | J88: =IF(B11="","",CONCATENATE(B11,"-",C11,D11,E11)) -> CLU04J-1211C9 | K88: =IF(Tcスペック算出!J19="","",Tcスペック算出!J19) -> 34.24573 | L88: =IF(L65="","",L65/$K65*L$76) -> 6250.0503 | M88: =IF(M65="","",M65/$K65*M$76) -> 6185.8674 | N88: =IF(N65="","",N65/$K65*N$76) -> 6019.8777 | O88: =IF(O65="","",O65/$K65*O$76) -> 6005.4928 | P88: =IF(P65="","",P65/$K65*P$76) -> 5957.9089 | Q88: =IF(Q65="","",Q65/$K65*Q$76) -> 5956.8411 | R88: =IF(R65="","",R65/$K65*R$76) -> 5888.6665 | S88: =IF(S65="","",S65/$K65*S$76) -> 5841.7272 | ... AF88: =IF(AF65="","",AF65/$K65*AF$76) -> 4168.7258
G89: =IF(H89="","",H89*I89) -> 144 | H89: =IF(C12="","",C12) -> 12 | I89: =IF(D12="","",D12) -> 12 | J89: =IF(B12="","",CONCATENATE(B12,"-",C12,D12,E12)) -> CLU04J-1212C9 | K89: =IF(Tcスペック算出!J20="","",Tcスペック算出!J20) -> 34.25224 | L89: =IF(L66="","",L66/$K66*L$76) -> 6823.8921 | M89: =IF(M66="","",M66/$K66*M$76) -> 6755.2214 | N89: =IF(N66="","",N66/$K66*N$76) -> 6573.5751 | O89: =IF(O66="","",O66/$K66*O$76) -> 6556.9612 | P89: =IF(P66="","",P66/$K66*P$76) -> 6504.9044 | Q89: =IF(Q66="","",Q66/$K66*Q$76) -> 6504.7499 | R89: =IF(R66="","",R66/$K66*R$76) -> 6429.8028 | S89: =IF(S66="","",S66/$K66*S$76) -> 6378.3471 | ... AF89: =IF(AF66="","",AF66/$K66*AF$76) -> 4551.6085
G90: =IF(H90="","",H90*I90) -> 216 | H90: =IF(C13="","",C13) -> 18 | I90: =IF(D13="","",D13) -> 12 | J90: =IF(B13="","",CONCATENATE(B13,"-",C13,D13,E13)) -> CLU04J-1812C9 | K90: =IF(Tcスペック算出!J21="","",Tcスペック算出!J21) -> 51.339201 | L90: =IF(L67="","",L67/$K67*L$76) -> 9951.3395 | M90: =IF(M67="","",M67/$K67*M$76) -> 9852.014 | N90: =IF(N67="","",N67/$K67*N$76) -> 9587.1452 | O90: =IF(O67="","",O67/$K67*O$76) -> 9561.7615 | P90: =IF(P67="","",P67/$K67*P$76) -> 9486.7156 | Q90: =IF(Q67="","",Q67/$K67*Q$76) -> 9486.37 | R90: =IF(R67="","",R67/$K67*R$76) -> 9376.024 | S90: =IF(S67="","",S67/$K67*S$76) -> 9295.7734 | ... AF90: =IF(AF67="","",AF67/$K67*AF$76) -> 6637.0929
G91: =IF(H91="","",H91*I91) -> 324 | H91: =IF(C14="","",C14) -> 18 | I91: =IF(D14="","",D14) -> 18 | J91: =IF(B14="","",CONCATENATE(B14,"-",C14,D14,E14)) -> CLU04J-1818C9 | K91: =IF(Tcスペック算出!J22="","",Tcスペック算出!J22) -> 51.339201 | L91: =IF(L68="","",L68/$K68*L$76) -> 14525.843 | M91: =IF(M68="","",M68/$K68*M$76) -> 14379.064 | N91: =IF(N68="","",N68/$K68*N$76) -> 13990.584 | O91: =IF(O68="","",O68/$K68*O$76) -> 13958.578 | P91: =IF(P68="","",P68/$K68*P$76) -> 13847.121 | Q91: =IF(Q68="","",Q68/$K68*Q$76) -> 13846.687 | R91: =IF(R68="","",R68/$K68*R$76) -> 13686.182 | S91: =IF(S68="","",S68/$K68*S$76) -> 13576.953 | ... AF91: =IF(AF68="","",AF68/$K68*AF$76)
... G97: =IF(H97="","",H97*I97) | H97: =IF(C20="","",C20) | I97: =IF(D20="","",D20) | J97: =IF(B20="","",CONCATENATE(B20,"-",C20,D20,E20)) | K97: =IF(Tcスペック算出!J28="","",Tcスペック算出!J28) | L97: =IF(L74="","",L74/$K74*L$76) | M97: =IF(M74="","",M74/$K74*M$76) | N97: =IF(N74="","",N74/$K74*N$76) | O97: =IF(O74="","",O74/$K74*O$76) | P97: =IF(P74="","",P74/$K74*P$76) | Q97: =IF(Q74="","",Q74/$K74*Q$76) | R97: =IF(R74="","",R74/$K74*R$76) | S97: =IF(S74="","",S74/$K74*S$76) | ... AF97: =IF(AF74="","",AF74/$K74*AF$76)
P99: 0.92 | Q99: 1.08
E100: CLU7A2,702,712 | H100: lm/die | K100: =HLOOKUP(Selector!$C$6,Calculation!L$78:AF$97,2,FALSE) -> 3000K,90Min On BBL | L100: lm% | M100: IF/die | N100: IF/PKG | O100: Vftyp | P100: Vfmin | Q100: Vfmax | R100: VF Tc-compensation | S100: W | U100: lm/W | V100: Rj-c | W100: ⊿T j-c | X100: Tj
D101: =CONCATENATE("lm(%,@",ROUNDDOWN(E103,0),"C)") -> lm(%,@74C) | E101: =F69*$E$103^3+F70*$E$103^2+F71*$E$103+F72 -> 0.90315002 | H101: =K101/G80 -> 38.29454 | J101: =J80 -> CLU02J-1201C9 | K101: =HLOOKUP(Selector!$C$6,Calculation!L$78:AF$97,3,FALSE) -> 459.53448 | L101: =E$104/K101 -> 1.0842627 | M101: =D$69*$L101^3+D$70*$L101^2+D$71*$L101+D$72 -> 98.305523 | N101: =M101*I80 -> 98.305523 | O101: =(E$69*$M101^2+E$70*$M101+E$71)*K80 -> 34.533207 | P101: =O101*$P$99 -> 31.770551 | Q101: =O101*$Q$99 -> 37.295864 | R101: =(G$69*$E$103^2+G$70*$E$103+G$71)*O101 -> 33.567302 | S101: =N101*R101/1000 -> 3.2998512 | U101: =E$102/S101 -> 136.36979 | V101: =Tcスペック算出!G11 -> 2.6 | W101: =S101*V101 -> 8.5796131 | X101: =IFERROR(E$103+W101,FALSE) -> 83.359212
D102: lm | E102: =Selector!G6 -> 450 | H102: =K102/G81 -> 37.652638 | J102: =J81 -> CLU02J-1202C9 | K102: =HLOOKUP(Selector!$C$6,Calculation!L$78:AF$97,4,FALSE) -> 903.66331 | L102: =E$104/K102 -> 0.5513736 | M102: =D$69*$L102^3+D$70*$L102^2+D$71*$L102+D$72 -> 47.735868 | N102: =M102*I81 -> 95.471737 | O102: =(E$69*$M102^2+E$70*$M102+E$71)*K81 -> 33.164041 | P102: =O102*$P$99 -> 30.510917 | Q102: =O102*$Q$99 -> 35.817164 | R102: =(G$69*$E$103^2+G$70*$E$103+G$71)*O102 -> 32.236432 | S102: =N102*R102/1000 -> 3.0776681 | U102: =E$102/S102 -> 146.2146 | V102: =Tcスペック算出!G12 -> 1.5 | W102: =S102*V102 -> 4.6165022 | X102: =IFERROR(E$103+W102,FALSE) -> 79.396101
D103: Tc | E103: =Selector!L6 -> 74.779599 | H103: =K103/G82 -> 37.03383 | J103: =J82 -> CLU02J-1203C9 | K103: =HLOOKUP(Selector!$C$6,Calculation!L$78:AF$97,5,FALSE) -> 1333.2179 | L103: =E$104/K103 -> 0.37372443 | M103: =D$69*$L103^3+D$70*$L103^2+D$71*$L103+D$72 -> 31.828424 | N103: =M103*I82 -> 95.485271 | O103: =(E$69*$M103^2+E$70*$M103+E$71)*K82 -> 32.718658 | P103: =O103*$P$99 -> 30.101165 | Q103: =O103*$Q$99 -> 35.336151 | R103: =(G$69*$E$103^2+G$70*$E$103+G$71)*O103 -> 31.803507 | S103: =N103*R103/1000 -> 3.0367664 | U103: =E$102/S103 -> 148.18393 | V103: =Tcスペック算出!G13 -> 1 | W103: =S103*V103 -> 3.0367664 | X103: =IFERROR(E$103+W103,FALSE) -> 77.816365
D104: lm Tc-compensation | E104: =E102/E101 -> 498.25609 | H104: =K104/G83 -> 36.245153 | J104: =J83 -> CLU02J-1204C9 | K104: =HLOOKUP(Selector!$C$6,Calculation!L$78:AF$97,6,FALSE) -> 1739.7673 | L104: =E$104/K104 -> 0.28639237 | M104: =D$69*$L104^3+D$70*$L104^2+D$71*$L104+D$72 -> 24.163627 | N104: =M104*I83 -> 96.654507 | O104: =(E$69*$M104^2+E$70*$M104+E$71)*K83 -> 32.477992 | P104: =O104*$P$99 -> 29.879753 | Q104: =O104*$Q$99 -> 35.076232 | R104: =(G$69*$E$103^2+G$70*$E$103+G$71)*O104 -> 31.569572 | S104: =N104*R104/1000 -> 3.0513414 | U104: =E$102/S104 -> 147.47612 | V104: =Tcスペック算出!G14 -> 0.86 | W104: =S104*V104 -> 2.6241536 | X104: =IFERROR(E$103+W104,FALSE) -> 77.403752
H105: =K105/G84 -> 37.812727 | J105: =J84 -> CLU03J-1205C9 | K105: =HLOOKUP(Selector!$C$6,Calculation!L$78:AF$97,7,FALSE) -> 2268.7636 | L105: =E$104/K105 -> 0.21961569 | M105: =D$69*$L105^3+D$70*$L105^2+D$71*$L105+D$72 -> 18.368423 | N105: =M105*I84 -> 91.842115 | O105: =(E$69*$M105^2+E$70*$M105+E$71)*K84 -> 32.313529 | P105: =O105*$P$99 -> 29.728447 | Q105: =O105*$Q$99 -> 34.898612 | R105: =(G$69*$E$103^2+G$70*$E$103+G$71)*O105 -> 31.409709 | S105: =N105*R105/1000 -> 2.8847342 | U105: =E$102/S105 -> 155.99358 | V105: =Tcスペック算出!G15 -> 0.68 | W105: =S105*V105 -> 1.9616192 | X105: =IFERROR(E$103+W105,FALSE) -> 76.741218
H106: =K106/G85 -> 37.352938 | J106: =J85 -> CLU03J-1206C9 | K106: =HLOOKUP(Selector!$C$6,Calculation!L$78:AF$97,8,FALSE) -> 2689.4115 | L106: =E$104/K106 -> 0.18526584 | M106: =D$69*$L106^3+D$70*$L106^2+D$71*$L106+D$72 -> 15.408819 | N106: =M106*I85 -> 92.452916 | O106: =(E$69*$M106^2+E$70*$M106+E$71)*K85 -> 32.214778 | P106: =O106*$P$99 -> 29.637596 | Q106: =O106*$Q$99 -> 34.79196 | R106: =(G$69*$E$103^2+G$70*$E$103+G$71)*O106 -> 31.31372 | S106: =N106*R106/1000 -> 2.8950448 | U106: =E$102/S106 -> 155.43801 | V106: =Tcスペック算出!G16 -> 0.61 | W106: =S106*V106 -> 1.7659773 | X106: =IFERROR(E$103+W106,FALSE) -> 76.545576
H107: =K107/G86 -> 36.59667 | J107: =J86 -> CLU03J-1208C9 | K107: =HLOOKUP(Selector!$C$6,Calculation!L$78:AF$97,9,FALSE) -> 3513.2803 | L107: =E$104/K107 -> 0.14182076 | M107: =D$69*$L107^3+D$70*$L107^2+D$71*$L107+D$72 -> 11.685924 | N107: =M107*I86 -> 93.487395 | O107: =(E$69*$M107^2+E$70*$M107+E$71)*K86 -> 32.097562 | P107: =O107*$P$99 -> 29.529757 | Q107: =O107*$Q$99 -> 34.665367 | R107: =(G$69*$E$103^2+G$70*$E$103+G$71)*O107 -> 31.199783 | S107: =N107*R107/1000 -> 2.9167864 | U107: =E$102/S107 -> 154.27938 | V107: =Tcスペック算出!G17 -> 0.48 | W107: =S107*V107 -> 1.4000575 | X107: =IFERROR(E$103+W107,FALSE) -> 76.179656
H108: =K108/G87 -> 36.318812 | J108: =J87 -> CLU03J-1210C9 | K108: =HLOOKUP(Selector!$C$6,Calculation!L$78:AF$97,10,FALSE) -> 4358.2574 | L108: =E$104/K108 -> 0.11432461 | M108: =D$69*$L108^3+D$70*$L108^2+D$71*$L108+D$72 -> 9.3412626 | N108: =M108*I87 -> 93.412626 | O108: =(E$69*$M108^2+E$70*$M108+E$71)*K87 -> 32.021101 | P108: =O108*$P$99 -> 29.459413 | Q108: =O108*$Q$99 -> 34.582789 | R108: =(G$69*$E$103^2+G$70*$E$103+G$71)*O108 -> 31.12546 | S108: =N108*R108/1000 -> 2.907511 | U108: =E$102/S108 -> 154.77156 | V108: =Tcスペック算出!G18 -> 0.4 | W108: =S108*V108 -> 1.1630044 | X108: =IFERROR(E$103+W108,FALSE) -> 75.942603
H109: =K109/G88 -> 37.804083 | J109: =J88 -> CLU04J-1211C9 | K109: =HLOOKUP(Selector!$C$6,Calculation!L$78:AF$97,11,FALSE) -> 4990.139 | L109: =E$104/K109 -> 0.09984814 | M109: =D$69*$L109^3+D$70*$L109^2+D$71*$L109+D$72 -> 8.1103598 | N109: =M109*I88 -> 89.213958 | O109: =(E$69*$M109^2+E$70*$M109+E$71)*K88 -> 31.987174 | P109: =O109*$P$99 -> 29.4282 | Q109: =O109*$Q$99 -> 34.546148 | R109: =(G$69*$E$103^2+G$70*$E$103+G$71)*O109 -> 31.092483 | S109: =N109*R109/1000 -> 2.7738834 | U109: =E$102/S109 -> 162.22744 | V109: =Tcスペック算出!G19 -> 0.36 | W109: =S109*V109 -> 0.99859804 | X109: =IFERROR(E$103+W109,FALSE) -> 75.778197
H110: =K110/G89 -> 37.838233 | J110: =J89 -> CLU04J-1212C9 | K110: =HLOOKUP(Selector!$C$6,Calculation!L$78:AF$97,12,FALSE) -> 5448.7056 | L110: =E$104/K110 -> 0.091444855 | M110: =D$69*$L110^3+D$70*$L110^2+D$71*$L110+D$72 -> 7.3969573 | N110: =M110*I89 -> 88.763487 | O110: =(E$69*$M110^2+E$70*$M110+E$71)*K89 -> 31.972381 | P110: =O110*$P$99 -> 29.414591 | Q110: =O110*$Q$99 -> 34.530172 | R110: =(G$69*$E$103^2+G$70*$E$103+G$71)*O110 -> 31.078103 | S110: =N110*R110/1000 -> 2.7586008 | U110: =E$102/S110 -> 163.12617 | V110: =Tcスペック算出!G20 -> 0.32 | W110: =S110*V110 -> 0.88275227 | X110: =IFERROR(E$103+W110,FALSE) -> 75.662351
H111: =K111/G90 -> 36.791294 | J111: =J90 -> CLU04J-1812C9 | K111: =HLOOKUP(Selector!$C$6,Calculation!L$78:AF$97,13,FALSE) -> 7946.9196 | L111: =E$104/K111 -> 0.062698016 | M111: =D$69*$L111^3+D$70*$L111^2+D$71*$L111+D$72 -> 4.9625852 | N111: =M111*I90 -> 59.551023 | O111: =(E$69*$M111^2+E$70*$M111+E$71)*K90 -> 47.815026 | P111: =O111*$P$99 -> 43.989824 | Q111: =O111*$Q$99 -> 51.640228 | R111: =(G$69*$E$103^2+G$70*$E$103+G$71)*O111 -> 46.477624 | S111: =N111*R111/1000 -> 2.7677901 | U111: =E$102/S111 -> 162.58458 | V111: =Tcスペック算出!G21 -> 0.24 | W111: =S111*V111 -> 0.66426962 | X111: =IFERROR(E$103+W111,FALSE) -> 75.443868
H112: =K112/G91 -> 35.803335 | J112: =J91 -> CLU04J-1818C9 | K112: =HLOOKUP(Selector!$C$6,Calculation!L$78:AF$97,14,FALSE) -> 11600.28 | L112: =E$104/K112 -> 0.042952073 | M112: =D$69*$L112^3+D$70*$L112^2+D$71*$L112+D$72 -> 3.2958594 | N112: =M112*I91 -> 59.325469 | O112: =(E$69*$M112^2+E$70*$M112+E$71)*K91 -> 47.741565 | P112: =O112*$P$99 -> 43.92224 | Q112: =O112*$Q$99 -> 51.56089 | R112: =(G$69*$E$103^2+G$70*$E$103+G$71)*O112 -> 46.406218 | S112: =N112*R112/1000 -> 2.7530707 | U112: =E$102/S112 -> 163.45385 | V112: =Tcスペック算出!G22 -> 0.16 | W112: =S112*V112 -> 0.4404913 | X112: =IFERROR(E$103+W112,FALSE) -> 75.22009
H113: =K113/G92 -> 37.646464 | J113: =J92 | K113: =HLOOKUP(Selector!$C$6,Calculation!L$78:AF$97,15,FALSE) -> 16940.909 | L113: =E$104/K113 -> 0.029411414 | M113: =D$69*$L113^3+D$70*$L113^2+D$71*$L113+D$72 -> 2.1554359 | N113: =M113*I92 -> 53.885899 | O113: =(E$69*$M113^2+E$70*$M113+E$71)*K92 -> 47.648948 | P113: =O113*$P$99 -> 43.837032 | Q113: =O113*$Q$99 -> 51.460864 | R113: =(G$69*$E$103^2+G$70*$E$103+G$71)*O113 -> 46.316191 | S113: =N113*R113/1000 -> 2.4957896 | U113: =E$102/S113 -> 180.30366 | V113: =Tcスペック算出!G23 -> 0.13 | W113: =S113*V113 -> 0.32445265 | X113: =IFERROR(E$103+W113,FALSE) -> 75.104052
H114: =K114/G93 -> 35.934562 | J114: =J93 | K114: =HLOOKUP(Selector!$C$6,Calculation!L$78:AF$97,16,FALSE) -> 23285.596 | L114: =E$104/K114 -> 0.021397609 | M114: =D$69*$L114^3+D$70*$L114^2+D$71*$L114+D$72 -> 1.4814557 | N114: =M114*I93 -> 26.666203 | O114: =(E$69*$M114^2+E$70*$M114+E$71)*K93 -> 95.199517 | P114: =O114*$P$99 -> 87.583556 | Q114: =O114*$Q$99 -> 102.81548 | R114: =(G$69*$E$103^2+G$70*$E$103+G$71)*O114 -> 92.536756 | S114: =N114*R114/1000 -> 2.4676039 | U114: =E$102/S114 -> 182.36314 | V114: =Tcスペック算出!G24 -> 0.095 | W114: =S114*V114 -> 0.23442237 | X114: =IFERROR(E$103+W114,FALSE) -> 75.014021
H115: =K115/G94 -> #VALUE! | J115: =J94 | K115: =HLOOKUP(Selector!$C$6,Calculation!L$78:AF$97,17,FALSE) | L115: =E$104/K115 -> #VALUE! | M115: =D$69*$L115^3+D$70*$L115^2+D$71*$L115+D$72 -> #VALUE! | N115: =M115*I94 -> #VALUE! | O115: =(E$69*$M115^2+E$70*$M115+E$71)*K94 -> #VALUE! | P115: =O115*$P$99 -> #VALUE! | Q115: =O115*$Q$99 -> #VALUE! | R115: =(G$69*$E$103^2+G$70*$E$103+G$71)*O115 -> #VALUE! | S115: =N115*R115/1000 -> #VALUE! | U115: =E$102/S115 -> #VALUE! | V115: =Tcスペック算出!G25 -> 0 | W115: =S115*V115 -> #VALUE! | X115: =IFERROR(E$103+W115,FALSE) -> FALSE
H116: =K116/G95 -> #VALUE! | J116: =J95 | K116: =HLOOKUP(Selector!$C$6,Calculation!L$78:AF$97,18,FALSE) | L116: =E$104/K116 -> #VALUE! | M116: =D$69*$L116^3+D$70*$L116^2+D$71*$L116+D$72 -> #VALUE! | N116: =M116*I95 -> #VALUE! | O116: =(E$69*$M116^2+E$70*$M116+E$71)*K95 -> #VALUE! | P116: =O116*$P$99 -> #VALUE! | Q116: =O116*$Q$99 -> #VALUE! | R116: =(G$69*$E$103^2+G$70*$E$103+G$71)*O116 -> #VALUE! | S116: =N116*R116/1000 -> #VALUE! | U116: =E$102/S116 -> #VALUE! | V116: =Tcスペック算出!G26 -> 0.26140511 | W116: =S116*V116 -> #VALUE! | X116: =IFERROR(E$103+W116,FALSE) -> FALSE
H117: =K117/G96 -> #VALUE! | J117: =J96 | K117: =HLOOKUP(Selector!$C$6,Calculation!L$78:AF$97,19,FALSE) | L117: =E$104/K117 -> #VALUE! | M117: =D$69*$L117^3+D$70*$L117^2+D$71*$L117+D$72 -> #VALUE! | N117: =M117*I96 -> #VALUE! | O117: =(E$69*$M117^2+E$70*$M117+E$71)*K96 -> #VALUE! | P117: =O117*$P$99 -> #VALUE! | Q117: =O117*$Q$99 -> #VALUE! | R117: =(G$69*$E$103^2+G$70*$E$103+G$71)*O117 -> #VALUE! | S117: =N117*R117/1000 -> #VALUE! | U117: =E$102/S117 -> #VALUE! | V117: =Tcスペック算出!G27 -> 0 | W117: =S117*V117 -> #VALUE! | X117: =IFERROR(E$103+W117,FALSE) -> FALSE
H118: =K118/G97 -> #VALUE! | J118: =J97 | K118: =HLOOKUP(Selector!$C$6,Calculation!L$78:AF$97,20,FALSE) | L118: =E$104/K118 -> #VALUE! | M118: =D$69*$L118^3+D$70*$L118^2+D$71*$L118+D$72 -> #VALUE! | N118: =M118*I97 -> #VALUE! | O118: =(E$69*$M118^2+E$70*$M118+E$71)*K97 -> #VALUE! | P118: =O118*$P$99 -> #VALUE! | Q118: =O118*$Q$99 -> #VALUE! | R118: =(G$69*$E$103^2+G$70*$E$103+G$71)*O118 -> #VALUE! | S118: =N118*R118/1000 -> #VALUE! | U118: =E$102/S118 -> #VALUE! | V118: =Tcスペック算出!G28 -> 0 | W118: =S118*V118 -> #VALUE! | X118: =IFERROR(E$103+W118,FALSE) -> FALSE
...

Sheet 02C
J2: カタログ値 | M2: 比較(実績/カタログ値)
B3: 機種 | C3: IF(mA) | D3: VF(V) | E3: Φv(lm) | F3: Ra | G3: R9 | H3: N(pcs) | I3: 備考 | J3: VF[V] | K3: Φv[lm] | M3: RVF | N3: RΦv | O3: 確定値
B4: CHU02CH1201C4-30AL7M4 | C4: 90 | D4: 33.834 | E4: 502.65813 | F4: 72.323108 | G4: -34.387644 | H4: 679 | J4: 34 | K4: 495 | M4: =D4/J4 -> 0.99511765 | N4: =E4/K4 -> 1.015471 | O4: =K4*P4 -> 499.95 | P4: 1.01 | Q4: =O4/$O$4 -> 1
B5: CHU02CH1201C4-40AL7M4 | C5: 90 | D5: 33.779529 | E5: 509.7433 | F5: 76.158278 | G5: -22.295831 | H5: 663 | J5: 34 | K5: 509 | M5: =D5/J5 -> 0.99351555 | N5: =E5/K5 -> 1.0014603 | O5: =K5 -> 509 | Q5: =O5/$O$4 -> 1.0181018
B6: CHU02CH1201C4-50AL7M4 | C6: 90 | D6: 33.835192 | E6: 514.03394 | F6: 77.69575 | G6: -16.726508 | H6: 673 | J6: 34 | K6: 516 | M6: =D6/J6 -> 0.9951527 | N6: =E6/K6 -> 0.9961898 | O6: =K6 -> 516 | Q6: =O6/$O$4 -> 1.0321032
B7: CHU02CH1201C4-273M2M2 | C7: 90 | D7: 33.383383 | E7: 460.58971 | F7: 83.153474 | G7: 8.2589978 | H7: 326531 | J7: 34 | K7: 449 | M7: =D7/J7 -> 0.98186421 | N7: =E7/K7 -> 1.0258123 | O7: =K7*P7 -> 457.98 | P7: 1.02 | Q7: =O7/$O$8 -> 0.97858974
B8: CHU02CH1201C4-303M2M2 | C8: 90 | D8: 33.442976 | E8: 463.39433 | F8: 84.286687 | G8: 12.195272 | H8: 229653 | J8: 34 | K8: 468 | M8: =D8/J8 -> 0.98361694 | N8: =E8/K8 -> 0.99015882 | O8: =K8 -> 468 | Q8: =O8/$O$8 -> 1
B9: CHU02CH1201C4-353M2M2 | C9: 90 | D9: 33.18352 | E9: 473.92231 | F9: 84.404396 | G9: 13.976421 | H9: 64960 | J9: 34 | K9: 476 | M9: =D9/J9 -> 0.97598587 | N9: =E9/K9 -> 0.99563511 | O9: =K9 -> 476 | Q9: =O9/$O$8 -> 1.017094
B10: CHU02CH1201C4-403M2M2 | C10: 90 | D10: 33.352659 | E10: 475.16008 | F10: 84.96816 | G10: 17.293274 | H10: 31759 | J10: 34 | K10: 480 | M10: =D10/J10 -> 0.98096057 | N10: =E10/K10 -> 0.98991684 | O10: =K10 -> 480 | Q10: =O10/$O$8 -> 1.025641
B11: CHU02CH1201C4-503M2M2 | C11: 90 | D11: 33.397916 | E11: 485.70551 | F11: 83.632152 | G11: 12.297999 | H11: 227009 | J11: 34 | K11: 487 | M11: =D11/J11 -> 0.98229164 | N11: =E11/K11 -> 0.99734191 | O11: =K11 -> 487 | Q11: =O11/$O$8 -> 1.0405983
B12: CHU02CH1201C4-653M2M2 | C12: 90 | D12: 32.812266 | E12: 491.1288 | F12: 82.465683 | G12: 8.0441727 | H12: 586 | J12: 34 | K12: 496 | M12: =D12/J12 -> 0.96506665 | N12: =E12/K12 -> 0.99017904 | O12: =K12 -> 496 | Q12: =O12/$O$8 -> 1.0598291
B13: CHU02CH1201C4-273H5M3 | C13: 90 | D13: 33.449236 | E13: 384.23651 | F13: 92.520271 | G13: 57.50415 | H13: 126691 | J13: 34 | K13: 385 | M13: =D13/J13 -> 0.98380105 | N13: =E13/K13 -> 0.9980169 | O13: =K13 -> 385 | Q13: =O13/$O$14 -> 0.95059381
B14: CHU02CH1201C4-303H5M3 | C14: 90 | D14: 33.615488 | E14: 406.79854 | F14: 92.693149 | G14: 58.761166 | H14: 50258 | J14: 34 | K14: 401 | M14: =D14/J14 -> 0.98869082 | N14: =E14/K14 -> 1.0144602 | O14: =K14*P14 -> 405.01 | P14: 1.01 | Q14: =O14/$O$14 -> 1
B15: CHU02CH1201C4-353H5M3 | C15: 90 | D15: 33.263665 | E15: 411.37866 | F15: 92.96477 | G15: 64.418042 | H15: 535 | J15: 34 | K15: 407 | M15: =D15/J15 -> 0.9783431 | N15: =E15/K15 -> 1.0107584 | O15: =K15 -> 407 | Q15: =O15/$O$14 -> 1.0049135
B16: CHU02CH1201C4-403H5M3 | C16: 90 | D16: 33.205881 | E16: 424.4389 | F16: 92.778575 | G16: 63.742153 | H16: 10187 | J16: 34 | K16: 407 | M16: =D16/J16 -> 0.97664356 | N16: =E16/K16 -> 1.0428474 | O16: =K16*P16 -> 419.21 | P16: 1.03 | Q16: =O16/$O$14 -> 1.0350609
B17: CHU02CH1201C4-273H7M5 | C17: 90 | D17: 33.343404 | E17: 334.75265 | F17: 96.813101 | G17: 89.668766 | H17: 701 | J17: 34 | K17: 345 | M17: =D17/J17 -> 0.98068836 | N17: =E17/K17 -> 0.97029753 | O17: =K17*P17 -> 338.1 | P17: 0.98 | Q17: =O17/$O$18 -> 0.94441341
B18: CHU02CH1201C4-303H7M5 | C18: 90 | D18: 33.625425 | E18: 355.33096 | F18: 98.410303 | G18: 96.74171 | H18: 35903 | J18: 34 | K18: 358 | M18: =D18/J18 -> 0.98898308 | N18: =E18/K18 -> 0.99254458 | O18: =K18 -> 358 | Q18: =O18/$O$18 -> 1
B19: CHU02CH1201C4-403H7M5 | C19: 90 | D19: 33.266463 | E19: 383.11704 | F19: 97.27989 | G19: 99.463181 | H19: 1606 | J19: 34 | K19: 367 | M19: =D19/J19 -> 0.97842539 | N19: =E19/K19 -> 1.0439156 | O19: =K19*P19 -> 378.01 | P19: 1.03 | Q19: =O19/$O$18 -> 1.0558939
J21: カタログ値 | M21: 比較(実績/カタログ値)
B22: 機種 | C22: IF(mA) | D22: VF(V) | E22: Φv(lm) | F22: Ra | G22: R9 | H22: N(pcs) | I22: 備考 | J22: VF[V] | K22: Φv[lm] | M22: RVF | N22: RΦv
B23: CHU02CH1202C4-30AL7M4 | C23: 180 | D23: 34.091625 | E23: 1009.2374 | F23: 72.567214 | G23: -33.504518 | H23: 665 | J23: 34 | K23: 979 | M23: =D23/J23 -> 1.0026949 | N23: =E23/K23 -> 1.030886 | O23: =K23*P23 -> 998.58 | P23: 1.02
B24: CHU02CH1202C4-40AL7M4 | C24: 180 | D24: 33.340819 | E24: 1022.7766 | F24: 76.333627 | G24: -22.048127 | H24: 1196 | J24: 34 | K24: 1007 | M24: =D24/J24 -> 0.98061233 | N24: =E24/K24 -> 1.0156669 | O24: =K24 -> 1007
B25: CHU02CH1202C4-50AL7M4 | C25: 180 | D25: 33.555119 | E25: 1018.5304 | F25: 77.584731 | G25: -17.853776 | H25: 2760 | J25: 34 | K25: 1017 | M25: =D25/J25 -> 0.98691527 | N25: =E25/K25 -> 1.0015048 | O25: =K25 -> 1017
B26: CHU02CH1202C4-273M2M2 | C26: 180 | D26: 33.527002 | E26: 904.8043 | F26: 83.040353 | G26: 8.3277282 | H26: 86258 | J26: 34 | K26: 886 | M26: =D26/J26 -> 0.98608829 | N26: =E26/K26 -> 1.0212238 | O26: =K26*P26 -> 894.86 | P26: 1.01
B27: CHU02CH1202C4-303M2M2 | C27: 180 | D27: 33.75156 | E27: 909.81169 | F27: 84.369362 | G27: 12.657635 | H27: 78008 | J27: 34 | K27: 924 | M27: =D27/J27 -> 0.99269296 | N27: =E27/K27 -> 0.98464469 | O27: =K27*P27 -> 914.76 | P27: 0.99
B28: CHU02CH1202C4-353M2M2 | C28: 180 | D28: 33.412547 | E28: 932.80647 | F28: 83.882613 | G28: 11.843695 | H28: 9279 | J28: 34 | K28: 941 | M28: =D28/J28 -> 0.98272197 | N28: =E28/K28 -> 0.99129274 | O28: =K28 -> 941
B29: CHU02CH1202C4-403M2M2 | C29: 180 | D29: 33.63926 | E29: 948.28119 | F29: 84.217268 | G29: 13.430981 | H29: 120978 | J29: 34 | K29: 948 | M29: =D29/J29 -> 0.98939001 | N29: =E29/K29 -> 1.0002966 | O29: =K29 -> 948
B30: CHU02CH1202C4-503M2M2 | C30: 180 | D30: 33.357993 | E30: 950.60498 | F30: 84.41667 | G30: 13.686257 | H30: 17209 | J30: 34 | K30: 960 | M30: =D30/J30 -> 0.98111746 | N30: =E30/K30 -> 0.99021353 | O30: =K30 -> 960
B31: CHU02CH1202C4-653M2M2 | C31: 180 | D31: 33.534436 | E31: 944.80314 | F31: 84.113941 | G31: 12.259591 | H31: 10495 | J31: 34 | K31: 978 | M31: =D31/J31 -> 0.98630695 | N31: =E31/K31 -> 0.96605638 | O31: =K31*P31 -> 948.66 | P31: 0.97
B32: CHU02CH1202C4-273H5M3 | C32: 180 | D32: 33.68069 | E32: 755.69468 | F32: 92.881686 | G32: 58.119404 | H32: 183966 | J32: 34 | K32: 762 | M32: =D32/J32 -> 0.99060854 | N32: =E32/K32 -> 0.9917253 | O32: =K32 -> 762
B33: CHU02CH1202C4-303H5M3 | C33: 180 | D33: 33.626294 | E33: 804.66125 | F33: 92.861168 | G33: 58.624228 | H33: 160532 | J33: 34 | K33: 791 | M33: =D33/J33 -> 0.98900865 | N33: =E33/K33 -> 1.0172709 | O33: =K33*P33 -> 798.91 | P33: 1.01
B34: CHU02CH1202C4-353H5M3 | C34: 180 | D34: 33.657535 | E34: 818.93558 | F34: 92.361794 | G34: 60.033479 | H34: 30180 | J34: 34 | K34: 803 | M34: =D34/J34 -> 0.98992751 | N34: =E34/K34 -> 1.0198451 | O34: =K34*P34 -> 811.03 | P34: 1.01
B35: CHU02CH1202C4-403H5M3 | C35: 180 | D35: 33.647197 | E35: 836.97081 | F35: 92.82766 | G35: 63.875073 | H35: 69655 | J35: 34 | K35: 805 | M35: =D35/J35 -> 0.98962345 | N35: =E35/K35 -> 1.0397153 | O35: =K35*P35 -> 829.15 | P35: 1.03
B36: CHU02CH1202C4-273H7M5 | C36: 180 | D36: 33.708782 | E36: 655.2073 | F36: 97.053515 | G36: 91.032334 | H36: 63300 | J36: 34 | K36: 681 | M36: =D36/J36 -> 0.99143476 | N36: =E36/K36 -> 0.96212526 | O36: =K36*P36 -> 660.57 | P36: 0.97
B37: CHU02CH1202C4-303H7M5 | C37: 180 | D37: 33.478951 | E37: 693.64409 | F37: 97.544315 | G37: 94.87598 | H37: 183970 | J37: 34 | K37: 708 | M37: =D37/J37 -> 0.98467502 | N37: =E37/K37 -> 0.97972329 | O37: =K37*P37 -> 700.92 | P37: 0.99
B38: CHU02CH1202C4-403H7M5 | C38: 180 | D38: 33.439152 | E38: 758.44937 | F38: 97.212368 | G38: 100.41869 | H38: 57833 | J38: 34 | K38: 726 | M38: =D38/J38 -> 0.98350448 | N38: =E38/K38 -> 1.0446961 | O38: =K38*P38 -> 747.78 | P38: 1.03
J40: カタログ値 | M40: 比較(実績/カタログ値)
B41: 機種 | C41: IF(mA) | D41: VF(V) | E41: Φv(lm) | F41: Ra | G41: R9 | H41: N(pcs) | I41: 備考 | J41: VF[V] | K41: Φv[lm] | M41: RVF | N41: RΦv
B42: CHU02CH1203C4-30AL7M4 | C42: 270 | D42: 33.632401 | E42: 1509.8321 | F42: 72.257784 | G42: -33.25859 | H42: 696 | J42: 34 | K42: 1442 | M42: =D42/J42 -> 0.98918828 | N42: =E42/K42 -> 1.0470403 | O42: =K42*P42 -> 1485.26 | P42: 1.03
B43: CHU02CH1203C4-40AL7M4 | C43: 270 | D43: 33.668706 | E43: 1517.6852 | F43: 76.309985 | G43: -20.977809 | H43: 6487 | I43: 2017年実績多 | J43: 34 | K43: 1483 | M43: =D43/J43 -> 0.99025607 | N43: =E43/K43 -> 1.0233886 | O43: =K43*P43 -> 1497.83 | P43: 1.01
B44: CHU02CH1203C4-50AL7M4 | C44: 270 | D44: 33.835772 | E44: 1526.5506 | F44: 77.156735 | G44: -20.634199 | H44: 5353 | J44: 34 | K44: 1498 | M44: =D44/J44 -> 0.99516978 | N44: =E44/K44 -> 1.0190592 | O44: =K44*P44 -> 1512.98 | P44: 1.01
B45: CHU02CH1203C4-273M2M2 | C45: 270 | D45: 33.462085 | E45: 1347.3478 | F45: 82.98151 | G45: 7.9873266 | H45: 5470 | J45: 34 | K45: 1306 | M45: =D45/J45 -> 0.98417898 | N45: =E45/K45 -> 1.0316599 | O45: =K45*P45 -> 1332.12 | P45: 1.02
B46: CHU02CH1203C4-303M2M2 | C46: 270 | D46: 33.779186 | E46: 1353.5143 | F46: 84.245839 | G46: 12.094767 | H46: 75252 | J46: 34 | K46: 1362 | M46: =D46/J46 -> 0.99350548 | N46: =E46/K46 -> 0.9937697 | O46: =K46 -> 1362
B47: CHU02CH1203C4-353M2M2 | C47: 270 | D47: 33.720861 | E47: 1374.393 | F47: 84.49354 | G47: 14.129291 | H47: 2295 | J47: 34 | K47: 1384 | M47: =D47/J47 -> 0.99179003 | N47: =E47/K47 -> 0.99305852 | O47: =K47 -> 1384
B48: CHU02CH1203C4-403M2M2 | C48: 270 | D48: 33.624985 | E48: 1402.6598 | F48: 84.465356 | G48: 14.886116 | H48: 62792 | J48: 34 | K48: 1397 | M48: =D48/J48 -> 0.98897014 | N48: =E48/K48 -> 1.0040514 | O48: =K48 -> 1397
B49: CHU02CH1203C4-503M2M2 | C49: 270 | D49: 33.708757 | E49: 1408.9992 | F49: 84.21321 | G49: 12.911389 | H49: 7711 | J49: 34 | K49: 1414 | M49: =D49/J49 -> 0.99143402 | N49: =E49/K49 -> 0.99646336 | O49: =K49 -> 1414
B50: CHU02CH1203C4-653M2M2 | C50: 270 | D50: 33.622305 | E50: 1426.4251 | F50: 82.811683 | G50: 8.3793658 | H50: 7587 | J50: 34 | K50: 1439 | M50: =D50/J50 -> 0.98889131 | N50: =E50/K50 -> 0.99126133 | O50: =K50 -> 1439
B51: CHU02CH1203C4-273H5M3 | C51: 270 | D51: 33.70044 | E51: 1121.0706 | F51: 92.506111 | G51: 57.417651 | H51: 32594 | J51: 34 | K51: 1122 | M51: =D51/J51 -> 0.9911894 | N51: =E51/K51 -> 0.9991717 | O51: =K51 -> 1122
B52: CHU02CH1203C4-303H5M3 | C52: 270 | D52: 33.697748 | E52: 1182.8668 | F52: 92.587837 | G52: 58.815346 | H52: 77486 | J52: 34 | K52: 1167 | M52: =D52/J52 -> 0.99111022 | N52: =E52/K52 -> 1.0135962 | O52: =K52 -> 1167
B53: CHU02CH1203C4-353H5M3 | C53: 270 | D53: 33.455573 | E53: 1196.1647 | F53: 92.950294 | G53: 64.398291 | H53: 9865 | J53: 34 | K53: 1182 | M53: =D53/J53 -> 0.98398744 | N53: =E53/K53 -> 1.0119836 | O53: =K53 -> 1182
B54: CHU02CH1203C4-403H5M3 | C54: 270 | D54: 33.718086 | E54: 1242.189 | F54: 92.576142 | G54: 62.957752 | H54: 35642 | J54: 34 | K54: 1185 | M54: =D54/J54 -> 0.99170841 | N54: =E54/K54 -> 1.0482608 | O54: =K54*P54 -> 1220.55 | P54: 1.03
B55: CHU02CH1203C4-273H7M5 | C55: 270 | D55: 33.709684 | E55: 966.50369 | F55: 97.802503 | G55: 94.896897 | H55: 980 | J55: 34 | K55: 1005 | M55: =D55/J55 -> 0.99146129 | N55: =E55/K55 -> 0.96169522 | O55: =K55*P55 -> 974.85 | P55: 0.97
B56: CHU02CH1203C4-303H7M5 | C56: 270 | D56: 33.596553 | E56: 1033.0532 | F56: 97.473631 | G56: 95.010681 | H56: 30180 | J56: 34 | K56: 1044 | M56: =D56/J56 -> 0.98813391 | N56: =E56/K56 -> 0.98951454 | O56: =K56 -> 1044
B57: CHU02CH1203C4-403H7M5 | C57: 270 | D57: 33.536582 | E57: 1125.9751 | F57: 97.515203 | G57: 101.05608 | H57: 5411 | J57: 34 | K57: 1069 | M57: =D57/J57 -> 0.98637005 | N57: =E57/K57 -> 1.0532976 | O57: =K57*P57 -> 1111.76 | P57: 1.04
J59: カタログ値 | M59: 比較(実績/カタログ値)
B60: 機種 | C60: IF(mA) | D60: VF(V) | E60: Φv(lm) | F60: Ra | G60: R9 | H60: N(pcs) | I60: 備考 | J60: VF[V] | K60: Φv[lm] | M60: RVF | N60: RΦv
B61: CHU02CH1204C4-30AL7M4 | C61: 360 | D61: 33.820086 | E61: 1964.1099 | F61: 72.479598 | G61: -35.309141 | H61: 1668 | J61: 34 | K61: 1888 | M61: =D61/J61 -> 0.99470841 | N61: =E61/K61 -> 1.0403124 | O61: =K61*P61 -> 1944.64 | P61: 1.03
B62: CHU02CH1204C4-40AL7M4 | C62: 360 | D62: 33.962099 | E62: 2012.3374 | F62: 75.736231 | G62: -24.971458 | H62: 2451 | J62: 34 | K62: 1941 | M62: =D62/J62 -> 0.99888527 | N62: =E62/K62 -> 1.0367529 | O62: =K62*P62 -> 1979.82 | P62: 1.02
B63: CHU02CH1204C4-50AL7M4 | C63: 360 | D63: 34.165578 | E63: 2021.3888 | F63: 77.054322 | G63: -21.525402 | H63: 973 | J63: 34 | K63: 1960 | M63: =D63/J63 -> 1.00487 | N63: =E63/K63 -> 1.0313208 | O63: =K63*P63 -> 1999.2 | P63: 1.02
B64: CHU02CH1204C4-273M2M2 | C64: 360 | D64: 33.800744 | E64: 1768.152 | F64: 82.451432 | G64: 6.1055356 | H64: 39982 | J64: 34 | K64: 1709 | M64: =D64/J64 -> 0.99413952 | N64: =E64/K64 -> 1.0346121 | O64: =K64*P64 -> 1760.27 | P64: 1.03
B65: CHU02CH1204C4-303M2M2 | C65: 360 | D65: 33.894485 | E65: 1775.6422 | F65: 84.397161 | G65: 12.952751 | H65: 37260 | J65: 34 | K65: 1783 | M65: =D65/J65 -> 0.99689662 | N65: =E65/K65 -> 0.99587339 | O65: =K65 -> 1783
B66: CHU02CH1204C4-353M2M2 | C66: 360 | D66: 33.871518 | E66: 1817.8802 | F66: 84.192551 | G66: 12.665536 | H66: 42576 | J66: 34 | K66: 1814 | M66: =D66/J66 -> 0.99622113 | N66: =E66/K66 -> 1.002139 | O66: =K66 -> 1814
B67: CHU02CH1204C4-403M2M2 | C67: 360 | D67: 33.991203 | E67: 1833.4315 | F67: 84.710853 | G67: 15.944807 | H67: 37787 | J67: 34 | K67: 1830 | M67: =D67/J67 -> 0.99974126 | N67: =E67/K67 -> 1.0018751 | O67: =K67 -> 1830
B68: CHU02CH1204C4-503M2M2 | C68: 360 | D68: 33.866919 | E68: 1854.2631 | F68: 83.900547 | G68: 11.202088 | H68: 73830 | J68: 34 | K68: 1850 | M68: =D68/J68 -> 0.99608584 | N68: =E68/K68 -> 1.0023044 | O68: =K68 -> 1850
B69: CHU02CH1204C4-653M2M2 | C69: 360 | D69: 33.759158 | E69: 1863.8414 | F69: 83.395732 | G69: 11.506792 | H69: 22476 | J69: 34 | K69: 1884 | M69: =D69/J69 -> 0.99291643 | N69: =E69/K69 -> 0.9893001 | O69: =K69 -> 1884
B70: CHU02CH1204C4-273H5M3 | C70: 360 | D70: 33.876667 | E70: 1468.5567 | F70: 92.606516 | G70: 57.329189 | H70: 87580 | J70: 34 | K70: 1468 | M70: =D70/J70 -> 0.99637256 | N70: =E70/K70 -> 1.0003792 | O70: =K70 -> 1468
B71: CHU02CH1204C4-303H5M3 | C71: 360 | D71: 33.821063 | E71: 1558.6002 | F71: 92.7735 | G71: 59.051964 | H71: 148297 | J71: 34 | K71: 1528 | M71: =D71/J71 -> 0.99473715 | N71: =E71/K71 -> 1.0200263 | O71: =K71*P71 -> 1543.28 | P71: 1.01
B72: CHU02CH1204C4-353H5M3 | C72: 360 | D72: 33.951785 | E72: 1576.6872 | F72: 92.941142 | G72: 62.195109 | H72: 221901 | J72: 34 | K72: 1549 | M72: =D72/J72 -> 0.9985819 | N72: =E72/K72 -> 1.0178743 | O72: =K72*P72 -> 1564.49 | P72: 1.01
B73: CHU02CH1204C4-403H5M3 | C73: 360 | D73: 33.904743 | E73: 1629.0297 | F73: 92.330618 | G73: 62.961758 | H73: 197763 | J73: 34 | K73: 1552 | M73: =D73/J73 -> 0.99719832 | N73: =E73/K73 -> 1.0496326 | O73: =K73*P73 -> 1614.08 | P73: 1.04
B74: CHU02CH1204C4-273H7M5 | C74: 360 | D74: 33.90053 | E74: 1274.4058 | F74: 97.262157 | G74: 91.499853 | H74: 16812 | J74: 34 | K74: 1314 | M74: =D74/J74 -> 0.99707441 | N74: =E74/K74 -> 0.96986746 | O74: =K74*P74 -> 1287.72 | P74: 0.98
B75: CHU02CH1204C4-303H7M5 | C75: 360 | D75: 33.826785 | E75: 1357.8487 | F75: 97.375804 | G75: 94.810471 | H75: 51722 | J75: 34 | K75: 1367 | M75: =D75/J75 -> 0.99490543 | N75: =E75/K75 -> 0.99330555 | O75: =K75 -> 1367
B76: CHU02CH1204C4-403H7M5 | C76: 360 | D76: 34.033225 | E76: 1475.4913 | F76: 97.107413 | G76: 99.796461 | H76: 41254 | J76: 34 | K76: 1402 | M76: =D76/J76 -> 1.0009772 | N76: =E76/K76 -> 1.0524189 | O76: =K76*P76 -> 1458.08 | P76: 1.04
B78: B-BBL | J78: カタログ値 | M78: 比較(実績/カタログ値)
B79: 機種 | C79: IF(mA) | D79: VF(V) | E79: Φv(lm) | F79: Ra | G79: R9 | H79: N(pcs) | I79: 備考 | J79: VF[V] | K79: Φv[lm] | M79: RVF | N79: RΦv
B80: CHU02CH1203C4-273H6M3 | C80: 270 | D80: 33.14756 | E80: 1072.6653 | F80: 94.632489 | G80: 69.948331 | H80: 698 | J80: 34 | K80: 1065 | M80: =D80/J80 -> 0.97492823 | N80: =E80/K80 -> 1.0071975 | O80: =K80 -> 1065
B81: CHU02CH1203C4-303H6M3 | C81: 270 | D81: 33.562617 | E81: 1139.8178 | F81: 93.743023 | G81: 65.507816 | H81: 6858 | J81: 34 | K81: 1108 | M81: =D81/J81 -> 0.9871358 | N81: =E81/K81 -> 1.0287165 | O81: =K81*P81 -> 1130.16 | P81: 1.02
B82: CHU02CH1203C4-353H6M3 | C82: 270 | D82: 33.412161 | E82: 1177.4738 | F82: 94.260058 | G82: 68.604891 | H82: 689 | J82: 34 | K82: 1123 | M82: =D82/J82 -> 0.98271062 | N82: =E82/K82 -> 1.0485074 | O82: =K82*P82 -> 1167.92 | P82: 1.04
B83: CHU02CH1204C4-273H6M3 | C83: 360 | D83: 34.259493 | E83: 1413.9046 | F83: 95.060586 | G83: 69.631098 | H83: 690 | J83: 34 | M83: =D83/J83 -> 1.0076322 | N83: =E83/K83 -> #DIV/0!
B84: CHU02CH1204C4-303H6M3 | C84: 360 | D84: 33.826355 | E84: 1491.6156 | F84: 94.113059 | G84: 65.281766 | H84: 224523 | J84: 34 | M84: =D84/J84 -> 0.99489279 | N84: =E84/K84 -> #DIV/0!
B85: CHU02CH1204C4-353H6M3 | C85: 360 | D85: 33.907205 | E85: 1546.2552 | F85: 94.308944 | G85: 67.468582 | H85: 14123 | J85: 34 | M85: =D85/J85 -> 0.99727073 | N85: =E85/K85 -> #DIV/0!

Sheet 03C
J2: カタログ値 | M2: 比較(実績/カタログ値)
B3: 機種 | C3: IF(mA) | D3: VF(V) | E3: Φv(lm) | F3: Ra | G3: R9 | H3: N(pcs) | J3: VF[V] | K3: Φv[lm] | M3: RVF | N3: RΦv
B4: CHU03CH1205C4-30AL7M4 | C4: 450 | D4: 33.601816 | E4: 2582.1041 | F4: 72.063416 | G4: -35.532073 | H4: 186 | J4: 34 | K4: 2463 | M4: =D4/J4 -> 0.98828871 | N4: =E4/K4 -> 1.0483573 | O4: =K4*P4 -> 2561.52 | P4: 1.04
B5: CHU03CH1205C4-40AL7M4 | C5: 450 | D5: 33.300064 | E5: 2631.8311 | F5: 75.577533 | G5: -24.673943 | H5: 1096 | J5: 34 | K5: 2531 | M5: =D5/J5 -> 0.97941364 | N5: =E5/K5 -> 1.0398385 | O5: =K5*P5 -> 2606.93 | P5: 1.03
B6: CHU03CH1205C4-50AL7M4 | C6: 450 | D6: 34.216204 | E6: 2578.771 | F6: 77.660056 | G6: -18.853656 | H6: 10472 | J6: 34 | K6: 2557 | M6: =D6/J6 -> 1.0063589 | N6: =E6/K6 -> 1.0085143 | O6: =K6 -> 2557
B7: CHU03CH1205C4-273M2M2 | C7: 450 | D7: 33.48795 | E7: 2209.8398 | F7: 82.938299 | G7: 6.9887267 | H7: 9573 | J7: 34 | K7: 2231 | M7: =D7/J7 -> 0.98493971 | N7: =E7/K7 -> 0.99051538 | O7: =K7 -> 2231
B8: CHU03CH1205C4-303M2M2 | C8: 450 | D8: 33.444296 | E8: 2268.269 | F8: 84.237824 | G8: 11.86263 | H8: 192880 | J8: 34 | K8: 2326 | M8: =D8/J8 -> 0.98365577 | N8: =E8/K8 -> 0.97518013 | O8: =K8*P8 -> 2279.48 | P8: 0.98
B9: CHU03CH1205C4-353M2M2 | C9: 450 | D9: 33.774416 | E9: 2348.2419 | F9: 84.078161 | G9: 12.533121 | H9: 35763 | J9: 34 | K9: 2366 | M9: =D9/J9 -> 0.99336518 | N9: =E9/K9 -> 0.99249447 | O9: =K9 -> 2366
B10: CHU03CH1205C4-403M2M2 | C10: 450 | D10: 33.531267 | E10: 2379.1529 | F10: 83.918782 | G10: 11.980602 | H10: 185915 | J10: 34 | K10: 2385 | M10: =D10/J10 -> 0.98621374 | N10: =E10/K10 -> 0.99754838 | O10: =K10 -> 2385
B11: CHU03CH1205C4-503M2M2 | C11: 450 | D11: 33.880015 | E11: 2420.4001 | F11: 84.306213 | G11: 13.115749 | H11: 11299 | J11: 34 | K11: 2414 | M11: =D11/J11 -> 0.99647104 | N11: =E11/K11 -> 1.0026512 | O11: =K11 -> 2414
B12: CHU03CH1205C4-653M2M2 | C12: 450 | D12: 33.653636 | E12: 2364.8628 | F12: 83.429866 | G12: 11.011992 | H12: 30268 | J12: 34 | K12: 2458 | M12: =D12/J12 -> 0.98981282 | N12: =E12/K12 -> 0.96210854 | O12: =K12*P12 -> 2384.26 | P12: 0.97
B13: CHU03CH1205C4-273H5M3 | C13: 450 | D13: 33.329852 | E13: 1875.7339 | F13: 92.665514 | G13: 58.118561 | H13: 28240 | J13: 34 | K13: 1916 | M13: =D13/J13 -> 0.98028977 | N13: =E13/K13 -> 0.97898427 | O13: =K13*P13 -> 1896.84 | P13: 0.99
B14: CHU03CH1205C4-303H5M3 | C14: 450 | D14: 33.481189 | E14: 1978.945 | F14: 92.922834 | G14: 59.36481 | H14: 240894 | J14: 34 | K14: 1992 | M14: =D14/J14 -> 0.98474084 | N14: =E14/K14 -> 0.99344628 | O14: =K14 -> 1992
B15: CHU03CH1205C4-353H5M3 | C15: 450 | D15: 33.357545 | E15: 2049.7019 | F15: 92.854776 | G15: 61.900023 | H15: 50628 | J15: 34 | K15: 2020 | M15: =D15/J15 -> 0.98110427 | N15: =E15/K15 -> 1.0147039 | O15: =K15 -> 2020
B16: CHU03CH1205C4-403H5M3 | C16: 450 | D16: 33.769672 | E16: 2105.0893 | F16: 92.821562 | G16: 63.360387 | H16: 20191 | J16: 34 | K16: 2023 | M16: =D16/J16 -> 0.99322563 | N16: =E16/K16 -> 1.040578 | O16: =K16*P16 -> 2083.69 | P16: 1.03
B17: CHU03CH1205C4-273H7M5 | C17: 450 | D17: 33.326094 | E17: 1633.2992 | F17: 97.019578 | G17: 89.248398 | H17: 1430 | J17: 34 | K17: 1714 | M17: =D17/J17 -> 0.98017924 | N17: =E17/K17 -> 0.95291666 | O17: =K17*P17 -> 1645.44 | P17: 0.96
B18: CHU03CH1205C4-303H7M5 | C18: 450 | D18: 33.67867 | E18: 1732.2629 | F18: 97.617743 | G18: 94.674145 | H18: 24414 | J18: 34 | K18: 1783 | M18: =D18/J18 -> 0.99054912 | N18: =E18/K18 -> 0.97154396 | O18: =K18*P18 -> 1747.34 | P18: 0.98
B19: CHU03CH1205C4-403H7M5 | C19: 450 | D19: 33.705729 | E19: 1923.2257 | F19: 97.044323 | G19: 96.237996 | H19: 25228 | J19: 34 | K19: 1827 | M19: =D19/J19 -> 0.99134498 | N19: =E19/K19 -> 1.0526687 | O19: =K19*P19 -> 1900.08 | P19: 1.04
J21: カタログ値 | M21: 比較(実績/カタログ値)
B22: 機種 | C22: IF(mA) | D22: VF(V) | E22: Φv(lm) | F22: Ra | G22: R9 | H22: N(pcs) | J22: VF[V] | K22: Φv[lm] | M22: RVF | N22: RΦv
B23: CHU03CH1206C4-30AL7M4 | C23: 540 | D23: 33.354653 | E23: 3047.6981 | F23: 72.619872 | G23: -34.610946 | H23: 709 | J23: 34 | K23: 2925 | M23: =D23/J23 -> 0.98101921 | N23: =E23/K23 -> 1.0419481 | O23: =K23*P23 -> 3012.75 | P23: 1.03
B24: CHU03CH1206C4-40AL7M4 | C24: 540 | D24: 33.66495 | E24: 3108.1239 | F24: 75.908719 | G24: -24.656373 | H24: 42794 | J24: 34 | K24: 3006 | M24: =D24/J24 -> 0.99014559 | N24: =E24/K24 -> 1.0339734 | O24: =K24*P24 -> 3066.12 | P24: 1.02
B25: CHU03CH1206C4-50AL7M4 | C25: 540 | D25: 33.664634 | E25: 3069.9833 | F25: 76.383397 | G25: -23.86981 | H25: 9611 | J25: 34 | K25: 3038 | M25: =D25/J25 -> 0.9901363 | N25: =E25/K25 -> 1.0105277 | O25: =K25 -> 3038
B26: CHU03CH1206C4-273M2M2 | C26: 540 | D26: 33.526051 | E26: 2620.8334 | F26: 82.411689 | G26: 5.5432172 | H26: 373 | J26: 34 | K26: 2651 | M26: =D26/J26 -> 0.98606032 | N26: =E26/K26 -> 0.98862068 | O26: =K26 -> 2651
B27: CHU03CH1206C4-303M2M2 | C27: 540 | D27: 33.714498 | E27: 2703.4942 | F27: 84.065792 | G27: 11.109879 | H27: 430586 | J27: 34 | K27: 2762 | M27: =D27/J27 -> 0.99160289 | N27: =E27/K27 -> 0.97881761 | O27: =K27*P27 -> 2734.38 | P27: 0.99
B28: CHU03CH1206C4-353M2M2 | C28: 540 | D28: 33.561809 | E28: 2779.9587 | F28: 84.311577 | G28: 13.673284 | H28: 20549 | J28: 34 | K28: 2811 | M28: =D28/J28 -> 0.98711202 | N28: =E28/K28 -> 0.98895719 | O28: =K28 -> 2811
B29: CHU03CH1206C4-403M2M2 | C29: 540 | D29: 33.56687 | E29: 2824.9602 | F29: 84.516978 | G29: 14.430567 | H29: 68900 | J29: 34 | K29: 2834 | M29: =D29/J29 -> 0.98726089 | N29: =E29/K29 -> 0.99681024 | O29: =K29 -> 2834
B30: CHU03CH1206C4-503M2M2 | C30: 540 | D30: 33.438394 | E30: 2905.5619 | F30: 84.466593 | G30: 13.166746 | H30: 1107 | J30: 34 | K30: 2867 | M30: =D30/J30 -> 0.98348219 | N30: =E30/K30 -> 1.0134503 | O30: =K30 -> 2867
B31: CHU03CH1206C4-653M2M2 | C31: 540 | D31: 33.620704 | E31: 2823.2835 | F31: 82.726763 | G31: 8.730772 | H31: 56305 | J31: 34 | K31: 2919 | M31: =D31/J31 -> 0.98884423 | N31: =E31/K31 -> 0.96720915 | O31: =K31*P31 -> 2860.62 | P31: 0.98
B32: CHU03CH1206C4-273H5M3 | C32: 540 | D32: 33.528662 | E32: 2242.2617 | F32: 92.49886 | G32: 57.484065 | H32: 20214 | J32: 34 | K32: 2276 | M32: =D32/J32 -> 0.98613711 | N32: =E32/K32 -> 0.98517648 | O32: =K32*P32 -> 2253.24 | P32: 0.99
B33: CHU03CH1206C4-303H5M3 | C33: 540 | D33: 33.719817 | E33: 2346.7425 | F33: 92.615607 | G33: 59.124732 | H33: 147314 | J33: 34 | K33: 2366 | M33: =D33/J33 -> 0.99175933 | N33: =E33/K33 -> 0.99186075 | O33: =K33 -> 2366
B34: CHU03CH1206C4-353H5M3 | C34: 540 | D34: 33.293304 | E34: 2423.3355 | F34: 93.099632 | G34: 64.451261 | H34: 6562 | J34: 34 | K34: 2401 | M34: =D34/J34 -> 0.97921483 | N34: =E34/K34 -> 1.0093026 | O34: =K34 -> 2401
B35: CHU03CH1206C4-403H5M3 | C35: 540 | D35: 33.6773 | E35: 2522.5944 | F35: 92.421797 | G35: 62.046971 | H35: 110222 | J35: 34 | K35: 2402 | M35: =D35/J35 -> 0.99050883 | N35: =E35/K35 -> 1.0502058 | O35: =K35*P35 -> 2498.08 | P35: 1.04
B36: CHU03CH1206C4-273H7M5 | C36: 540 | D36: 33.191848 | E36: 1955.8184 | F36: 97.114739 | G36: 91.19631 | H36: 1047 | J36: 34 | K36: 2037 | M36: =D36/J36 -> 0.97623081 | N36: =E36/K36 -> 0.96014649 | O36: =K36*P36 -> 1975.89 | P36: 0.97
B37: CHU03CH1206C4-303H7M5 | C37: 540 | D37: 33.45452 | E37: 2072.1736 | F37: 97.528935 | G37: 93.743576 | H37: 10582 | J37: 34 | K37: 2117 | M37: =D37/J37 -> 0.98395648 | N37: =E37/K37 -> 0.97882551 | O37: =K37*P37 -> 2095.83 | P37: 0.99
B38: CHU03CH1206C4-403H7M5 | C38: 540 | D38: 33.71519 | E38: 2286.8956 | F38: 97.251617 | G38: 96.16246 | H38: 9428 | J38: 34 | K38: 2170 | M38: =D38/J38 -> 0.99162323 | N38: =E38/K38 -> 1.0538689 | O38: =K38*P38 -> 2256.8 | P38: 1.04
J40: カタログ値 | M40: 比較(実績/カタログ値)
B41: 機種 | C41: IF(mA) | D41: VF(V) | E41: Φv(lm) | F41: Ra | G41: R9 | H41: N(pcs) | J41: VF[V] | K41: Φv[lm] | M41: RVF | N41: RΦv
B42: CHU03CH1208C4-30AL7M4 | C42: 720 | D42: 33.811392 | E42: 4003.5777 | F42: 72.711113 | G42: -33.084156 | H42: 579 | J42: 34 | K42: 3825 | M42: =D42/J42 -> 0.99445272 | N42: =E42/K42 -> 1.046687 | O42: =K42*P42 -> 3939.75 | P42: 1.03
B43: CHU03CH1208C4-40AL7M4 | C43: 720 | D43: 33.844469 | E43: 4109.1428 | F43: 75.848965 | G43: -23.294126 | H43: 11353 | J43: 34 | K43: 3932 | M43: =D43/J43 -> 0.99542557 | N43: =E43/K43 -> 1.0450516 | O43: =K43*P43 -> 4049.96 | P43: 1.03
B44: CHU03CH1208C4-50AL7M4 | C44: 720 | D44: 33.662883 | E44: 4067.7443 | F44: 77.133174 | G44: -21.319494 | H44: 45620 | J44: 34 | K44: 3972 | M44: =D44/J44 -> 0.9900848 | N44: =E44/K44 -> 1.0241048 | O44: =K44*P44 -> 4051.44 | P44: 1.02
B45: CHU03CH1208C4-273M2M2 | C45: 720 | D45: 33.671297 | E45: 3461.153 | F45: 83.204538 | G45: 7.8009815 | H45: 3374 | J45: 34 | K45: 3465 | M45: =D45/J45 -> 0.99033227 | N45: =E45/K45 -> 0.99888974 | O45: =K45 -> 3465
B46: CHU03CH1208C4-303M2M2 | C46: 720 | D46: 33.753551 | E46: 3586.0932 | F46: 84.116938 | G46: 11.342291 | H46: 15809 | J46: 34 | K46: 3612 | M46: =D46/J46 -> 0.99275149 | N46: =E46/K46 -> 0.99282758 | O46: =K46 -> 3612
B47: CHU03CH1208C4-353M2M2 | C47: 720 | D47: 33.601964 | E47: 3665.7215 | F47: 84.280711 | G47: 13.248699 | H47: 6008 | J47: 34 | K47: 3676 | M47: =D47/J47 -> 0.98829306 | N47: =E47/K47 -> 0.99720389 | O47: =K47 -> 3676
B48: CHU03CH1208C4-403M2M2 | C48: 720 | D48: 33.832177 | E48: 3727.0565 | F48: 83.990784 | G48: 12.792188 | H48: 38289 | J48: 34 | K48: 3706 | M48: =D48/J48 -> 0.99506404 | N48: =E48/K48 -> 1.0056817 | O48: =K48 -> 3706
B49: CHU03CH1208C4-503M2M2 | C49: 720 | D49: 33.934112 | E49: 3812.4416 | F49: 83.535983 | G49: 12.412872 | H49: 12134 | J49: 34 | K49: 3749 | M49: =D49/J49 -> 0.99806212 | N49: =E49/K49 -> 1.0169223 | O49: =K49 -> 3749
B50: CHU03CH1208C4-573M2M2 | C50: 720 | D50: 33.6052 | E50: 3828.5913 | F50: 82.621575 | G50: 8.8100274 | H50: 3931 | J50: 34 | K50: 3786 | M50: =D50/J50 -> 0.98838824 | N50: =E50/K50 -> 1.0112497 | O50: =K50 -> 3786
B51: CHU03CH1208C4-653M2M2 | C51: 720 | D51: 34.083482 | E51: 3743.3657 | F51: 82.662539 | G51: 8.8517209 | H51: 52460 | J51: 34 | K51: 3817 | M51: =D51/J51 -> 1.0024554 | N51: =E51/K51 -> 0.98070884 | O51: =K51*P51 -> 3778.83 | P51: 0.99
B52: CHU03CH1208C4-273H5M3 | C52: 720 | D52: 33.53487 | E52: 2949.3104 | F52: 92.155009 | G52: 56.852068 | H52: 20222 | J52: 34 | K52: 2976 | M52: =D52/J52 -> 0.98631969 | N52: =E52/K52 -> 0.99103172 | O52: =K52 -> 2976
B53: CHU03CH1208C4-303H5M3 | C53: 720 | D53: 33.842076 | E53: 3084.3071 | F53: 92.448248 | G53: 58.935887 | H53: 72460 | J53: 34 | K53: 3095 | M53: =D53/J53 -> 0.99535517 | N53: =E53/K53 -> 0.9965451 | O53: =K53 -> 3095
B54: CHU03CH1208C4-353H5M3 | C54: 720 | D54: 33.505958 | E54: 3184.7041 | F54: 92.666131 | G54: 62.610468 | H54: 25405 | J54: 34 | K54: 3140 | M54: =D54/J54 -> 0.98546935 | N54: =E54/K54 -> 1.014237 | O54: =K54 -> 3140
B55: CHU03CH1208C4-403H5M3 | C55: 720 | D55: 33.80622 | E55: 3312.1203 | F55: 92.684557 | G55: 63.225745 | H55: 29481 | J55: 34 | K55: 3142 | M55: =D55/J55 -> 0.99430059 | N55: =E55/K55 -> 1.054144 | O55: =K55*P55 -> 3267.68 | P55: 1.04
B56: CHU03CH1208C4-573H5M3 | C56: 720 | D56: 33.649152 | E56: 3426.4511 | F56: 92.382138 | G56: 62.358614 | H56: 3414 | J56: 34 | K56: 3250 | M56: =D56/J56 -> 0.98968095 | N56: =E56/K56 -> 1.0542927 | O56: =K56*P56 -> 3380 | P56: 1.04
B57: CHU03CH1208C4-273H7M5 | C57: 720 | D57: 33.522341 | E57: 2557.5092 | F57: 97.270795 | G57: 91.761646 | H57: 2438 | J57: 34 | K57: 2663 | M57: =D57/J57 -> 0.98595122 | N57: =E57/K57 -> 0.96038648 | O57: =K57*P57 -> 2583.11 | P57: 0.97
B58: CHU03CH1208C4-303H7M5 | C58: 720 | D58: 33.642123 | E58: 2708.1125 | F58: 97.623404 | G58: 94.631388 | H58: 11613 | J58: 34 | K58: 2769 | M58: =D58/J58 -> 0.98947421 | N58: =E58/K58 -> 0.97801102 | O58: =K58*P58 -> 2741.31 | P58: 0.99
B59: CHU03CH1208C4-403H7M5 | C59: 720 | D59: 34.223997 | E59: 3005.8782 | F59: 96.924728 | G59: 96.11409 | H59: 3971 | J59: 34 | K59: 2839 | M59: =D59/J59 -> 1.0065881 | N59: =E59/K59 -> 1.0587806 | O59: =K59*P59 -> 2980.95 | P59: 1.05
J61: カタログ値 | M61: 比較(実績/カタログ値)
B62: 機種 | C62: IF(mA) | D62: VF(V) | E62: Φv(lm) | F62: Ra | G62: R9 | H62: N(pcs) | J62: VF[V] | K62: Φv[lm] | M62: RVF | N62: RΦv
B63: CHU03CH1210C4-30AL7M4 | C63: 900 | D63: 33.764102 | E63: 4936.5976 | F63: 72.617508 | G63: -33.656693 | H63: 1052 | J63: 34 | K63: 4752 | M63: =D63/J63 -> 0.99306183 | N63: =E63/K63 -> 1.0388463 | O63: =K63*P63 -> 4894.56 | P63: 1.03
B64: CHU03CH1210C4-40AL7M4 | C64: 900 | D64: 33.899786 | E64: 5063.3667 | F64: 76.049174 | G64: -23.061229 | H64: 17396 | I64: 2017年 | J64: 34 | K64: 4884 | M64: =D64/J64 -> 0.99705252 | N64: =E64/K64 -> 1.0367254 | O64: =K64*P64 -> 5030.52 | P64: 1.03
B65: CHU03CH1210C4-50AL7M4 | C65: 900 | D65: 34.141409 | E65: 5038.3033 | F65: 77.385412 | G65: -19.857136 | H65: 12090 | J65: 34 | K65: 4933 | M65: =D65/J65 -> 1.0041591 | N65: =E65/K65 -> 1.0213467 | O65: =K65*P65 -> 4982.33 | P65: 1.01
B66: CHU03CH1210C4-273M2M2 | C66: 900 | D66: 33.913698 | E66: 4292.7655 | F66: 83.042797 | G66: 6.8100621 | H66: 3348 | J66: 34 | K66: 4296 | M66: =D66/J66 -> 0.99746169 | N66: =E66/K66 -> 0.99924709 | O66: =K66 -> 4296
B67: CHU03CH1210C4-303M2M2 | C67: 900 | D67: 34.002971 | E67: 4402.3367 | F67: 84.088035 | G67: 11.349986 | H67: 31940 | J67: 34 | K67: 4487 | M67: =D67/J67 -> 1.0000874 | N67: =E67/K67 -> 0.98113142 | O67: =K67*P67 -> 4442.13 | P67: 0.99
B68: CHU03CH1210C4-353M2M2 | C68: 900 | D68: 33.85608 | E68: 4546.8068 | F68: 84.242725 | G68: 13.194599 | H68: 10488 | J68: 34 | K68: 4564 | M68: =D68/J68 -> 0.99576707 | N68: =E68/K68 -> 0.99623286 | O68: =K68 -> 4564
B69: CHU03CH1210C4-403M2M2 | C69: 900 | D69: 33.870062 | E69: 4605.0048 | F69: 84.388554 | G69: 14.269406 | H69: 9026 | J69: 34 | K69: 4602 | M69: =D69/J69 -> 0.9961783 | N69: =E69/K69 -> 1.0006529 | O69: =K69 -> 4602
B70: CHU03CH1210C4-503M2M2 | C70: 900 | D70: 34.066489 | E70: 4753.9073 | F70: 83.216093 | G70: 10.990008 | H70: 11901 | J70: 34 | K70: 4656 | M70: =D70/J70 -> 1.0019556 | N70: =E70/K70 -> 1.0210282 | O70: =K70*P70 -> 4702.56 | P70: 1.01
B71: CHU03CH1210C4-573M2M2 | C71: 900 | D71: 33.991128 | E71: 4686.3365 | F71: 83.298322 | G71: 10.061215 | H71: 4721 | I71: 2017年 | J71: 34 | K71: 4703 | M71: =D71/J71 -> 0.99973907 | N71: =E71/K71 -> 0.99645683 | O71: =K71 -> 4703
B72: CHU03CH1210C4-653M2M2 | C72: 900 | D72: 33.86618 | E72: 4647.7014 | F72: 82.530528 | G72: 8.5175287 | H72: 7641 | J72: 34 | K72: 4741 | M72: =D72/J72 -> 0.99606412 | N72: =E72/K72 -> 0.98032091 | O72: =K72*P72 -> 4693.59 | P72: 0.99
B73: CHU03CH1210C4-273H5M3 | C73: 900 | D73: 33.722247 | E73: 3644.1537 | F73: 92.310893 | G73: 56.70614 | H73: 1296 | J73: 34 | K73: 3689 | M73: =D73/J73 -> 0.9918308 | N73: =E73/K73 -> 0.98784323 | O73: =K73 -> 3689
B74: CHU03CH1210C4-303H5M3 | C74: 900 | D74: 33.960482 | E74: 3816.3269 | F74: 92.793033 | G74: 59.205105 | H74: 6234 | J74: 34 | K74: 3844 | M74: =D74/J74 -> 0.9988377 | N74: =E74/K74 -> 0.99280095 | O74: =K74 -> 3844
B75: CHU03CH1210C4-353H5M3 | C75: 900 | D75: 33.939218 | E75: 3980.6638 | F75: 92.244194 | G75: 60.574362 | H75: 3987 | J75: 34 | K75: 3896 | M75: =D75/J75 -> 0.9982123 | N75: =E75/K75 -> 1.021731 | O75: =K75*P75 -> 3934.96 | P75: 1.01
B76: CHU03CH1210C4-403H5M3 | C76: 900 | D76: 33.925316 | E76: 4084.9464 | F76: 92.600552 | G76: 63.690895 | H76: 23156 | I76: 2017年 | J76: 34 | K76: 3903 | M76: =D76/J76 -> 0.99780342 | N76: =E76/K76 -> 1.0466171 | O76: =K76*P76 -> 4020.09 | P76: 1.03
B77: CHU03CH1210C4-573H5M3 | C77: 900 | D77: 33.980416 | E77: 4250.0053 | F77: 92.083387 | G77: 60.703906 | H77: 4294 | J77: 34 | K77: 4036 | M77: =D77/J77 -> 0.99942399 | N77: =E77/K77 -> 1.0530241 | O77: =K77*P77 -> 4197.44 | P77: 1.04
B79: B-BBL | J79: カタログ値 | M79: 比較(実績/カタログ値)
B80: 機種 | C80: IF(mA) | D80: VF(V) | E80: Φv(lm) | F80: Ra | G80: R9 | H80: N(pcs) | J80: VF[V] | K80: Φv[lm] | M80: RVF | N80: RΦv
B81: CHU03CH1205C4-273H6M3 | C81: 450 | D81: 33.670352 | E81: 1848.5788 | F81: 93.386649 | G81: 61.780595 | H81: 3299 | J81: 34 | K81: 1820 | M81: =D81/J81 -> 0.99030448 | N81: =E81/K81 -> 1.0157026 | O81: =K81*P81 -> 1838.2 | P81: 1.01
B82: CHU03CH1205C4-303H6M3 | C82: 450 | D82: 33.453146 | E82: 1940.022 | F82: 94.000089 | G82: 65.097376 | H82: 42797 | J82: 34 | K82: 1892 | M82: =D82/J82 -> 0.98391605 | N82: =E82/K82 -> 1.0253816 | O82: =K82*P82 -> 1910.92 | P82: 1.01
B83: CHU03CH1205C4-353H6M3 | C83: 450 | D83: 33.129836 | E83: 2002.3348 | F83: 94.542732 | G83: 70.31373 | H83: 3104 | J83: 34 | K83: 1920 | M83: =D83/J83 -> 0.97440693 | N83: =E83/K83 -> 1.0428827 | O83: =K83*P83 -> 1977.6 | P83: 1.03
B84: CHU03CH1206C4-273H6M3 | C84: 540 | D84: 33.56 | E84: 2186.8 | F84: 93.27 | G84: 61.44 | H84: 31563 | I84: 2017年 | J84: 34 | K84: 2161 | M84: =D84/J84 -> 0.98705882 | N84: =E84/K84 -> 1.0119389 | O84: =K84 -> 2161 | Q84: A009分類機データおかしい
B85: CHU03CH1206C4-303H6M3 | C85: 540 | D85: 33.490979 | E85: 2311.8041 | F85: 93.729174 | G85: 64.549436 | H85: 295198 | J85: 34 | K85: 2247 | M85: =D85/J85 -> 0.98502879 | N85: =E85/K85 -> 1.0288403 | O85: =K85*P85 -> 2291.94 | P85: 1.02
B86: CHU03CH1206C4-353H6M3 | C86: 540 | D86: 33.75 | E86: 2361 | F86: 94.51 | G86: 70.58 | H86: 99937 | I86: 2017年 | J86: 34 | K86: 2280 | M86: =D86/J86 -> 0.99264706 | N86: =E86/K86 -> 1.0355263 | O86: =K86*P86 -> 2348.4 | P86: 1.03 | Q86: A009分類機データおかしい
A87: × | B87: CHU03CH1208C4-273H6M3 | C87: 720 | D87: 33.860995 | E87: 2856.2985 | F87: 93.278514 | G87: 61.63773 | H87: 379 | J87: 34 | K87: 2827 | M87: =D87/J87 -> 0.99591161 | N87: =E87/K87 -> 1.0103638 | O87: =K87 -> 2827
B88: CHU03CH1208C4-303H6M3 | C88: 720 | D88: 33.404397 | E88: 3029.2991 | F88: 93.23078 | G88: 64.012275 | H88: 15787 | J88: 34 | K88: 2940 | M88: =D88/J88 -> 0.98248226 | N88: =E88/K88 -> 1.0303738 | O88: =K88*P88 -> 2998.8 | P88: 1.02
B89: CHU03CH1208C4-353H6M3 | C89: 720 | D89: 34.019967 | E89: 3146.544 | F89: 94.171158 | G89: 67.683392 | H89: 7748 | I89: 2017年 | J89: 34 | K89: 2982 | M89: =D89/J89 -> 1.0005873 | N89: =E89/K89 -> 1.0551791 | O89: =K89*P89 -> 3101.28 | P89: 1.04

Sheet 04C
J2: カタログ値 | M2: 比較(実績/カタログ値)
B3: 機種 | C3: IF(mA) | D3: VF(V) | E3: Φv(lm) | F3: Ra | G3: R9 | H3: N(pcs) | J3: VF[V] | K3: Φv[lm] | M3: RVF | N3: RΦv
B4: CHU04CH1211C4-30AL7M4 | C4: 990 | D4: 32.960771 | E4: 5453.5052 | F4: 71.506247 | G4: -38.787432 | H4: 2505 | J4: 34 | K4: 5440 | M4: =D4/J4 -> 0.96943445 | N4: =E4/K4 -> 1.0024826 | O4: =K4 -> 5440
B5: CHU04CH1211C4-40AL7M4 | C5: 990 | D5: 33.290411 | E5: 5549.285 | F5: 75.604275 | G5: -25.098949 | H5: 2118 | J5: 34 | K5: 5590 | M5: =D5/J5 -> 0.97912975 | N5: =E5/K5 -> 0.99271647 | O5: =K5 -> 5590
B6: CHU04CH1211C4-50AL7M4 | C6: 990 | D6: 33.328429 | E6: 5564.5889 | F6: 76.82966 | G6: -21.850957 | H6: 11609 | J6: 34 | K6: 5648 | M6: =D6/J6 -> 0.98024792 | N6: =E6/K6 -> 0.98523174 | O6: =K6*P6 -> 5591.52 | P6: 0.99
B7: CHU04CH1211C4-273M2M2 | C7: 990 | D7: 33.234383 | E7: 4834.0338 | F7: 82.802932 | G7: 6.0606307 | H7: 533 | J7: 34 | K7: 4926 | M7: =D7/J7 -> 0.97748186 | N7: =E7/K7 -> 0.98133045 | O7: =K7*P7 -> 4876.74 | P7: 0.99
B8: CHU04CH1211C4-303M2M2 | C8: 990 | D8: 32.932025 | E8: 5002.643 | F8: 83.798896 | G8: 9.9824136 | H8: 30187 | J8: 34 | K8: 5137 | M8: =D8/J8 -> 0.96858897 | N8: =E8/K8 -> 0.97384525 | O8: =K8*P8 -> 5085.63 | P8: 0.99
B9: CHU04CH1211C4-353M2M2 | C9: 990 | D9: 33.480168 | E9: 5042.9185 | F9: 84.416763 | G9: 13.813636 | H9: 3462 | J9: 34 | K9: 5227 | M9: =D9/J9 -> 0.98471081 | N9: =E9/K9 -> 0.96478258 | O9: =K9*P9 -> 5122.46 | P9: 0.98
B10: CHU04CH1211C4-403M2M2 | C10: 990 | D10: 32.983448 | E10: 5176.5542 | F10: 84.491159 | G10: 14.910753 | H10: 75921 | J10: 34 | K10: 5269 | M10: =D10/J10 -> 0.97010141 | N10: =E10/K10 -> 0.98245478 | O10: =K10*P10 -> 5216.31 | P10: 0.99
B11: CHU04CH1211C4-503M2M2 | C11: 990 | D11: 32.574894 | E11: 5213.1349 | F11: 83.125349 | G11: 9.1521097 | H11: 441 | J11: 34 | K11: 5330 | M11: =D11/J11 -> 0.95808511 | N11: =E11/K11 -> 0.97807409 | O11: =K11*P11 -> 5276.7 | P11: 0.99
B12: CHU04CH1211C4-653M2M2 | C12: 990 | D12: 32.841874 | E12: 5318.8971 | F12: 82.144645 | G12: 6.1579826 | H12: 13754 | J12: 34 | K12: 5427 | M12: =D12/J12 -> 0.96593748 | N12: =E12/K12 -> 0.98008055 | O12: =K12*P12 -> 5372.73 | P12: 0.99
B13: CHU04CH1211C4-273H5M3 | C13: 990 | D13: 32.883024 | E13: 4115.8164 | F13: 92.425449 | G13: 56.348802 | H13: 10962 | I13: 2017年 | J13: 34 | K13: 4231 | M13: =D13/J13 -> 0.96714777 | N13: =E13/K13 -> 0.97277627 | O13: =K13*P13 -> 4146.38 | P13: 0.98
B14: CHU04CH1211C4-303H5M3 | C14: 990 | D14: 33.131263 | E14: 4231.9597 | F14: 92.565496 | G14: 59.103601 | H14: 4317 | J14: 34 | K14: 4400 | M14: =D14/J14 -> 0.97444893 | N14: =E14/K14 -> 0.96180903 | O14: =K14*P14 -> 4268 | P14: 0.97
B15: CHU04CH1211C4-353H5M3 | C15: 990 | D15: 32.544089 | E15: 4395.4293 | F15: 92.990777 | G15: 63.195044 | H15: 3804 | J15: 34 | K15: 4463 | M15: =D15/J15 -> 0.9571791 | N15: =E15/K15 -> 0.98485979 | O15: =K15*P15 -> 4418.37 | P15: 0.99
B16: CHU04CH1211C4-403H5M3 | C16: 990 | D16: 32.816239 | E16: 4562.2673 | F16: 92.738436 | G16: 63.106391 | H16: 3093 | J16: 34 | K16: 4468 | M16: =D16/J16 -> 0.9651835 | N16: =E16/K16 -> 1.0210983 | O16: =K16*P16 -> 4512.68 | P16: 1.01
B17: CHU04CH1211C4-273H7M5 | C17: 990 | D17: 33.758566 | E17: 3445.9338 | F17: 97.949811 | G17: 94.027547 | H17: 201 | J17: 34 | K17: 3786 | M17: =D17/J17 -> 0.992899 | N17: =E17/K17 -> 0.91017797 | O17: =K17*P17 -> 3483.12 | P17: 0.92
B18: CHU04CH1211C4-303H7M5 | C18: 990 | D18: 33.293841 | E18: 3805.3675 | F18: 97.747563 | G18: 95.90849 | H18: 582 | I18: 2017年 | J18: 34 | K18: 3938 | M18: =D18/J18 -> 0.97923062 | N18: =E18/K18 -> 0.96631983 | O18: =K18*P18 -> 3859.24 | P18: 0.98
B19: CHU04CH1211C4-403H7M5 | C19: 990 | D19: 32.657008 | E19: 4017.0488 | F19: 97.942296 | G19: 97.843298 | H19: 3022 | J19: 34 | K19: 4036 | M19: =D19/J19 -> 0.96050022 | N19: =E19/K19 -> 0.99530446 | O19: =K19 -> 4036
J21: カタログ値 | M21: 比較(実績/カタログ値)
B22: 機種 | C22: IF(mA) | D22: VF(V) | E22: Φv(lm) | F22: Ra | G22: R9 | H22: N(pcs) | J22: VF[V] | K22: Φv[lm] | M22: RVF | N22: RΦv
B23: CHU04CH1212C4-30AL7M4 | C23: 1080 | D23: 32.867379 | E23: 5931.5236 | F23: 72.092041 | G23: -37.30209 | H23: 16367 | J23: 34 | K23: 5935 | M23: =D23/J23 -> 0.96668763 | N23: =E23/K23 -> 0.99941426 | O23: =K23 -> 5935
B24: CHU04CH1212C4-40AL7M4 | C24: 1080 | D24: 32.923578 | E24: 6215.8452 | F24: 75.468739 | G24: -26.606323 | H24: 51397 | J24: 34 | K24: 6099 | M24: =D24/J24 -> 0.96834054 | N24: =E24/K24 -> 1.0191581 | O24: =K24*P24 -> 6159.99 | P24: 1.01
B25: CHU04CH1212C4-50AL7M4 | C25: 1080 | D25: 33.111555 | E25: 6144.9609 | F25: 76.603954 | G25: -22.204333 | H25: 292856 | J25: 34 | K25: 6161 | M25: =D25/J25 -> 0.97386925 | N25: =E25/K25 -> 0.99739668 | O25: =K25 -> 6161
B26: CHU04CH1212C4-273M2M2 | C26: 1080 | D26: 32.701236 | E26: 5040.2515 | F26: 82.767204 | G26: 6.7649785 | H26: 9879 | J26: 34 | K26: 5374 | M26: =D26/J26 -> 0.96180106 | N26: =E26/K26 -> 0.9378957 | O26: =K26*P26 -> 5105.3 | P26: 0.95
B27: CHU04CH1212C4-303M2M2 | C27: 1080 | D27: 33.022189 | E27: 5456.0392 | F27: 83.948279 | G27: 10.313711 | H27: 100561 | J27: 34 | K27: 5603 | M27: =D27/J27 -> 0.97124086 | N27: =E27/K27 -> 0.97377105 | O27: =K27*P27 -> 5490.94 | P27: 0.98
B28: CHU04CH1212C4-353M2M2 | C28: 1080 | D28: 33.226544 | E28: 5415.6985 | F28: 84.06108 | G28: 11.990812 | H28: 3896 | J28: 34 | K28: 5702 | M28: =D28/J28 -> 0.9772513 | N28: =E28/K28 -> 0.94978928 | O28: =K28*P28 -> 5473.92 | P28: 0.96
B29: CHU04CH1212C4-403M2M2 | C29: 1080 | D29: 33.17965 | E29: 5732.2299 | F29: 84.294175 | G29: 14.086533 | H29: 120776 | J29: 34 | K29: 5748 | M29: =D29/J29 -> 0.97587204 | N29: =E29/K29 -> 0.99725642 | O29: =K29 -> 5748
B30: CHU04CH1212C4-503M2M2 | C30: 1080 | D30: 32.977586 | E30: 5783.8812 | F30: 83.60124 | G30: 10.864002 | H30: 15514 | J30: 34 | K30: 5815 | M30: =D30/J30 -> 0.96992899 | N30: =E30/K30 -> 0.99464853 | O30: =K30 -> 5815
B31: CHU04CH1212C4-653M2M2 | C31: 1080 | D31: 33.173307 | E31: 5757.1467 | F31: 82.977114 | G31: 8.4886032 | H31: 27450 | J31: 34 | K31: 5920 | M31: =D31/J31 -> 0.97568551 | N31: =E31/K31 -> 0.97249099 | O31: =K31*P31 -> 5801.6 | P31: 0.98
B32: CHU04CH1212C4-273H5M3 | C32: 1080 | D32: 32.971382 | E32: 4470.705 | F32: 92.385755 | G32: 56.794635 | H32: 4380 | J32: 34 | K32: 4615 | M32: =D32/J32 -> 0.96974653 | N32: =E32/K32 -> 0.96873347 | O32: =K32*P32 -> 4522.7 | P32: 0.98
B33: CHU04CH1212C4-303H5M3 | C33: 1080 | D33: 32.996815 | E33: 4661.819 | F33: 92.623142 | G33: 58.239414 | H33: 82967 | J33: 34 | K33: 4800 | M33: =D33/J33 -> 0.97049455 | N33: =E33/K33 -> 0.97121229 | O33: =K33*P33 -> 4704 | P33: 0.98
B34: CHU04CH1212C4-353H5M3 | C34: 1080 | D34: 33.124345 | E34: 4890.6062 | F34: 92.967346 | G34: 61.831502 | H34: 2262 | J34: 34 | K34: 4869 | M34: =D34/J34 -> 0.97424545 | N34: =E34/K34 -> 1.0044375 | O34: =K34 -> 4869
B35: CHU04CH1212C4-403H5M3 | C35: 1080 | D35: 33.454048 | E35: 4962.9524 | F35: 92.886237 | G35: 63.113886 | H35: 15081 | J35: 34 | K35: 4873 | M35: =D35/J35 -> 0.98394257 | N35: =E35/K35 -> 1.0184594 | O35: =K35*P35 -> 4921.73 | P35: 1.01
B36: CHU04CH1212C4-573H5M3 | C36: 1080 | D36: 33.190892 | E36: 5142.8305 | F36: 92.054705 | G36: 60.95321 | H36: 657 | J36: 34 | K36: 5041 | M36: =D36/J36 -> 0.97620271 | N36: =E36/K36 -> 1.0202005 | O36: =K36*P36 -> 5091.41 | P36: 1.01
B37: CHU04CH1212C4-273H7M5 | C37: 1080 | D37: 32.528272 | E37: 3917.5934 | F37: 97.824441 | G37: 94.049117 | H37: 2113 | J37: 34 | K37: 4130 | M37: =D37/J37 -> 0.9567139 | N37: =E37/K37 -> 0.94856982 | O37: =K37*P37 -> 3964.8 | P37: 0.96
B38: CHU04CH1212C4-303H7M5 | C38: 1080 | D38: 32.909056 | E38: 3937.0342 | F38: 98.258417 | G38: 95.868299 | H38: 12485 | J38: 34 | K38: 4295 | M38: =D38/J38 -> 0.96791342 | N38: =E38/K38 -> 0.91665523 | O38: =K38*P38 -> 3994.35 | P38: 0.93
B39: CHU04CH1212C4-403H7M5 | C39: 1080 | D39: 33.206942 | E39: 4622.4875 | F39: 97.124729 | G39: 95.802943 | H39: 2138 | J39: 34 | K39: 4403 | M39: =D39/J39 -> 0.97667477 | N39: =E39/K39 -> 1.0498495 | O39: =K39*P39 -> 4579.12 | P39: 1.04
J41: カタログ値 | M41: 比較(実績/カタログ値)
B42: 機種 | C42: IF(mA) | D42: VF(V) | E42: Φv(lm) | F42: Ra | G42: R9 | H42: N(pcs) | J42: VF[V] | K42: Φv[lm] | M42: RVF | N42: RΦv
B43: CHU04CH1812C4-30AL7M4 | C43: 1080 | D43: 50.601396 | E43: 8922.9114 | F43: 71.879624 | G43: -36.715333 | H43: 14132 | J43: 51.1 | K43: 8687 | M43: =D43/J43 -> 0.99024259 | N43: =E43/K43 -> 1.0271568 | O43: =K43*P43 -> 8860.74 | P43: 1.02
B44: CHU04CH1812C4-40AL7M4 | C44: 1080 | D44: 50.649636 | E44: 9202.6211 | F44: 75.764312 | G44: -23.465145 | H44: 20542 | J44: 51.1 | K44: 8927 | M44: =D44/J44 -> 0.99118662 | N44: =E44/K44 -> 1.030875 | O44: =K44*P44 -> 9105.54 | P44: 1.02
B45: CHU04CH1812C4-50AL7M4 | C45: 1080 | D45: 50.706646 | E45: 9141.5397 | F45: 76.820833 | G45: -22.072659 | H45: 97862 | J45: 51.1 | K45: 9017 | M45: =D45/J45 -> 0.99230227 | N45: =E45/K45 -> 1.0138117 | O45: =K45*P45 -> 9107.17 | P45: 1.01
B46: CHU04CH1812C4-273M2M2 | C46: 1080 | D46: 50.624574 | E46: 7716.1314 | F46: 82.918779 | G46: 7.1637512 | H46: 1731 | J46: 51.1 | K46: 7864 | M46: =D46/J46 -> 0.99069617 | N46: =E46/K46 -> 0.98119677 | O46: =K46*P46 -> 7785.36 | P46: 0.99
B47: CHU04CH1812C4-303M2M2 | C47: 1080 | D47: 50.545238 | E47: 8080.6684 | F47: 84.066287 | G47: 10.896947 | H47: 85126 | J47: 51.1 | K47: 8201 | M47: =D47/J47 -> 0.9891436 | N47: =E47/K47 -> 0.9853272 | O47: =K47*P47 -> 8118.99 | P47: 0.99
B48: CHU04CH1812C4-353M2M2 | C48: 1080 | D48: 50.382878 | E48: 8114.3876 | F48: 84.210345 | G48: 12.847301 | H48: 7283 | J48: 51.1 | K48: 8340 | M48: =D48/J48 -> 0.9859663 | N48: =E48/K48 -> 0.97294815 | O48: =K48*P48 -> 8173.2 | P48: 0.98
B49: CHU04CH1812C4-403M2M2 | C49: 1080 | D49: 50.891113 | E49: 8435.3677 | F49: 84.09449 | G49: 12.899865 | H49: 111847 | J49: 51.1 | K49: 8412 | M49: =D49/J49 -> 0.99591219 | N49: =E49/K49 -> 1.0027779 | O49: =K49 -> 8412
B50: CHU04CH1812C4-503M2M2 | C50: 1080 | D50: 50.800447 | E50: 8564.5194 | F50: 83.770942 | G50: 11.728725 | H50: 17239 | J50: 51.1 | K50: 8511 | M50: =D50/J50 -> 0.99413791 | N50: =E50/K50 -> 1.0062883 | O50: =K50 -> 8511
B51: CHU04CH1812C4-653M2M2 | C51: 1080 | D51: 50.680663 | E51: 8537.1007 | F51: 83.039635 | G51: 8.6748295 | H51: 27237 | J51: 51.1 | K51: 8664 | M51: =D51/J51 -> 0.99179379 | N51: =E51/K51 -> 0.98535327 | O51: =K51*P51 -> 8577.36 | P51: 0.99
B52: CHU04CH1812C4-273H5M3 | C52: 1080 | D52: 50.629223 | E52: 6468.861 | F52: 92.373107 | G52: 56.053967 | H52: 3953 | J52: 51.1 | K52: 6753 | M52: =D52/J52 -> 0.99078714 | N52: =E52/K52 -> 0.95792403 | O52: =K52*P52 -> 6550.41 | P52: 0.97
B53: CHU04CH1812C4-303H5M3 | C53: 1080 | D53: 50.651331 | E53: 6969.3459 | F53: 92.528074 | G53: 58.210462 | H53: 15849 | J53: 51.1 | K53: 7026 | M53: =D53/J53 -> 0.99121979 | N53: =E53/K53 -> 0.99193651 | O53: =K53 -> 7026
B54: CHU04CH1812C4-353H5M3 | C54: 1080 | D54: 50.704812 | E54: 7205.2943 | F54: 92.993794 | G54: 62.07442 | H54: 8032 | J54: 51.1 | K54: 7121 | M54: =D54/J54 -> 0.99226638 | N54: =E54/K54 -> 1.0118374 | O54: =K54 -> 7121
B55: CHU04CH1812C4-403H5M3 | C55: 1080 | D55: 50.686093 | E55: 7358.6961 | F55: 92.437413 | G55: 62.09901 | H55: 5651 | J55: 51.1 | K55: 7133 | M55: =D55/J55 -> 0.99190006 | N55: =E55/K55 -> 1.0316411 | O55: =K55*P55 -> 7275.66 | P55: 1.02
B56: CHU04CH1812C4-573H5M3 | C56: 1080 | D56: 51.065173 | E56: 7583.2751 | F56: 91.897461 | G56: 59.852425 | H56: 3078 | J56: 51.1 | K56: 7380 | M56: =D56/J56 -> 0.99931845 | N56: =E56/K56 -> 1.0275441 | O56: =K56*P56 -> 7527.6 | P56: 1.02
B57: CHU04CH1812C4-273H7M5 | C57: 1080 | D57: 50.503394 | E57: 5706.1893 | F57: 98.021667 | G57: 95.322576 | H57: 198 | I57: 2017年 | J57: 51.1 | K57: 6044 | M57: =D57/J57 -> 0.98832473 | N57: =E57/K57 -> 0.94410808 | O57: =K57*P57 -> 5741.8 | P57: 0.95
B58: CHU04CH1812C4-303H7M5 | C58: 1080 | D58: 50.806499 | E58: 5945.751 | F58: 98.203357 | G58: 96.222714 | H58: 4579 | J58: 51.1 | K58: 6288 | M58: =D58/J58 -> 0.99425634 | N58: =E58/K58 -> 0.94557108 | O58: =K58*P58 -> 5973.6 | P58: 0.95
B59: CHU04CH1812C4-403H7M5 | C59: 1080 | D59: 51.144257 | E59: 6910.3471 | F59: 97.069412 | G59: 96.49971 | H59: 767 | I59: 2017年多 | J59: 51.1 | K59: 6444 | M59: =D59/J59 -> 1.0008661 | N59: =E59/K59 -> 1.0723692 | O59: =K59*P59 -> 6830.64 | P59: 1.06
J61: カタログ値 | M61: 比較(実績/カタログ値)
B62: 機種 | C62: IF(mA) | D62: VF(V) | E62: Φv(lm) | F62: Ra | G62: R9 | H62: N(pcs) | J62: VF[V] | K62: Φv[lm] | M62: RVF | N62: RΦv
B63: CHU04CH1818C4-30AL7M4 | C63: 1620 | D63: 50.863846 | E63: 12885.012 | F63: 72.111155 | G63: -37.212646 | H63: 5362 | J63: 51.1 | K63: 12677 | M63: =D63/J63 -> 0.9953786 | N63: =E63/K63 -> 1.0164086 | O63: =K63*P63 -> 12803.77 | P63: 1.01
B64: CHU04CH1818C4-40AL7M4 | C64: 1620 | D64: 51.092261 | E64: 13553.03 | F64: 75.584319 | G64: -25.634386 | H64: 8337 | J64: 51.1 | K64: 13029 | M64: =D64/J64 -> 0.99984856 | N64: =E64/K64 -> 1.0402203 | O64: =K64*P64 -> 13419.87 | P64: 1.03
B65: CHU04CH1818C4-50AL7M4 | C65: 1620 | D65: 51.230412 | E65: 13496.04 | F65: 76.437157 | G65: -23.111509 | H65: 42015 | J65: 51.1 | K65: 13162 | M65: =D65/J65 -> 1.0025521 | N65: =E65/K65 -> 1.0253792 | O65: =K65*P65 -> 13293.62 | P65: 1.01
B66: CHU04CH1818C4-273M2M2 | C66: 1620 | D66: 51.178111 | E66: 11331.041 | F66: 82.8399 | G66: 6.5431491 | H66: 656 | J66: 51.1 | K66: 11480 | M66: =D66/J66 -> 1.0015286 | N66: =E66/K66 -> 0.98702444 | O66: =K66 -> 11480
B67: CHU04CH1818C4-303M2M2 | C67: 1620 | D67: 51.21382 | E67: 11955.076 | F67: 84.003154 | G67: 10.622831 | H67: 3839 | J67: 51.1 | K67: 11970 | M67: =D67/J67 -> 1.0022274 | N67: =E67/K67 -> 0.99875326 | O67: =K67 -> 11970
B68: CHU04CH1818C4-353M2M2 | C68: 1620 | D68: 51.234267 | E68: 11951.719 | F68: 84.229327 | G68: 12.998417 | H68: 671 | J68: 51.1 | K68: 12181 | M68: =D68/J68 -> 1.0026275 | N68: =E68/K68 -> 0.98117714 | O68: =K68*P68 -> 12059.19 | P68: 0.99
B69: CHU04CH1818C4-403M2M2 | C69: 1620 | D69: 51.149603 | E69: 12306.564 | F69: 84.389759 | G69: 14.233081 | H69: 13226 | J69: 51.1 | K69: 12279 | M69: =D69/J69 -> 1.0009707 | N69: =E69/K69 -> 1.0022448 | O69: =K69 -> 12279
B70: CHU04CH1818C4-503M2M2 | C70: 1620 | D70: 51.066547 | E70: 12545.255 | F70: 83.196723 | G70: 9.910251 | H70: 444 | J70: 51.1 | K70: 12423 | M70: =D70/J70 -> 0.99934535 | N70: =E70/K70 -> 1.009841 | O70: =K70 -> 12423
B71: CHU04CH1818C4-653M2M2 | C71: 1620 | D71: 51.170242 | E71: 12434.856 | F71: 82.81844 | G71: 8.6605302 | H71: 28886 | J71: 51.1 | K71: 12648 | M71: =D71/J71 -> 1.0013746 | N71: =E71/K71 -> 0.98314805 | O71: =K71*P71 -> 12521.52 | P71: 0.99
B72: CHU04CH1818C4-273H5M3 | C72: 1620 | D72: 51.2866 | E72: 9549.0934 | F72: 93.014 | G72: 59.274 | H72: 5 | I72: 2017年 | J72: 51.1 | K72: 9860 | M72: =D72/J72 -> 1.0036517 | N72: =E72/K72 -> 0.96846789 | O72: =K72*P72 -> 9662.8 | P72: 0.98
B73: CHU04CH1818C4-303H5M3 | C73: 1620 | D73: 51.252059 | E73: 10107.447 | F73: 92.419307 | G73: 58.024585 | H73: 18721 | J73: 51.1 | K73: 10256 | M73: =D73/J73 -> 1.0029757 | N73: =E73/K73 -> 0.98551549 | O73: =K73*P73 -> 10153.44 | P73: 0.99
B74: CHU04CH1818C4-353H5M3 | C74: 1620 | D74: 51.362249 | E74: 10615.132 | F74: 92.635885 | G74: 60.058384 | H74: 1549 | I74: 2017年 | J74: 51.1 | K74: 10403 | M74: =D74/J74 -> 1.0051321 | N74: =E74/K74 -> 1.0203914 | O74: =K74*P74 -> 10507.03 | P74: 1.01
B75: CHU04CH1818C4-403H5M3 | C75: 1620 | D75: 51.69937 | E75: 10378.693 | F75: 93.289253 | G75: 65.128854 | H75: 347 | J75: 51.1 | K75: 10411 | M75: =D75/J75 -> 1.0117293 | N75: =E75/K75 -> 0.99689686 | O75: =K75 -> 10411
B76: CHU04CH1818C4-573H5M3 | C76: 1620 | D76: 51.200834 | E76: 11160.347 | F76: 91.932873 | G76: 60.371966 | H76: 6253 | J76: 51.1 | K76: 10711 | M76: =D76/J76 -> 1.0019733 | N76: =E76/K76 -> 1.0419519 | O76: =K76*P76 -> 11032.33 | P76: 1.03
J78: カタログ値 | M78: 比較(実績/カタログ値)
B79: 機種 | C79: IF(mA) | D79: VF(V) | E79: Φv(lm) | F79: Ra | G79: R9 | H79: N(pcs) | J79: VF[V] | K79: Φv[lm] | M79: RVF | N79: RΦv
B80: CHU04CH1211C4-273H6M3 | C80: 990 | D80: 33.331406 | E80: 4011.5365 | F80: 93.486061 | G80: 62.100848 | H80: 166 | I80: 2017年 | J80: 34 | K80: 4020 | M80: =D80/J80 -> 0.98033547 | N80: =E80/K80 -> 0.99789466 | O80: =K80 -> 4020
B81: CHU04CH1211C4-303H6M3 | C81: 990 | D81: 33.396254 | E81: 4238.5536 | F81: 93.942959 | G81: 64.569467 | H81: 169 | I81: 2017年 | J81: 34 | K81: 4181 | M81: =D81/J81 -> 0.98224278 | N81: =E81/K81 -> 1.0137655 | O81: =K81 -> 4181
B82: CHU04CH1211C4-353H6M3 | C82: 990 | D82: 33.512436 | E82: 4476.0377 | F82: 94.544709 | G82: 68.828721 | H82: 172 | I82: 2017年 | J82: 34 | K82: 4240 | M82: =D82/J82 -> 0.98565988 | N82: =E82/K82 -> 1.0556693 | O82: =K82*P82 -> 4409.6 | P82: 1.04
B83: CHU04CH1212C4-273H6M3 | C83: 1080 | D83: 33.225109 | E83: 4428.3613 | F83: 93.594956 | G83: 62.426935 | H83: 28237 | I83: 2017年 | J83: 34 | K83: 4385 | M83: =D83/J83 -> 0.9772091 | N83: =E83/K83 -> 1.0098885 | O83: =K83 -> 4385
B84: CHU04CH1212C4-303H6M3 | C84: 1080 | D84: 33.120342 | E84: 4645.2865 | F84: 93.474991 | G84: 64.086265 | H84: 741 | J84: 34 | K84: 4561 | M84: =D84/J84 -> 0.97412771 | N84: =E84/K84 -> 1.0184798 | O84: =K84*P84 -> 4606.61 | P84: 1.01
B85: CHU04CH1212C4-353H6M3 | C85: 1080 | D85: 33.33667 | E85: 4811.3172 | F85: 94.182359 | G85: 67.806025 | H85: 83855 | J85: 34 | K85: 4625 | M85: =D85/J85 -> 0.98049029 | N85: =E85/K85 -> 1.0402848 | O85: =K85*P85 -> 4763.75 | P85: 1.03

Sheet 05C
J2: カタログ値 | M2: 比較(実績/カタログ値)
B3: 機種 | C3: IF(mA) | D3: VF(V) | E3: Φv(lm) | F3: Ra | G3: R9 | H3: N(pcs) | J3: VF[V] | K3: Φv[lm] | M3: RVF | N3: RΦv
B4: CHU05CH1825C4-30AL7M4 | C4: 2250 | D4: 48.871117 | E4: 19019.84 | F4: 72.274334 | G4: -35.725295 | H4: 5031 | J4: 51.1 | K4: 18565 | M4: =D4/J4 -> 0.95638194 | N4: =E4/K4 -> 1.0244999 | O4: =K4*P4 -> 18750.65 | P4: 1.01
B5: CHU05CH1825C4-40AL7M4 | C5: 2250 | D5: 49.076944 | E5: 19351.909 | F5: 76.438636 | G5: -21.062549 | H5: 933 | J5: 51.1 | K5: 19080 | M5: =D5/J5 -> 0.96040986 | N5: =E5/K5 -> 1.014251 | O5: =K5 -> 19080
B6: CHU05CH1825C4-50AL7M4 | C6: 2250 | D6: 48.88984 | E6: 19524.457 | F6: 76.921474 | G6: -20.849181 | H6: 15098 | J6: 51.1 | K6: 19274 | M6: =D6/J6 -> 0.95674834 | N6: =E6/K6 -> 1.0129946 | O6: =K6 -> 19274
B7: CHU05CH1825C4-273M2M2 | C7: 2250 | D7: 49.283199 | E7: 16540.828 | F7: 82.902262 | G7: 6.7873269 | H7: 352 | J7: 51.1 | K7: 16811 | M7: =D7/J7 -> 0.96444616 | N7: =E7/K7 -> 0.98392886 | O7: =K7*P7 -> 16642.89 | P7: 0.99
B8: CHU05CH1825C4-303M2M2 | C8: 2250 | D8: 50.023847 | E8: 16749.179 | F8: 83.457927 | G8: 9.2416602 | H8: 5043 | J8: 51.1 | K8: 17528 | M8: =D8/J8 -> 0.97894026 | N8: =E8/K8 -> 0.95556703 | O8: =K8*P8 -> 17002.16 | P8: 0.97
B9: CHU05CH1825C4-353M2M2 | C9: 2250 | D9: 49.124554 | E9: 17528.907 | F9: 84.496093 | G9: 14.280014 | H9: 2403 | J9: 51.1 | K9: 17836 | M9: =D9/J9 -> 0.96134156 | N9: =E9/K9 -> 0.98278242 | O9: =K9*P9 -> 17657.64 | P9: 0.99
B10: CHU05CH1825C4-403M2M2 | C10: 2250 | D10: 49.08696 | E10: 17702.395 | F10: 84.459074 | G10: 14.590549 | H10: 12813 | J10: 51.1 | K10: 17980 | M10: =D10/J10 -> 0.96060587 | N10: =E10/K10 -> 0.98456033 | O10: =K10*P10 -> 17800.2 | P10: 0.99
B11: CHU05CH1825C4-503M2M2 | C11: 2250 | D11: 49.153405 | E11: 18022.92 | F11: 83.191347 | G11: 10.754591 | H11: 3470 | J11: 51.1 | K11: 18191 | M11: =D11/J11 -> 0.96190616 | N11: =E11/K11 -> 0.99076024 | O11: =K11 -> 18191
B12: CHU05CH1825C4-573M2M2 | C12: 2250 | D12: 49.06857 | E12: 18093.249 | F12: 83.619502 | G12: 13.218379 | H12: 11202 | J12: 51.1 | K12: 18373 | M12: =D12/J12 -> 0.96024599 | N12: =E12/K12 -> 0.98477382 | O12: =K12*P12 -> 18189.27 | P12: 0.99
B13: CHU05CH1825C4-653M2M2 | C13: 2250 | D13: 49.018322 | E13: 17969.356 | F13: 82.578468 | G13: 9.9551109 | H13: 4081 | J13: 51.1 | K13: 18520 | M13: =D13/J13 -> 0.95926265 | N13: =E13/K13 -> 0.97026763 | O13: =K13*P13 -> 18149.6 | P13: 0.98
B14: CHU05CH1825C4-273H5M3 | C14: 2250 | D14: 48.983608 | E14: 14172.311 | F14: 91.861569 | G14: 54.540349 | H14: 687 | J14: 51.1 | K14: 14437 | M14: =D14/J14 -> 0.95858333 | N14: =E14/K14 -> 0.98166593 | O14: =K14*P14 -> 14292.63 | P14: 0.99
B15: CHU05CH1825C4-303H5M3 | C15: 2250 | D15: 49.873618 | E15: 14572.828 | F15: 92.489661 | G15: 58.427055 | H15: 2050 | J15: 51.1 | K15: 15018 | M15: =D15/J15 -> 0.97600036 | N15: =E15/K15 -> 0.97035747 | O15: =K15*P15 -> 14717.64 | P15: 0.98
B16: CHU05CH1825C4-353H5M3 | C16: 2250 | D16: 49.358487 | E16: 15292.888 | F16: 92.94202 | G16: 62.517709 | H16: 236 | J16: 51.1 | K16: 15233 | M16: =D16/J16 -> 0.96591951 | N16: =E16/K16 -> 1.0039314 | O16: =K16 -> 15233
B17: CHU05CH1825C4-403H5M3 | C17: 2250 | D17: 49.148317 | E17: 15973.448 | F17: 92.899615 | G17: 62.502377 | H17: 2581 | J17: 51.1 | K17: 15247 | M17: =D17/J17 -> 0.96180659 | N17: =E17/K17 -> 1.0476453 | O17: =K17*P17 -> 15704.41 | P17: 1.03
B18: CHU05CH1825C4-573H5M3 | C18: 2250 | D18: 49.381016 | E18: 16462.981 | F18: 91.781729 | G18: 58.043564 | H18: 346 | J18: 51.1 | K18: 15773 | M18: =D18/J18 -> 0.9663604 | N18: =E18/K18 -> 1.0437445 | O18: =K18*P18 -> 16246.19 | P18: 1.03
J20: カタログ値 | M20: 比較(実績/カタログ値)
B21: 機種 | C21: IF(mA) | D21: VF(V) | E21: Φv(lm) | F21: Ra | G21: R9 | H21: N(pcs) | J21: VF[V] | K21: Φv[lm] | M21: RVF | N21: RΦv
B22: CHU05CH3618C4-30AL7M4 | C22: 1620 | D22: 100.89567 | E22: 26994.701 | F22: 72.225768 | G22: -35.543962 | H22: 573 | J22: 102.1 | K22: 25566 | M22: =D22/J22 -> 0.9882044 | N22: =E22/K22 -> 1.0558828 | O22: =K22*P22 -> 26588.64 | P22: 1.04
B23: CHU05CH3618C4-40AL7M4 | C23: 1620 | D23: 101.50067 | E23: 27995.83 | F23: 76.222091 | G23: -23.363241 | H23: 565 | J23: 102.1 | K23: 26278 | M23: =D23/J23 -> 0.99412994 | N23: =E23/K23 -> 1.0653714 | O23: =K23*P23 -> 27591.9 | P23: 1.05
B24: CHU05CH3618C4-50AL7M4 | C24: 1620 | D24: 101.35414 | E24: 27787.176 | F24: 76.941552 | G24: -20.927962 | H24: 5126 | J24: 102.1 | K24: 26615 | M24: =D24/J24 -> 0.99269481 | N24: =E24/K24 -> 1.0440419 | O24: =K24*P24 -> 27413.45 | P24: 1.03
B25: CHU05CH3618C4-273M2M2 | C25: 1620 | D25: 102.03774 | E25: 23504.515 | F25: 82.992937 | G25: 7.7764412 | H25: 459 | J25: 102.1 | K25: 23110 | M25: =D25/J25 -> 0.99939025 | N25: =E25/K25 -> 1.0170712 | O25: =K25*P25 -> 23341.1 | P25: 1.01
B26: CHU05CH3618C4-303M2M2 | C26: 1620 | D26: 102.49085 | E26: 23669.926 | F26: 84.23519 | G26: 12.020259 | H26: 2731 | J26: 102.1 | K26: 24137 | M26: =D26/J26 -> 1.0038281 | N26: =E26/K26 -> 0.98064906 | O26: =K26*P26 -> 23895.63 | P26: 0.99
B27: CHU05CH3618C4-403M2M2 | C27: 1620 | D27: 101.84748 | E27: 25245.837 | F27: 84.10637 | G27: 12.948962 | H27: 7338 | J27: 102.1 | K27: 24764 | M27: =D27/J27 -> 0.99752673 | N27: =E27/K27 -> 1.0194572 | O27: =K27*P27 -> 25011.64 | P27: 1.01
B28: CHU05CH3618C4-503M2M2 | C28: 1620 | D28: 101.44089 | E28: 25532.899 | F28: 84.230654 | G28: 13.553952 | H28: 238 | J28: 102.1 | K28: 25120 | M28: =D28/J28 -> 0.99354451 | N28: =E28/K28 -> 1.0164371 | O28: =K28*P28 -> 25371.2 | P28: 1.01
B29: CHU05CH3618C4-573M2M2 | C29: 1620 | D29: 101.98052 | E29: 25376.451 | F29: 84.316789 | G29: 15.25088 | H29: 220 | I29: 2017年 | J29: 102.1 | K29: 25371 | M29: =D29/J29 -> 0.99882973 | N29: =E29/K29 -> 1.0002148 | O29: =K29 -> 25371
B30: CHU05CH3618C4-653M2M2 | C30: 1620 | D30: 102.10601 | E30: 25509.877 | F30: 84.419836 | G30: 15.233507 | H30: 2608 | I30: 2017年 | J30: 102.1 | K30: 25573 | M30: =D30/J30 -> 1.0000589 | N30: =E30/K30 -> 0.99753167 | O30: =K30 -> 25573
B31: CHU05CH3618C4-273H5M3 | C31: 1620 | D31: 101.23712 | E31: 19650.534 | F31: 92.265556 | G31: 57.133241 | H31: 111 | I31: 2017年 | J31: 102.1 | K31: 19847 | M31: =D31/J31 -> 0.99154868 | N31: =E31/K31 -> 0.99010095 | O31: =K31 -> 19847
B32: CHU05CH3618C4-303H5M3 | C32: 1620 | D32: 102.13366 | E32: 20543.738 | F32: 93.16768 | G32: 60.404353 | H32: 206 | I32: 2017年 | J32: 102.1 | K32: 20681 | M32: =D32/J32 -> 1.0003297 | N32: =E32/K32 -> 0.99336291 | O32: =K32 -> 20681
B33: CHU05CH3618C4-353H5M3 | C33: 1620 | D33: 101.62504 | E33: 21682.491 | F33: 93.241665 | G33: 63.065312 | H33: 233 | I33: 2017年 | J33: 102.1 | K33: 20975 | M33: =D33/J33 -> 0.99534809 | N33: =E33/K33 -> 1.0337302 | O33: =K33*P33 -> 21394.5 | P33: 1.02
B34: CHU05CH3618C4-403H5M3 | C34: 1620 | D34: 101.56937 | E34: 22355.984 | F34: 92.687759 | G34: 65.076724 | H34: 117 | I34: 2017年 | J34: 102.1 | K34: 20998 | M34: =D34/J34 -> 0.99480285 | N34: =E34/K34 -> 1.0646721 | O34: =K34*P34 -> 22047.9 | P34: 1.05
B35: CHU05CH3618C4-573H5M3 | C35: 1620 | D35: 101.3159 | E35: 23211.473 | F35: 92.121952 | G35: 61.439653 | H35: 224 | I35: 2017年 | J35: 102.1 | K35: 21725 | M35: =D35/J35 -> 0.99232027 | N35: =E35/K35 -> 1.0684222 | O35: =K35*P35 -> 22811.25 | P35: 1.05

Sheet Tcスペック算出
B2: HI-ver.3の係数を暫定使用
B3: CLU7A2-1201C9
B4: Tc-VF係数 | C4: Tc-LM係数 | D4: IF-VF係数
B5: ='代表特性(C9)'!G4 -> 1.4850866e-06 | C5: ='代表特性(C9)'!F4 -> -1.892436e-10 | D5: -5.9143475e-07 | F5: 33.389741
B6: ='代表特性(C9)'!G5 -> -0.00073023959 | C6: ='代表特性(C9)'!F5 -> -6.5742638e-06 | D6: 0.00086339593
B7: ='代表特性(C9)'!G6 -> 1.0183321 | C7: ='代表特性(C9)'!F6 -> -0.0013026789 | D7: 0.92708499
C8: ='代表特性(C9)'!F7 -> 1.0374062
E9: 90 | M9: IF(x)-VF%(y)で算出
B10: S | C10: P | D10: Tj | E10: IF(mA) | F10: VF(V) | G10: Rjc(℃/W) | H10: Tc | I10: VF@Tc=25C | K10: φv@Tc=25C | M10: VF@Tc=25C
A11: =B11*C11 -> 12 | B11: =Calculation!C3 -> 12 | C11: 1 | D11: 85 | E11: =$E$9*C11 -> 90 | F11: 33.316968 | G11: 2.6 | H11: =D11-(E11*F11/1000*G11) -> 77.203829 | I11: =$B$5*H11^2+$B$6*H11+$B$7 -> 0.97080658 | J11: =F11/I11 -> 34.318853 | K11: =$C$5*H11^3+$C$6*H11^2+$C$7*H11+$C$8 -> 0.89756184 | M11: =(D$5*$E$9^2+D$6*$E$9+D$7)*J11 -> 34.318853
A12: =B12*C12 -> 24 | B12: =Calculation!C4 -> 12 | C12: 2 | D12: 85 | E12: =$E$9*C12 -> 180 | F12: 33.316915 | G12: 1.5 | H12: =D12-(E12*F12/1000*G12) -> 76.004433 | I12: =$B$5*H12^2+$B$6*H12+$B$7 -> 0.97140953 | J12: =F12/I12 -> 34.297496 | K12: =$C$5*H12^3+$C$6*H12^2+$C$7*H12+$C$8 -> 0.90033633 | M12: =(D$5*$E$9^2+D$6*$E$9+D$7)*J12 -> 34.297496
A13: =B13*C13 -> 36 | B13: =Calculation!C5 -> 12 | C13: 3 | D13: 85 | E13: =$E$9*C13 -> 270 | F13: 33.316915 | G13: 1 | H13: =D13-(E13*F13/1000*G13) -> 76.004433 | I13: =$B$5*H13^2+$B$6*H13+$B$7 -> 0.97140953 | J13: =F13/I13 -> 34.297496 | K13: =$C$5*H13^3+$C$6*H13^2+$C$7*H13+$C$8 -> 0.90033633 | M13: =(D$5*$E$9^2+D$6*$E$9+D$7)*J13 -> 34.297496
A14: =B14*C14 -> 48 | B14: =Calculation!C6 -> 12 | C14: 4 | D14: 85 | E14: =$E$9*C14 -> 360 | F14: 33.316854 | G14: 0.86 | H14: =D14-(E14*F14/1000*G14) -> 74.685102 | I14: =$B$5*H14^2+$B$6*H14+$B$7 -> 0.97207771 | J14: =F14/I14 -> 34.273859 | K14: =$C$5*H14^3+$C$6*H14^2+$C$7*H14+$C$8 -> 0.90336627 | M14: =(D$5*$E$9^2+D$6*$E$9+D$7)*J14 -> 34.273859
A15: =B15*C15 -> 60 | B15: =Calculation!C7 -> 12 | C15: 5 | D15: 85 | E15: =$E$9*C15 -> 450 | F15: 33.31686 | G15: 0.68 | H15: =D15-(E15*F15/1000*G15) -> 74.805041 | I15: =$B$5*H15^2+$B$6*H15+$B$7 -> 0.97201675 | J15: =F15/I15 -> 34.276014 | K15: =$C$5*H15^3+$C$6*H15^2+$C$7*H15+$C$8 -> 0.90309178 | M15: =(D$5*$E$9^2+D$6*$E$9+D$7)*J15 -> 34.276014
A16: =B16*C16 -> 72 | B16: =Calculation!C8 -> 12 | C16: 6 | D16: 85 | E16: =$E$9*C16 -> 540 | F16: 33.316824 | G16: 0.61 | H16: =D16-(E16*F16/1000*G16) -> 74.025438 | I16: =$B$5*H16^2+$B$6*H16+$B$7 -> 0.97241373 | J16: =F16/I16 -> 34.261984 | K16: =$C$5*H16^3+$C$6*H16^2+$C$7*H16+$C$8 -> 0.9048726 | M16: =(D$5*$E$9^2+D$6*$E$9+D$7)*J16 -> 34.261984
A17: =B17*C17 -> 96 | B17: =Calculation!C9 -> 12 | C17: 8 | D17: 85 | E17: =$E$9*C17 -> 720 | F17: 33.316799 | G17: 0.48 | H17: =D17-(E17*F17/1000*G17) -> 73.485714 | I17: =$B$5*H17^2+$B$6*H17+$B$7 -> 0.97268963 | J17: =F17/I17 -> 34.25224 | K17: =$C$5*H17^3+$C$6*H17^2+$C$7*H17+$C$8 -> 0.90610077 | M17: =(D$5*$E$9^2+D$6*$E$9+D$7)*J17 -> 34.25224
A18: =B18*C18 -> 120 | B18: =Calculation!C10 -> 12 | C18: 10 | D18: 85 | E18: =$E$9*C18 -> 900 | F18: 33.316774 | G18: 0.4 | H18: =D18-(E18*F18/1000*G18) -> 73.005961 | I18: =$B$5*H18^2+$B$6*H18+$B$7 -> 0.97293559 | J18: =F18/I18 -> 34.243556 | K18: =$C$5*H18^3+$C$6*H18^2+$C$7*H18+$C$8 -> 0.90718923 | M18: =(D$5*$E$9^2+D$6*$E$9+D$7)*J18 -> 34.243556
A19: =B19*C19 -> 132 | B19: =Calculation!C11 -> 12 | C19: 11 | D19: 85 | E19: =$E$9*C19 -> 990 | F19: 33.316782 | G19: 0.36 | H19: =D19-(E19*F19/1000*G19) -> 73.125899 | I19: =$B$5*H19^2+$B$6*H19+$B$7 -> 0.97287403 | J19: =F19/I19 -> 34.24573 | K19: =$C$5*H19^3+$C$6*H19^2+$C$7*H19+$C$8 -> 0.9069174 | M19: =(D$5*$E$9^2+D$6*$E$9+D$7)*J19 -> 34.24573
A20: =B20*C20 -> 144 | B20: =Calculation!C12 -> 12 | C20: 12 | D20: 85 | E20: =$E$9*C20 -> 1080 | F20: 33.316799 | G20: 0.32 | H20: =D20-(E20*F20/1000*G20) -> 73.485714 | I20: =$B$5*H20^2+$B$6*H20+$B$7 -> 0.97268963 | J20: =F20/I20 -> 34.25224 | K20: =$C$5*H20^3+$C$6*H20^2+$C$7*H20+$C$8 -> 0.90610077 | M20: =(D$5*$E$9^2+D$6*$E$9+D$7)*J20 -> 34.25224
A21: =B21*C21 -> 216 | B21: =Calculation!C13 -> 18 | C21: 12 | D21: 85 | E21: =$E$9*C21 -> 1080 | F21: 49.975096 | G21: 0.24 | H21: =D21-(E21*F21/1000*G21) -> 72.046455 | I21: =$B$5*H21^2+$B$6*H21+$B$7 -> 0.97342957 | J21: =F21/I21 -> 51.339201 | K21: =$C$5*H21^3+$C$6*H21^2+$C$7*H21+$C$8 -> 0.90935702 | M21: =(D$5*$E$9^2+D$6*$E$9+D$7)*J21 -> 51.339201
A22: =B22*C22 -> 324 | B22: =Calculation!C14 -> 18 | C22: 18 | D22: 85 | E22: =$E$9*C22 -> 1620 | F22: 49.975096 | G22: 0.16 | H22: =D22-(E22*F22/1000*G22) -> 72.046455 | I22: =$B$5*H22^2+$B$6*H22+$B$7 -> 0.97342957 | J22: =F22/I22 -> 51.339201 | K22: =$C$5*H22^3+$C$6*H22^2+$C$7*H22+$C$8 -> 0.90935702 | M22: =(D$5*$E$9^2+D$6*$E$9+D$7)*J22 -> 51.339201
... A24: =B24*C24 -> 648 | B24: =Calculation!C16 -> 36 | C24: 18 | D24: 85 | E24: =$E$9*C24 -> 1620 | F24: 99.950396 | G24: 0.095 | H24: =D24-(E24*F24/1000*G24) -> 69.617634 | I24: =$B$5*H24^2+$B$6*H24+$B$7 -> 0.9746922 | J24: =F24/I24 -> 102.5456 | K24: =$C$5*H24^3+$C$6*H24^2+$C$7*H24+$C$8 -> 0.91478997 | M24: =(D$5*$E$9^2+D$6*$E$9+D$7)*J24 -> 102.5456
A26: =B26*C26 -> 192 | B26: 12 | C26: 16 | D26: 85 | E26: =$E$9*C26 -> 1440 | F26: =F20 -> 33.316799 | G26: =G43*A26^-H43 -> 0.26140511 | H26: =D26-(E26*F26/1000*G26) -> 72.458779 | I26: =$B$5*H26^2+$B$6*H26+$B$7 -> 0.97321696 | J26: =F26/I26 -> 34.233681 | K26: =$C$5*H26^3+$C$6*H26^2+$C$7*H26+$C$8 -> 0.90842696 | M26: =(D$5*$E$9^2+D$6*$E$9+D$7)*J26 -> 34.233681
G43: 20.953305 | H43: 0.83385339

Sheet 熱抵抗
B3: Ver.6 Ver.8 熱抵抗測定
C5: Tc(℃) | D5: IF(mA) | E5: VF(V) | F5: W | G5: 熱抵抗(℃/W) | H5: Tj(℃）
B6: Ver.6 ① | C6: 25 | D6: 230 | E6: 39.41 | F6: =E6*0.23 -> 9.0643 | G6: 1.378 | H6: =C6+F6*G6 -> 37.490605 | K6: 140 | M6: Tj | N6: =K6 -> 140
B7: Ver.6 ① | C7: 110 | E7: 37.55 | F7: =E7*0.23 -> 8.6365 | G7: 2.164 | H7: =C7+F7*G7 -> 128.68939 | J7: =FORECAST($K$6,G6:G7,H6:H7) -> 2.2614809 | M7: v6 | N7: =AVERAGE(J7,J9) -> 2.2266755
B8: Ver.6 ② | C8: 25 | E8: 39.49 | F8: =E8*0.23 -> 9.0827 | G8: 1.329 | H8: =C8+F8*G8 -> 37.070908 | M8: v8 | N8: =AVERAGE(J11,J13) -> 2.2274579
B9: Ver.6 ② | C9: 110 | E9: 37.59 | F9: =E9*0.23 -> 8.6457 | G9: 2.092 | H9: =C9+F9*G9 -> 128.0868 | J9: =FORECAST($K$6,G8:G9,H8:H9) -> 2.1918701 | M9: ※熱抵抗は変わらない
B10: Ver.8 ① | C10: 25 | E10: 38.09 | F10: =E10*0.23 -> 8.7607 | G10: 1.189 | H10: =C10+F10*G10 -> 35.416472
B11: Ver.8 ① | C11: 110 | E11: 37.33 | F11: =E11*0.23 -> 8.5859 | G11: 2.011 | H11: =C11+F11*G11 -> 127.26624 | J11: =FORECAST($K$6,G10:G11,H10:H11) -> 2.1249594
B12: Ver.8 ② | C12: 25 | E12: 37.85 | F12: =E12*0.23 -> 8.7055 | G12: 1.282 | H12: =C12+F12*G12 -> 36.160451
B13: Ver.8 ② | C13: 110 | E13: 36.35 | F13: =E13*0.23 -> 8.3605 | G13: 2.214 | H13: =C13+F13*G13 -> 128.51015 | J13: =FORECAST($K$6,G12:G13,H12:H13) -> 2.3299565

Sheet 代表特性(C9)
C3: IF-Φv | D3: Φv-IF | E3: IF-VF | F3: Tc-Φv | G3: Tc-VF
B4: a | C4: 4.4787832e-09 | D4: 1.7512959 | E4: -5.899669e-07 | F4: -1.892436e-10 | G4: 1.4850866e-06
B5: b | C5: -1.0230406e-05 | D5: 2.7174384 | E5: 0.0008612531 | F5: -6.5742638e-06 | G5: -0.00073023959
B6: c | C6: 0.011940919 | D6: 87.009531 | E6: 0.92478999 | F6: -0.0013026789 | G6: 1.0183321
B7: d | C7: 0.0035900528 | D7: -1.2203543 | F7: 1.0374062

Sheet 最大定格
B3: ディレーティング(暫定)
C5: CLU7B2-0701C4 | J5: CLU7A2-1201C9 | Q5: CLU702-1202C9 | X5: CLU712-1204C9
C6: Tc[℃] | D6: IF[mA] | J6: Tc[℃] | K6: IF[mA] | Q6: Tc[℃] | R6: IF[mA] | X6: Tc[℃] | Y6: IF[mA]
C7: 0 | D7: 350 | J7: 0 | K7: 350 | Q7: 0 | R7: =K7*2 -> 700 | X7: 0 | Y7: =K7*4 -> 1400
C8: 85 | D8: 350 | F8: 傾き | G8: =SLOPE(D8:D9,C8:C9) -> -6 | J8: 85 | K8: 350 | M8: 傾き | N8: =SLOPE(K8:K9,J8:J9) -> -6 | Q8: 65 | R8: =K8*2 -> 700 | T8: 傾き | U8: =SLOPE(R8:R9,Q8:Q9) -> -6 | X8: 65 | Y8: =K8*4 -> 1400 | AA8: 傾き | AB8: =SLOPE(Y8:Y9,X8:X9) -> -12
C9: 105 | D9: 230 | F9: 切片 | G9: =INTERCEPT(D8:D9,C8:C9) -> 860 | J9: 105 | K9: 230 | M9: 切片 | N9: =INTERCEPT(K8:K9,J8:J9) -> 860 | Q9: 105 | R9: =K9*2 -> 460 | T9: 切片 | U9: =INTERCEPT(R8:R9,Q8:Q9) -> 1090 | X9: 105 | Y9: =K9*4 -> 920 | AA9: 切片 | AB9: =INTERCEPT(Y8:Y9,X8:X9) -> 2180
C10: 105 | D10: 0 | J10: 105 | K10: 0 | Q10: 105 | R10: =K10*2 -> 0 | X10: 105 | Y10: =K10*4 -> 0

Sheet 初期特性
S1: CW23, 2018.5
D2: Chip | E2: Lot | F2: VF | I2: VL | L2: λd
B3: VF | C3: Φv | F3: Max | G3: Ave | H3: Min | I3: Max | J3: Ave | K3: Min | L3: Max | M3: Ave | N3: Min
B4: =G4/G5 -> 1.0066445 | C4: =(1-(J4/J5))/2 -> 0.0051059693 | D4: CW23(C4) | E4: 量産実力 | F4: - | G4: 3.03 | H4: - | I4: - | J4: 102837 | K4: - | L4: - | N4: -
E5: 181B00R50S | F5: 3.05 | G5: 3.01 | H5: 2.97 | I5: 109424 | J5: 103898 | K5: 95641 | L5: 457 | M5: 456.5 | N5: 456
B6: =G6/G7 -> 0.99808039 | C6: =(1-(J6/J7))/2 -> 0.0067544366 | D6: CW28(C9) | E6: 量産実力 | F6: - | G6: 2.957413 | H6: - | I6: - | J6: 88628.03 | K6: - | L6: - | N6: -
E7: 181R05I00S | F7: 2.979 | G7: 2.963101 | H7: 2.925 | I7: 93191 | J7: 89841.69 | K7: 81979 | L7: 455.99 | M7: 455.4227 | N7: 455
D9: Tc=25℃
D10: CCT(K) | E10: Ra | F10: Version. | G10: 蛍光体配置 | H10: IF(mA) | I10: VF(V) | J10: Φv(lm) | K10: lm/W | L10: x | M10: y | N10: Ra | O10: R9 | P10: RΦv | Q10: Rlm/W | S10: n
D11: 5000 | E11: 80 | F11: 6 | G11: 半沈降 | H11: 90 | I11: 35.135638 | J11: 544.31974 | K11: =J11/(H11*I11/1000) -> 172.13284 | L11: 0.34405752 | M11: 0.35078866 | N11: 84.12275 | O11: 15.042907 | P11: =J11/J$11 -> 1 | Q11: =K11/K$11 -> 1 | S11: 26
F12: 8 | G12: 分散 | H12: 90 | I12: 34.63343 | J12: 553.27295 | K12: =J12/(H12*I12/1000) -> 177.50126 | L12: 0.34856413 | M12: 0.35690262 | N12: 83.563048 | O12: 11.791188 | P12: =J12/J$11 -> 1.0164484 | Q12: =K12/K$11 -> 1.0311876 | S12: 19
D13: 3000 | E13: 80 | F13: 6 | G13: 半沈降 | H13: 90 | I13: 35.11984 | J13: 520.69298 | K13: =J13/(H13*I13/1000) -> 164.7353 | L13: 0.43327519 | M13: 0.39965983 | N13: 84.19995 | O13: 12.544102 | P13: =J13/J$13 -> 1 | Q13: =K13/K$13 -> 1 | S13: 27
F14: 8 | G14: 沈降 | H14: 90 | I14: 34.50632 | J14: 526.06373 | K14: =J14/(H14*I14/1000) -> 169.39368 | L14: 0.4347091 | M14: 0.40540415 | N14: 83.798683 | O14: 9.7820904 | P14: =J14/J$13 -> 1.0103146 | Q14: =K14/K$13 -> 1.028278
F15: 8 | G15: 分散 | H15: 90 | I15: 34.619911 | J15: 537.18286 | K15: =J15/(H15*I15/1000) -> 172.40652 | L15: 0.43520202 | M15: 0.40542348 | N15: 82.640168 | O15: 6.5561615 | P15: =J15/J$13 -> 1.0316691 | Q15: =K15/K$13 -> 1.0465669 | S15: 32
D16: 5000 | E16: 90 | F16: 6 | G16: 半沈降 | H16: 90 | I16: 34.888395 | J16: 492.46202 | K16: =J16/(H16*I16/1000) -> 156.83726 | L16: 0.34517969 | M16: 0.35313045 | N16: 91.288735 | O16: 59.319675 | P16: =J16/J$16 -> 1 | Q16: =K16/K$16 -> 1 | S16: 28
F17: 8 | G17: 分散 | H17: 90 | I17: 34.699359 | J17: 502.02039 | K17: =J17/(H17*I17/1000) -> 160.75237 | L17: 0.34780335 | M17: 0.3548927 | N17: 89.919674 | O17: 57.251763 | P17: =J17/J$16 -> 1.0194093 | Q17: =K17/K$16 -> 1.0249629
D18: 3000 | E18: 90 | F18: 6 | G18: 半沈降 | H18: 90 | I18: 35.061204 | J18: 446.76382 | K18: =J18/(H18*I18/1000) -> 141.5822 | L18: 0.43386515 | M18: 0.40083027 | N18: 94.086513 | O18: 65.762814 | P18: =J18/J$18 -> 1 | Q18: =K18/K$18 -> 1 | S18: 27
F19: 8 | G19: 沈降 | H19: 90 | I19: 34.540985 | J19: 455.96534 | K19: =J19/(H19*I19/1000) -> 146.6745 | L19: 0.43344139 | M19: 0.40251261 | N19: 94.331766 | O19: 65.297065 | P19: =J19/J$18 -> 1.0205959 | Q19: =K19/K$18 -> 1.035967
F20: 8 | G20: 分散 | H20: 90 | I20: 34.491502 | J20: 451.64793 | K20: =J20/(H20*I20/1000) -> 145.49411 | L20: 0.42760493 | M20: 0.40224123 | N20: 96.747865 | O20: 73.804268 | P20: =J20/J$18 -> 1.0109322 | Q20: =K20/K$18 -> 1.0276299
H21: v6 | I21: =AVERAGE(I11,I13,I16,I18)*B4 -> 35.284168 | J21: ←量産実力値に補正
D22: 補正後 | E22: ※左積分球 | H22: v8 | I22: =AVERAGE(I12,I14:I15,I17,I20) -> 34.590104
D23: Tc=25℃ | N23: ※Ra調整：1%＠Ra1
C24: 0.90076765 | D24: CCT(K) | E24: Ra | F24: Version. | G24: 蛍光体配置 | H24: IF(mA) | I24: VF(V) | J24: Φv(lm) | K24: lm/W | L24: x | M24: y | N24: Ra | O24: R9 | P24: RΦv | Q24: Rlm/W | S24: 量産実力 | T24: Selector_1.5 | U24: 評価品
D25: 5000 | E25: 80 | F25: 6 | G25: 半沈降 | H25: 90 | I25: =$I$21 -> 35.284168 | J25: =J11 -> 544.31974 | K25: =J25/(H25*I25/1000) -> 171.40824 | L25: =L11 -> 0.34405752 | M25: =M11 -> 0.35078866 | N25: =N11 -> 84.12275 | O25: =O11 -> 15.042907 | P25: =J25/J$25 -> 1 | Q25: =K25/K$25 -> 1 | S25: =W25/$AA$25 -> 539.38892 | T25: 541 | U25: =J25 -> 544.31974 | W25: 485.86409 | X25: 83.599274 | Y25: 11.831742 | AA25: 0.90076765
C26: =J26*$C$24 -> 495.58099 | F26: 8 | G26: 分散 | H26: 90 | I26: =$I$22 -> 34.590104 | J26: =J12*(1+(N12-N11)/100) -> 550.17627 | K26: =J26/(H26*I26/1000) -> 176.72886 | L26: =L12 -> 0.34856413 | M26: =M12 -> 0.35690262 | N26: =N25 -> 84.12275 | P26: =J26/J$25 -> 1.0107594 | Q26: =K26/K$25 -> 1.0310406
D27: 3000 | E27: 80 | F27: 6 | G27: 半沈降 | H27: 90 | I27: =$I$21 -> 35.284168 | J27: =J13 -> 520.69298 | K27: =J27/(H27*I27/1000) -> 163.96809 | L27: =L13 -> 0.43327519 | M27: =M13 -> 0.39965983 | N27: =N13 -> 84.19995 | O27: =O13 -> 12.544102 | P27: =J27/J$27 -> 1 | Q27: =K27/K$27 -> 1 | S27: =W27/$AA$25 -> 514.47318 | T27: 520 | U27: =J27 -> 520.69298 | W27: 463.42079 | X27: 84.291114 | Y27: 12.217427
F28: 8 | G28: 沈降 | H28: 90 | I28: =$I$22 -> 34.590104 | J28: =J14*(1+(N14-N13)/100) -> 523.95281 | K28: =J28/(H28*I28/1000) -> 168.3053 | L28: =L14 -> 0.4347091 | M28: =M14 -> 0.40540415 | N28: =N27 -> 84.19995 | P28: =J28/J$27 -> 1.0062606 | Q28: =K28/K$27 -> 1.0264516
C29: =J29*$C$24 -> 476.32951 | F29: 8 | G29: 分散 | H29: 90 | I29: =$I$22 -> 34.590104 | J29: =J15*(1+(N15-N13)/100) -> 528.80397 | K29: =J29/(H29*I29/1000) -> 169.8636 | L29: =L15 -> 0.43520202 | M29: =M15 -> 0.40542348 | N29: =N27 -> 84.19995 | P29: =J29/J$27 -> 1.0155773 | Q29: =K29/K$27 -> 1.0359552
D30: 5000 | E30: 90 | F30: 6 | G30: 半沈降 | H30: 90 | I30: =$I$21 -> 35.284168 | J30: =J16 -> 492.46202 | K30: =J30/(H30*I30/1000) -> 155.07806 | L30: =L16 -> 0.34517969 | M30: =M16 -> 0.35313045 | N30: =N16 -> 91.288735 | O30: =O16 -> 59.319675 | P30: =J30/J$30 -> 1 | Q30: =K30/K$30 -> 1
F31: 8 | G31: 分散 | H31: 90 | I31: =$I$22 -> 34.590104 | J31: =J17*(1+(N17-N16)/100) -> 495.14742 | K31: =J31/(H31*I31/1000) -> 159.05237 | L31: =L17 -> 0.34780335 | M31: =M17 -> 0.3548927 | N31: =N30 -> 91.288735 | P31: =J31/J$30 -> 1.005453 | Q31: =K31/K$30 -> 1.0256278
D32: 3000 | E32: 90 | F32: 6 | G32: 半沈降 | H32: 90 | I32: =$I$21 -> 35.284168 | J32: =J18 -> 446.76382 | K32: =J32/(H32*I32/1000) -> 140.68753 | L32: =L18 -> 0.43386515 | M32: =M18 -> 0.40083027 | N32: =N18 -> 94.086513 | O32: =O18 -> 65.762814 | P32: =J32/J$32 -> 1 | Q32: =K32/K$32 -> 1 | S32: =W32/$AA$25 -> 451.61317 | T32: 445 | U32: =J32 -> 446.76382 | W32: 406.79854 | X32: 92.693149 | Y32: 58.761166
F33: 8 | G33: 沈降 | H33: 90 | I33: =$I$22 -> 34.590104 | J33: =J19*(1+(N19-N18)/100) -> 457.08361 | K33: =J33/(H33*I33/1000) -> 146.82542 | L33: =L19 -> 0.43344139 | M33: =M19 -> 0.40251261 | N33: =N32 -> 94.086513 | P33: =J33/J$32 -> 1.023099 | Q33: =K33/K$32 -> 1.0436278
B34: 沈む | C34: =J34*$C$24 -> 417.65702 | F34: 8 | G34: 分散 | H34: 90 | I34: =$I$22 -> 34.590104 | J34: =J20*(1+(N20-N18)/100) -> 463.66787 | K34: =J34/(H34*I34/1000) -> 148.94044 | L34: =L20 -> 0.42760493 | M34: =M20 -> 0.40224123 | N34: =N32 -> 94.086513 | P34: =J34/J$32 -> 1.0378366 | Q34: =K34/K$32 -> 1.0586612
O36: Ave | P36: =AVERAGE(P26,P29,P31,P34) -> 1.0174066 | Q36: =AVERAGE(Q26,Q29,Q31,Q34) -> 1.0378212
L37: v6 | M37: v8
D38: 項目 | E38: 結果 | F38: リンク | G38: 備考 | K38: Al | L38: MS17CoM | M38: VLB-O98
D39: 基板反射率 | E39: 問題無し | F39: ● | K39: Chip | L39: CW23 | M39: CW28
D40: 素子性能差 | E40: CW23 vs CW28 全光束差0% (試算上は2%) | F40: ● | G40: n増し評価 | K40: 蛍光体 | L40: v6 | M40: v8
K41: 蛍光体配置 | L41: 半沈降 | M41: 分散

Sheet ディレーティング(最終)
A1: 1201 | G1: 1202 | M1: 1203 | S1: 1204
A2: Tc | B2: ver.6 | C2: Tc | D2: ver.7 S | E2: Tc | F2: ver.7 P | G2: Tc | H2: ver.6 | I2: Tc | J2: ver.7 S | K2: Tc | L2: ver.7 P | M2: Tc | N2: ver.6 | O2: Tc | P2: ver.7 S | Q2: Tc | R2: ver.7 P | S2: Tc | T2: ver.6 | U2: Tc | V2: ver.7 S | W2: Tc | X2: ver.7 P | Z2: セレクターディレーティング傾き&切片
A3: 0 | B3: 230 | C3: 0 | D3: 280 | E3: 0 | F3: 180 | G3: 0 | H3: 230 | I3: 0 | J3: 280 | K3: 0 | L3: 360 | M3: 0 | N3: 230 | O3: 0 | P3: 280 | Q3: 0 | R3: 540 | S3: 0 | T3: 230 | U3: 0 | V3: 180 | W3: 0 | X3: 720 | Z3: 1201 | AA3: =SLOPE(F4:F5,E4:E5) -> #DIV/0! | AB3: =INTERCEPT(F4:F5,E4:E5) -> #DIV/0!
A4: 120 | B4: 230 | C4: 105 | D4: 280 | E4: 105 | F4: 180 | G4: 120 | H4: 230 | I4: 105 | J4: 280 | K4: 105 | L4: 360 | M4: 119.68941 | N4: 230 | O4: 105 | P4: 280 | Q4: 105 | R4: 540 | S4: 104.84692 | T4: 230 | U4: 105 | V4: 180 | W4: 105 | X4: 720 | Z4: 1202 | AA4: =SLOPE(L4:L5,K4:K5) -> #DIV/0! | AB4: =INTERCEPT(L4:L5,K4:K5) -> #DIV/0!
A5: 120 | B5: 230 | C5: 105 | D5: 280 | E5: 105 | F5: 180 | G5: 120 | H5: 230 | I5: 105 | J5: 280 | K5: 105 | L5: 360 | M5: 120 | N5: 227.64319 | O5: 105 | P5: 280 | Q5: 105 | R5: 540 | S5: 120 | T5: 152.81351 | U5: 105 | V5: 180 | W5: 105 | X5: 720 | Z5: 1203 | AA5: =SLOPE(R4:R5,Q4:Q5) -> #DIV/0! | AB5: =INTERCEPT(R4:R5,Q4:Q5) -> #DIV/0!
A6: 120 | B6: 0 | C6: 105 | D6: 0 | E6: 105 | F6: 0 | G6: 120 | H6: 0 | I6: 105 | J6: 0 | K6: 105 | L6: 0 | M6: 120 | N6: 0 | O6: 105 | P6: 0 | Q6: 105 | R6: 0 | S6: 120 | T6: 0 | U6: 105 | V6: 0 | W6: 105 | X6: 0 | Z6: 1204 | AA6: =SLOPE(X4:X5,W4:W5) -> #DIV/0! | AB6: =INTERCEPT(X4:X5,W4:W5) -> #DIV/0!
Z7: 1205 | AA7: =SLOPE(F20:F21,E20:E21) -> #DIV/0! | AB7: =INTERCEPT(F20:F21,E20:E21) -> #DIV/0!
Z8: 1206 | AA8: =SLOPE(L20:L21,K20:K21) -> #DIV/0! | AB8: =INTERCEPT(L20:L21,K20:K21) -> #DIV/0!
Z9: 1208 | AA9: =SLOPE(R20:R21,Q20:Q21) -> #DIV/0! | AB9: =INTERCEPT(R20:R21,Q20:Q21) -> #DIV/0!
Z10: 1210 | AA10: =SLOPE(X20:X21,W20:W21) -> -18.369498 | AB10: =INTERCEPT(X20:X21,W20:W21) -> 3579.6288
Z11: 1211 | AA11: =SLOPE(F36:F37,E36:E37) -> #DIV/0! | AB11: =INTERCEPT(F36:F37,E36:E37) -> #DIV/0!
Z12: 1212 | AA12: =SLOPE(L36:L37,K36:K37) -> #DIV/0! | AB12: =INTERCEPT(L36:L37,K36:K37) -> #DIV/0!
Z13: 1812 | AA13: =SLOPE(X36:X37,W36:W37) -> #DIV/0! | AB13: =INTERCEPT(X36:X37,W36:W37) -> #DIV/0!
Z14: 1818 | AA14: =SLOPE(F52:F53,E52:E53) -> -26.222297 | AB14: =INTERCEPT(F52:F53,E52:E53) -> 5143.4648
Z15: 1825 | AA15: =SLOPE(L52:L53,K52:K53) -> -49.162145 | AB15: =INTERCEPT(L52:L53,K52:K53) -> 9564.2426
Z16: 3618 | AA16: =SLOPE(R52:R53,Q52:Q53) -> -23.997579 | AB16: =INTERCEPT(R52:R53,Q52:Q53) -> 4720.8546
A17: 1205 | G17: 1206 | M17: 1208 | S17: 1210
A18: Tc | B18: ver.6 | C18: Tc | D18: ver.7 S | E18: Tc | F18: ver.7 P | G18: Tc | H18: ver.6 | I18: Tc | J18: ver.7 S | K18: Tc | L18: ver.7 P | M18: Tc | N18: ver.6 | O18: Tc | P18: ver.7 S | Q18: Tc | R18: ver.7 P | S18: Tc | T18: ver.6 | U18: Tc | V18: ver.7 S | W18: Tc | X18: ver.7 P
A19: 0 | B19: 230 | C19: 0 | D19: 180 | E19: 0 | F19: 900 | G19: 0 | H19: 230 | I19: 0 | J19: 180 | K19: 0 | L19: 1080 | M19: 0 | N19: 230 | O19: 0 | P19: 180 | Q19: 0 | R19: 1440 | S19: 0 | T19: 230 | U19: 0 | V19: 180 | W19: 0 | X19: 1800 | Y19: 4 | Z19: 350 | AA19: 3.4 | AB19: =13.5*13.5 -> 182.25 | AC19: =Z19*Y19*AA19*X19/1000/AB19 -> 47.012346
A20: 120 | B20: 230 | C20: 105 | D20: 180 | E20: 105 | F20: 900 | G20: 119.2577 | H20: 230 | I20: 105 | J20: 180 | K20: 105 | L20: 1080 | M20: 104.27131 | N20: 230 | O20: 105 | P20: 180 | Q20: 105 | R20: 1440 | S20: 89.284929 | T20: 230 | U20: 105 | V20: 180 | W20: 96.879557 | X20: 1800 | Y20: 10 | Z20: 277 | AA20: 3.4 | AB20: =19*19 -> 361 | AC20: =Z20*Y20*AA20*X20/1000/AB20 -> 46.959557
A21: 120 | B21: 230 | C21: 105 | D21: 180 | E21: 105 | F21: 900 | G21: 120 | H21: 224.44645 | I21: 105 | J21: 180 | K21: 105 | L21: 1080 | M21: 120 | N21: 150.88997 | O21: 105 | P21: 180 | Q21: 105 | R21: 1440 | S21: 120 | T21: 113.64559 | U21: 105 | V21: 180 | W21: 105 | X21: 1650.8315 | Y21: 18 | Z21: 230 | AA21: 3.4 | AB21: =28*28 -> 784 | AC21: =Z21*Y21*AA21*X21/1000/AB21 -> 29.639164
A22: 120 | B22: 0 | C22: 105 | D22: 0 | E22: 105 | F22: 0 | G22: 120 | H22: 0 | I22: 105 | J22: 0 | K22: 105 | L22: 0 | M22: 120 | N22: 0 | O22: 105 | P22: 0 | Q22: 105 | R22: 0 | S22: 120 | T22: 0 | U22: 105 | V22: 0 | W22: 105 | X22: 0
Z23: ◆算出条件
Z24: VF/die | AA24: 2.9898954 | AB24: ※IF定格&Tc=25C | AD24: 1201-1203 Ifmax UP分
Z25: IF max/die | AA25: 180 | AD25: 100
Z26: Tc max | AA26: 105
Z27: Tj max | AA27: 140
Z28: 樹脂温度Max | AA28: 205
Z29: 樹脂温度マージン | AA29: 1
Z30: Rjc | AA30: 1 | AB30: ←ver6からの低減率
A33: 1211 | G33: 1212 | M33: 1216 | S33: 1812
A34: Tc | B34: ver.6 | C34: Tc | D34: ver.7 S | E34: Tc | F34: ver.7 P | G34: Tc | H34: ver.6 | I34: Tc | J34: ver.7 S | K34: Tc | L34: ver.7 P | M34: Tc | N34: ver.6 | O34: Tc | P34: ver.7 S | Q34: Tc | R34: ver.7 P | S34: Tc | T34: ver.6 | U34: Tc | V34: ver.7 S | W34: Tc | X34: ver.7 P
A35: 0 | B35: 230 | C35: 0 | D35: 180 | E35: 0 | F35: 1980 | G35: 0 | H35: 230 | I35: 0 | J35: 180 | K35: 0 | L35: 2160 | M35: 0 | N35: 230 | O35: 0 | P35: 180 | Q35: 0 | R35: 2880 | S35: 0 | T35: 230 | U35: 0 | V35: 180 | W35: 0 | X35: 2160
A36: 120 | B36: 230 | C36: 105 | D36: 180 | E36: 105 | F36: 1980 | G36: 120 | H36: 230 | I36: 105 | J36: 180 | K36: 105 | L36: 2160 | M36: 109.01191 | N36: 230 | O36: 105 | P36: 180 | Q36: 105 | R36: 2880 | S36: 102.11129 | T36: 230 | U36: 105 | V36: 180 | W36: 105 | X36: 2160
A37: 120 | B37: 230 | C37: 105 | D37: 180 | E37: 105 | F37: 1980 | G37: 120 | H37: 230 | I37: 105 | J37: 180 | K37: 105 | L37: 2160 | M37: 120 | N37: 168.34157 | O37: 105 | P37: 180 | Q37: 105 | R37: 2880 | S37: 120 | T37: 144.08406 | U37: 105 | V37: 180 | W37: 105 | X37: 2160
A38: 120 | B38: 0 | C38: 105 | D38: 0 | E38: 105 | F38: 0 | G38: 120 | H38: 0 | I38: 105 | J38: 0 | K38: 105 | L38: 0 | M38: 120 | N38: 0 | O38: 105 | P38: 0 | Q38: 105 | R38: 0 | S38: 120 | T38: 0 | U38: 105 | V38: 0 | W38: 105 | X38: 0
A49: 1818 | G49: 1825 | M49: 3618
A50: Tc | B50: ver.6 | C50: Tc | D50: ver.7 S | E50: Tc | F50: ver.7 P | G50: Tc | H50: ver.6 | I50: Tc | J50: ver.7 S | K50: Tc | L50: ver.7 P | M50: Tc | N50: ver.6 | O50: Tc | P50: ver.7 S | Q50: Tc | R50: ver.7 P
A51: 0 | B51: 230 | C51: 0 | D51: 180 | E51: 0 | F51: 3240 | G51: 0 | H51: 230 | I51: 0 | J51: 180 | K51: 0 | L51: 4500 | M51: 0 | N51: 230 | O51: 0 | P51: 180 | Q51: 0 | R51: 3240
A52: 71.058501 | B52: 230 | C52: 105 | D52: 180 | E52: 72.589551 | F52: 3240 | G52: 93.968174 | H52: 230 | I52: 105 | J52: 180 | K52: 103.01102 | L52: 4500 | M52: 63.058753 | N52: 230 | O52: 105 | P52: 180 | Q52: 61.708497 | R52: 3240
A53: 120 | B53: 87.406499 | C53: 105 | D53: 180 | E53: 105 | F53: 2390.1236 | G53: 120 | H53: 123.1443 | I53: 105 | J53: 180 | K53: 105 | L53: 4402.2174 | M53: 120 | N53: 79.363941 | O53: 105 | P53: 180 | Q53: 105 | R53: 2201.1087
A54: 120 | B54: 0 | C54: 105 | D54: 0 | E54: 105 | F54: 0 | G54: 120 | H54: 0 | I54: 105 | J54: 0 | K54: 105 | L54: 0 | M54: 120 | N54: 0 | O54: 105 | P54: 0 | Q54: 105 | R54: 0

Sheet 蛍光体UP率
B1: ver.6 光束UP率(vs. ver.5) | I1: *nano 0.5%添加 | K1: ver.7 光束UP率(vs. ver.6)
B3: CRI | C3: 2700K | D3: 3000K | E3: 3500K | F3: 4000K | G3: 5000K | H3: 5700K | I3: 6500K | K3: CRI | L3: 2700K | M3: 3000K | N3: 3500K | O3: 4000K | P3: 5000K | Q3: 5700K | R3: 6500K
B4: 70 | D4: 0.01 | F4: 0.005 | G4: 0 | K4: 70 | M4: 0 | O4: 0.005 | P4: 0.005
B5: 80 | C5: 0.01 | D5: 0.01 | E5: 0.005 | F5: 0.005 | G5: 0 | H5: 0 | I5: 0 | K5: 80 | L5: 0 | M5: 0 | N5: 0.005 | O5: 0.005 | P5: 0.01 | Q5: 0.01 | R5: 0.01
B6: On_90 | C6: 0.05 | D6: 0.045 | E6: 0.04 | F6: 0.03 | G6: 0.02 | H6: 0.01 | K6: On_90 | L6: 0.02 | M6: 0.015 | N6: 0.01 | O6: 0.005 | P6: 0.005 | Q6: 0 | R6: 0
B7: Below_90 | C7: =C6 -> 0.05 | D7: =D6 -> 0.045 | E7: =E6 -> 0.04 | F7: =F6 -> 0.03 | G7: 0.02 | H7: 0.01 | K7: Below_90 | L7: =L6 -> 0.02 | M7: =M6 -> 0.015 | N7: =N6 -> 0.01 | O7: =O6 -> 0.005 | P7: =P6 -> 0.005 | Q7: =Q6 -> 0 | R7: =R6 -> 0
B8: 97 | C8: 0.03 | D8: 0.03 | F8: 0.02 | K8: 97 | L8: 0.025 | M8: 0.025 | O8: 0.015
I9: ※2016.7.7時点 | R9: ※2017.9.6時点
R10: 赤字のみ確認、その他推測
B11: VFは-1.7%
B13: 効率2~7%UP | K13: ver.7 光束UP率(vs. ver.5)
B14: Ra80 3%程度、Ra90 6~8%程度
B15: 熱抵抗5%down | K15: CRI | L15: 2700K | M15: 3000K | N15: 3500K | O15: 4000K | P15: 5000K | Q15: 5700K | R15: 6500K
K16: 70 | M16: =D4+M4 -> 0.01 | O16: =F4+O4 -> 0.01 | P16: =G4+P4 -> 0.005
K17: 80 | L17: =C5+L5 -> 0.01 | M17: =D5+M5 -> 0.01 | N17: =E5+N5 -> 0.01 | O17: =F5+O5 -> 0.01 | P17: =G5+P5 -> 0.01 | Q17: =H5+Q5 -> 0.01 | R17: =I5+R5 -> 0.01
K18: On_90 | L18: =C6+L6 -> 0.07 | M18: =D6+M6 -> 0.06 | N18: =E6+N6 -> 0.05 | O18: =F6+O6 -> 0.035 | P18: =G6+P6 -> 0.025 | Q18: =H6+Q6 -> 0.01
K19: Below_90 | L19: =C7+L7 -> 0.07 | M19: =D7+M7 -> 0.06 | N19: =E7+N7 -> 0.05 | O19: =F7+O7 -> 0.035 | P19: =G7+P7 -> 0.025 | Q19: =H7+Q7 -> 0.01
K20: 97 | L20: =C8+L8 -> 0.055 | M20: =D8+M8 -> 0.055 | O20: =F8+O8 -> 0.035
