Workbook

Sheet Simulator
B6: CCT | C6: 1 | D6: 1 | E6: 2 | G6: 350 | H6: =VLOOKUP(E6,Calculation!A26:I27,9,FALSE) -> mA | J6: Tc (C) | L6: 67.453336
B9: Product code | E9: =VLOOKUP($E6,Calculation!A26:I27,3,FALSE) -> φv (lm) | G9: =VLOOKUP($E6,Calculation!A26:I27,4,FALSE) -> Vf (V) | I9: =VLOOKUP($E6,Calculation!A26:I27,7,FALSE) -> Pd (W) | K9: =VLOOKUP($E6,Calculation!A26:I27,8,FALSE) -> lm/W | M9: Tj (C)
B10: Code | E10: =CONCATENATE($E6,E9) -> 2φv (lm) | G10: =CONCATENATE($E6,G9) -> 2Vf (V) | I10: =CONCATENATE($E6,I9) -> 2Pd (W) | K10: =CONCATENATE($E6,K9) -> 2lm/W | M10: =CONCATENATE($E6,M9) -> 2Tj (C)
B11: =CONCATENATE(Calculation!B2,"-",Calculation!F2,Calculation!D2) -> CLU701-0303C4-50NV1N8 | E11: =HLOOKUP(E$10,Calculation!$C$33:$P$46,2,FALSE) -> 363.35818 | G11: =HLOOKUP(G$10,Calculation!$C$33:$P$46,2,FALSE) -> 8.9692319 | I11: =HLOOKUP(I$10,Calculation!$C$33:$P$46,2,FALSE) -> 3.1392312 | K11: =HLOOKUP(K$10,Calculation!$C$33:$P$46,2,FALSE) -> 115.74751 | M11: =HLOOKUP(M$10,Calculation!$C$33:$P$46,2,FALSE) -> 78.440645
B12: =CONCATENATE(Calculation!B3,"-",Calculation!F3,Calculation!D3) -> CLU701-0304C4-50NV1N8 | E12: =HLOOKUP(E$10,Calculation!$C$33:$P$46,3,FALSE) -> Not Applicable | G12: =HLOOKUP(G$10,Calculation!$C$33:$P$46,3,FALSE) -> Not Applicable | I12: =HLOOKUP(I$10,Calculation!$C$33:$P$46,3,FALSE) -> Not Applicable | K12: =HLOOKUP(K$10,Calculation!$C$33:$P$46,3,FALSE) -> Not Applicable | M12: =HLOOKUP(M$10,Calculation!$C$33:$P$46,3,FALSE) -> Not Applicable
B13: =CONCATENATE(Calculation!B4,"-",Calculation!F4,Calculation!D4) -> CLU701-1002C4-50NV1N8 | E13: =HLOOKUP(E$10,Calculation!$C$33:$P$46,4,FALSE) -> 1074 | G13: =HLOOKUP(G$10,Calculation!$C$33:$P$46,4,FALSE) -> 31.33333 | I13: =HLOOKUP(I$10,Calculation!$C$33:$P$46,4,FALSE) -> 10.966665 | K13: =HLOOKUP(K$10,Calculation!$C$33:$P$46,4,FALSE) -> 97.933141 | M13: =HLOOKUP(M$10,Calculation!$C$33:$P$46,4,FALSE) -> 85.000001
B14: =CONCATENATE(Calculation!B5,"-",Calculation!F5,Calculation!D5) -> CLU711-1204C4-50NV1N8 | E14: =HLOOKUP(E$10,Calculation!$C$33:$P$46,5,FALSE) -> 1391.3602 | G14: =HLOOKUP(G$10,Calculation!$C$33:$P$46,5,FALSE) -> 34.719394 | I14: =HLOOKUP(I$10,Calculation!$C$33:$P$46,5,FALSE) -> 12.151788 | K14: =HLOOKUP(K$10,Calculation!$C$33:$P$46,5,FALSE) -> 114.4984 | M14: =HLOOKUP(M$10,Calculation!$C$33:$P$46,5,FALSE) -> 78.511463
B15: =CONCATENATE(Calculation!B6,"-",Calculation!F6,Calculation!D6) -> CLU721-1206C4-50NV1N8 | E15: =HLOOKUP(E$10,Calculation!$C$33:$P$46,6,FALSE) -> 1418.1824 | G15: =HLOOKUP(G$10,Calculation!$C$33:$P$46,6,FALSE) -> 33.613109 | I15: =HLOOKUP(I$10,Calculation!$C$33:$P$46,6,FALSE) -> 11.764588 | K15: =HLOOKUP(K$10,Calculation!$C$33:$P$46,6,FALSE) -> 120.54671 | M15: =HLOOKUP(M$10,Calculation!$C$33:$P$46,6,FALSE) -> 74.512089
B16: =CONCATENATE(Calculation!B7,"-",Calculation!F7,Calculation!D7) -> CLU731-1210C4-50NV1N8 | E16: =HLOOKUP(E$10,Calculation!$C$33:$P$46,7,FALSE) -> 1442.2048 | G16: =HLOOKUP(G$10,Calculation!$C$33:$P$46,7,FALSE) -> 32.569253 | I16: =HLOOKUP(I$10,Calculation!$C$33:$P$46,7,FALSE) -> 11.399238 | K16: =HLOOKUP(K$10,Calculation!$C$33:$P$46,7,FALSE) -> 126.51764 | M16: =HLOOKUP(M$10,Calculation!$C$33:$P$46,7,FALSE) -> 72.241016
B17: =CONCATENATE(Calculation!B8,"-",Calculation!F8,Calculation!D8) -> - | E17: =HLOOKUP(E$10,Calculation!$C$33:$P$46,8,FALSE) -> #DIV/0! | G17: =HLOOKUP(G$10,Calculation!$C$33:$P$46,8,FALSE) -> #DIV/0! | I17: =HLOOKUP(I$10,Calculation!$C$33:$P$46,8,FALSE) -> #DIV/0! | K17: =HLOOKUP(K$10,Calculation!$C$33:$P$46,8,FALSE) -> #DIV/0! | M17: =HLOOKUP(M$10,Calculation!$C$33:$P$46,8,FALSE) -> #DIV/0!
B18: =CONCATENATE(Calculation!B9,"-",Calculation!F9,Calculation!D9) -> - | E18: =HLOOKUP(E$10,Calculation!$C$33:$P$46,9,FALSE) -> #DIV/0! | G18: =HLOOKUP(G$10,Calculation!$C$33:$P$46,9,FALSE) -> #DIV/0! | I18: =HLOOKUP(I$10,Calculation!$C$33:$P$46,9,FALSE) -> #DIV/0! | K18: =HLOOKUP(K$10,Calculation!$C$33:$P$46,9,FALSE) -> #DIV/0! | M18: =HLOOKUP(M$10,Calculation!$C$33:$P$46,9,FALSE) -> #DIV/0!
B19: =CONCATENATE(Calculation!B10,"-",Calculation!F10,Calculation!D10) -> - | E19: =HLOOKUP(E$10,Calculation!$C$33:$P$46,10,FALSE) -> #DIV/0! | G19: =HLOOKUP(G$10,Calculation!$C$33:$P$46,10,FALSE) -> #DIV/0! | I19: =HLOOKUP(I$10,Calculation!$C$33:$P$46,10,FALSE) -> #DIV/0! | K19: =HLOOKUP(K$10,Calculation!$C$33:$P$46,10,FALSE) -> #DIV/0! | M19: =HLOOKUP(M$10,Calculation!$C$33:$P$46,10,FALSE) -> #DIV/0!
B20: =CONCATENATE(Calculation!B11,"-",Calculation!F11,Calculation!D11) -> - | E20: =HLOOKUP(E$10,Calculation!$C$33:$P$46,11,FALSE) -> #DIV/0! | G20: =HLOOKUP(G$10,Calculation!$C$33:$P$46,11,FALSE) -> #DIV/0! | I20: =HLOOKUP(I$10,Calculation!$C$33:$P$46,11,FALSE) -> #DIV/0! | K20: =HLOOKUP(K$10,Calculation!$C$33:$P$46,11,FALSE) -> #DIV/0! | M20: =HLOOKUP(M$10,Calculation!$C$33:$P$46,11,FALSE) -> #DIV/0!
B21: =CONCATENATE(Calculation!B12,"-",Calculation!F12,Calculation!D12) -> - | E21: =HLOOKUP(E$10,Calculation!$C$33:$P$46,12,FALSE) -> #DIV/0! | G21: =HLOOKUP(G$10,Calculation!$C$33:$P$46,12,FALSE) -> #DIV/0! | I21: =HLOOKUP(I$10,Calculation!$C$33:$P$46,12,FALSE) -> #DIV/0! | K21: =HLOOKUP(K$10,Calculation!$C$33:$P$46,12,FALSE) -> #DIV/0! | M21: =HLOOKUP(M$10,Calculation!$C$33:$P$46,12,FALSE) -> #DIV/0!
B22: =CONCATENATE(Calculation!B13,"-",Calculation!F13,Calculation!D13) -> - | E22: =HLOOKUP(E$10,Calculation!$C$33:$P$46,13,FALSE) -> #DIV/0! | G22: =HLOOKUP(G$10,Calculation!$C$33:$P$46,13,FALSE) -> #DIV/0! | I22: =HLOOKUP(I$10,Calculation!$C$33:$P$46,13,FALSE) -> #DIV/0! | K22: =HLOOKUP(K$10,Calculation!$C$33:$P$46,13,FALSE) -> #DIV/0! | M22: =HLOOKUP(M$10,Calculation!$C$33:$P$46,13,FALSE) -> #DIV/0!
B23: =CONCATENATE(Calculation!B14,"-",Calculation!F14,Calculation!D14) -> - | E23: =HLOOKUP(E$10,Calculation!$C$33:$P$46,14,FALSE) -> #DIV/0! | G23: =HLOOKUP(G$10,Calculation!$C$33:$P$46,14,FALSE) -> #DIV/0! | I23: =HLOOKUP(I$10,Calculation!$C$33:$P$46,14,FALSE) -> #DIV/0! | K23: =HLOOKUP(K$10,Calculation!$C$33:$P$46,14,FALSE) -> #DIV/0! | M23: =HLOOKUP(M$10,Calculation!$C$33:$P$46,14,FALSE) -> #DIV/0!
C24: CITILED is a registered trademark of CITIZEN ELECTRONICS CO., LTD. Japan. | N24: Ver1.0
B26: This selection tool is the reference material for selecting suitable products.
B27: When electing to use a product, please be sure to request a delivery and specifications manual and check the contents.
B28: CITIZEN ELECTRONICS CO., LTD. shall not be liable for any disadvantages or damages, which your company may receive, resulting from the use of selection tool.
B29: Product names and specifications in this selection tool are subject to change without notice for the purpose of improvement, or manufacturing may be discontinued.

Sheet Calculation
B1: Series | G1: CCT | H1: Ra | K1: CCT&Ra | L1: Color code | M1: Phosphor
B2: CLU701-0303C4 | C2: =VLOOKUP(Simulator!$C$6,I2:M20,2,FALSE) -> C4 | D2: =VLOOKUP(Simulator!$C$6,I2:M20,5,FALSE) -> N8 | E2: =VLOOKUP(Simulator!$C$6,$I$2:$M$20,3,FALSE) -> 5000K Natural | F2: =VLOOKUP(Simulator!$C$6,I2:M20,4,FALSE) -> 50NV1 | G2: 5,000K | H2: - | I2: 1 | J2: C4 | K2: 5000K Natural | L2: 50NV1 | M2: N8
B3: CLU701-0304C4 | C3: =$C$2 -> C4 | D3: =$D$2 -> N8 | E3: =$E$2 -> 5000K Natural | F3: =$F$2 -> 50NV1 | G3: 4,000K | H3: - | I3: 2 | J3: C4 | K3: 4000K Natural | L3: 40NV1 | M3: N8
B4: CLU701-1002C4 | C4: =$C$2 -> C4 | D4: =$D$2 -> N8 | E4: =$E$2 -> 5000K Natural | F4: =$F$2 -> 50NV1 | G4: 3,500K | H4: - | I4: 3 | J4: C4 | K4: 3500K Natural | L4: 35NV1 | M4: N8
B5: CLU711-1204C4 | C5: =$C$2 -> C4 | D5: =$D$2 -> N8 | E5: =$E$2 -> 5000K Natural | F5: =$F$2 -> 50NV1 | G5: 3,000K | H5: - | I5: 4 | J5: C4 | K5: 3000K Natural | L5: 30NV1 | M5: N8
B6: CLU721-1206C4 | C6: =$C$2 -> C4 | D6: =$D$2 -> N8 | E6: =$E$2 -> 5000K Natural | F6: =$F$2 -> 50NV1 | G6: 2,700K | H6: - | I6: 5 | J6: C4 | K6: 2700K Natural | L6: 27NV1 | M6: N8
B7: CLU731-1210C4 | C7: =$C$2 -> C4 | D7: =$D$2 -> N8 | E7: =$E$2 -> 5000K Natural | F7: =$F$2 -> 50NV1
A26: 1 | B26: Luminous flux | C26: If (mA) | D26: Vf (V) | E26: Vf_min (V) | F26: Vf_max (V) | G26: Pd (W) | H26: lm/W | I26: lm
A27: 2 | B27: Forward current | C27: φv (lm) | D27: Vf (V) | E27: Vf_min (V) | F27: Vf_max (V) | G27: Pd (W) | H27: lm/W | I27: mA
A28: 3 | C28: lm | D28: If | E28: Vf | F28: lm/W | G28: Vf | H28: lm/W | I28: W
C31: [Luminous flux] | H31: [Forward current]
C32: =C26 -> If (mA) | D32: =D26 -> Vf (V) | E32: =E26 -> Vf_min (V) | F32: =F26 -> Vf_max (V) | G32: =G26 -> Pd (W) | H32: =H26 -> lm/W | I32: =Simulator!M9 -> Tj (C) | J32: =C27 -> φv (lm) | K32: =D27 -> Vf (V) | L32: =E27 -> Vf_min (V) | M32: =F27 -> Vf_max (V) | N32: =G27 -> Pd (W) | O32: =H27 -> lm/W | P32: =Simulator!M9 -> Tj (C)
C33: =CONCATENATE($A26,C26) -> 1If (mA) | D33: =CONCATENATE($A26,D26) -> 1Vf (V) | E33: =CONCATENATE($A26,E26) -> 1Vf_min (V) | F33: =CONCATENATE($A26,F26) -> 1Vf_max (V) | G33: =CONCATENATE($A26,G26) -> 1Pd (W) | H33: =CONCATENATE($A26,H26) -> 1lm/W | I33: =CONCATENATE($A26,I32) -> 1Tj (C) | J33: =CONCATENATE($A27,C27) -> 2φv (lm) | K33: =CONCATENATE($A27,D27) -> 2Vf (V) | L33: =CONCATENATE($A27,E27) -> 2Vf_min (V) | M33: =CONCATENATE($A27,F27) -> 2Vf_max (V) | N33: =CONCATENATE($A27,G27) -> 2Pd (W) | O33: =CONCATENATE($A27,H27) -> 2lm/W | P33: =CONCATENATE($A27,P32) -> 2Tj (C)
B34: =B2 -> CLU701-0303C4 | C34: =IF(Calculation!U108,Calculation!N83,"Not Applicable") -> 335.77825 | D34: =IF(Calculation!U108,Calculation!R83,"Not Applicable") -> 8.9296754 | E34: =IF(Calculation!U108,Calculation!P83,"Not Applicable") -> 8.4643681 | F34: =IF(Calculation!U108,Calculation!Q83,"Not Applicable") -> 9.9364322 | G34: =IF(Calculation!U108,Calculation!S83,"Not Applicable") -> 2.9983908 | H34: =IF(Calculation!U108,Calculation!U83,"Not Applicable") -> 116.72928 | I34: =IF(Calculation!W108,Calculation!X83,"Not Applicable") -> 77.947704 | J34: =IF(Calculation!Y165,Calculation!N140,"Not Applicable") -> 363.35818 | K34: =IF(Calculation!Y165,Calculation!R140,"Not Applicable") -> 8.9692319 | L34: =IF(Calculation!Y165,Calculation!P140,"Not Applicable") -> 8.2516933 | M34: =IF(Calculation!Y165,Calculation!Q140,"Not Applicable") -> 9.6867704 | N34: =IF(Calculation!Y165,Calculation!S140,"Not Applicable") -> 3.1392312 | O34: =IF(Calculation!Y165,Calculation!U140,"Not Applicable") -> 115.74751 | P34: =IF(Calculation!Y165,Calculation!X140,"Not Applicable") -> 78.440645
B35: =B3 -> CLU701-0304C4 | C35: =IF(Calculation!U109,Calculation!N84,"Not Applicable") -> Not Applicable | D35: =IF(Calculation!U109,Calculation!R84,"Not Applicable") -> Not Applicable | E35: =IF(Calculation!U109,Calculation!P84,"Not Applicable") -> Not Applicable | F35: =IF(Calculation!U109,Calculation!Q84,"Not Applicable") -> Not Applicable | G35: =IF(Calculation!U109,Calculation!S84,"Not Applicable") -> Not Applicable | H35: =IF(Calculation!U109,Calculation!U84,"Not Applicable") -> Not Applicable | I35: =IF(Calculation!W109,Calculation!X84,"Not Applicable") -> Not Applicable | J35: =IF(Calculation!Y166,Calculation!N141,"Not Applicable") -> Not Applicable | K35: =IF(Calculation!Y166,Calculation!R141,"Not Applicable") -> Not Applicable | L35: =IF(Calculation!Y166,Calculation!P141,"Not Applicable") -> Not Applicable | M35: =IF(Calculation!Y166,Calculation!Q141,"Not Applicable") -> Not Applicable | N35: =IF(Calculation!Y166,Calculation!S141,"Not Applicable") -> Not Applicable | O35: =IF(Calculation!Y166,Calculation!U141,"Not Applicable") -> Not Applicable | P35: =IF(Calculation!Y166,Calculation!X141,"Not Applicable") -> Not Applicable
B36: =B4 -> CLU701-1002C4 | C36: =IF(Calculation!U110,Calculation!N85,"Not Applicable") -> 101.24778 | D36: =IF(Calculation!U110,Calculation!R85,"Not Applicable") -> 27.856274 | E36: =IF(Calculation!U110,Calculation!P85,"Not Applicable") -> 26.40474 | F36: =IF(Calculation!U110,Calculation!Q85,"Not Applicable") -> 30.996868 | G36: =IF(Calculation!U110,Calculation!S85,"Not Applicable") -> 2.8203858 | H36: =IF(Calculation!U110,Calculation!U85,"Not Applicable") -> 124.0965 | I36: =IF(Calculation!W110,Calculation!X85,"Not Applicable") -> 71.965953 | J36: =IF(Calculation!Y167,Calculation!N142,"Not Applicable") -> 1074 | K36: =IF(Calculation!Y167,Calculation!R142,"Not Applicable") -> 31.33333 | L36: =IF(Calculation!Y167,Calculation!P142,"Not Applicable") -> 28.826664 | M36: =IF(Calculation!Y167,Calculation!Q142,"Not Applicable") -> 33.839996 | N36: =IF(Calculation!Y167,Calculation!S142,"Not Applicable") -> 10.966665 | O36: =IF(Calculation!Y167,Calculation!U142,"Not Applicable") -> 97.933141 | P36: =IF(Calculation!Y167,Calculation!X142,"Not Applicable") -> 85.000001
B37: =B5 -> CLU711-1204C4 | C37: =IF(Calculation!U111,Calculation!N86,"Not Applicable") -> 82.017284 | D37: =IF(Calculation!U111,Calculation!R86,"Not Applicable") -> 32.016102 | E37: =IF(Calculation!U111,Calculation!P86,"Not Applicable") -> 30.347808 | F37: =IF(Calculation!U111,Calculation!Q86,"Not Applicable") -> 35.625688 | G37: =IF(Calculation!U111,Calculation!S86,"Not Applicable") -> 2.6258737 | H37: =IF(Calculation!U111,Calculation!U86,"Not Applicable") -> 133.28897 | I37: =IF(Calculation!W111,Calculation!X86,"Not Applicable") -> 69.842881 | J37: =IF(Calculation!Y168,Calculation!N143,"Not Applicable") -> 1391.3602 | K37: =IF(Calculation!Y168,Calculation!R143,"Not Applicable") -> 34.719394 | L37: =IF(Calculation!Y168,Calculation!P143,"Not Applicable") -> 31.941843 | M37: =IF(Calculation!Y168,Calculation!Q143,"Not Applicable") -> 37.496946 | N37: =IF(Calculation!Y168,Calculation!S143,"Not Applicable") -> 12.151788 | O37: =IF(Calculation!Y168,Calculation!U143,"Not Applicable") -> 114.4984 | P37: =IF(Calculation!Y168,Calculation!X143,"Not Applicable") -> 78.511463
B38: =B6 -> CLU721-1206C4 | C38: =IF(Calculation!U112,Calculation!N87,"Not Applicable") -> 82.414276 | D38: =IF(Calculation!U112,Calculation!R87,"Not Applicable") -> 31.71879 | E38: =IF(Calculation!U112,Calculation!P87,"Not Applicable") -> 30.065988 | F38: =IF(Calculation!U112,Calculation!Q87,"Not Applicable") -> 35.294856 | G38: =IF(Calculation!U112,Calculation!S87,"Not Applicable") -> 2.6140811 | H38: =IF(Calculation!U112,Calculation!U87,"Not Applicable") -> 133.89026 | I38: =IF(Calculation!W112,Calculation!X87,"Not Applicable") -> 69.021785 | J38: =IF(Calculation!Y169,Calculation!N144,"Not Applicable") -> 1418.1824 | K38: =IF(Calculation!Y169,Calculation!R144,"Not Applicable") -> 33.613109 | L38: =IF(Calculation!Y169,Calculation!P144,"Not Applicable") -> 30.92406 | M38: =IF(Calculation!Y169,Calculation!Q144,"Not Applicable") -> 36.302158 | N38: =IF(Calculation!Y169,Calculation!S144,"Not Applicable") -> 11.764588 | O38: =IF(Calculation!Y169,Calculation!U144,"Not Applicable") -> 120.54671 | P38: =IF(Calculation!Y169,Calculation!X144,"Not Applicable") -> 74.512089
B39: =B7 -> CLU731-1210C4 | C39: =IF(Calculation!U113,Calculation!N88,"Not Applicable") -> 83.076024 | D39: =IF(Calculation!U113,Calculation!R88,"Not Applicable") -> 31.393166 | E39: =IF(Calculation!U113,Calculation!P88,"Not Applicable") -> 29.757332 | F39: =IF(Calculation!U113,Calculation!Q88,"Not Applicable") -> 34.93252 | G39: =IF(Calculation!U113,Calculation!S88,"Not Applicable") -> 2.6080194 | H39: =IF(Calculation!U113,Calculation!U88,"Not Applicable") -> 134.20145 | I39: =IF(Calculation!W113,Calculation!X88,"Not Applicable") -> 68.548704 | J39: =IF(Calculation!Y170,Calculation!N145,"Not Applicable") -> 1442.2048 | K39: =IF(Calculation!Y170,Calculation!R145,"Not Applicable") -> 32.569253 | L39: =IF(Calculation!Y170,Calculation!P145,"Not Applicable") -> 29.963712 | M39: =IF(Calculation!Y170,Calculation!Q145,"Not Applicable") -> 35.174793 | N39: =IF(Calculation!Y170,Calculation!S145,"Not Applicable") -> 11.399238 | O39: =IF(Calculation!Y170,Calculation!U145,"Not Applicable") -> 126.51764 | P39: =IF(Calculation!Y170,Calculation!X145,"Not Applicable") -> 72.241016
B40: =B8 -> 0 | C40: =IF(Calculation!U114,Calculation!N89,"Not Applicable") -> #DIV/0! | D40: =IF(Calculation!U114,Calculation!R89,"Not Applicable") -> #DIV/0! | E40: =IF(Calculation!U114,Calculation!P89,"Not Applicable") -> #DIV/0! | F40: =IF(Calculation!U114,Calculation!Q89,"Not Applicable") -> #DIV/0! | G40: =IF(Calculation!U114,Calculation!S89,"Not Applicable") -> #DIV/0! | H40: =IF(Calculation!U114,Calculation!U89,"Not Applicable") -> #DIV/0! | I40: =IF(Calculation!W114,Calculation!X89,"Not Applicable") -> #DIV/0! | J40: =IF(Calculation!Y171,Calculation!N146,"Not Applicable") -> #DIV/0! | K40: =IF(Calculation!Y171,Calculation!R146,"Not Applicable") -> #DIV/0! | L40: =IF(Calculation!Y171,Calculation!P146,"Not Applicable") -> #DIV/0! | M40: =IF(Calculation!Y171,Calculation!Q146,"Not Applicable") -> #DIV/0! | N40: =IF(Calculation!Y171,Calculation!S146,"Not Applicable") -> #DIV/0! | O40: =IF(Calculation!Y171,Calculation!U146,"Not Applicable") -> #DIV/0! | P40: =IF(Calculation!Y171,Calculation!X146,"Not Applicable") -> #DIV/0!
B41: =B9 -> 0 | C41: =IF(Calculation!U115,Calculation!N90,"Not Applicable") -> #DIV/0! | D41: =IF(Calculation!U115,Calculation!R90,"Not Applicable") -> #DIV/0! | E41: =IF(Calculation!U115,Calculation!P90,"Not Applicable") -> #DIV/0! | F41: =IF(Calculation!U115,Calculation!Q90,"Not Applicable") -> #DIV/0! | G41: =IF(Calculation!U115,Calculation!S90,"Not Applicable") -> #DIV/0! | H41: =IF(Calculation!U115,Calculation!U90,"Not Applicable") -> #DIV/0! | I41: =IF(Calculation!W115,Calculation!X90,"Not Applicable") -> #DIV/0! | J41: =IF(Calculation!Y172,Calculation!N147,"Not Applicable") -> #DIV/0! | K41: =IF(Calculation!Y172,Calculation!R147,"Not Applicable") -> #DIV/0! | L41: =IF(Calculation!Y172,Calculation!P147,"Not Applicable") -> #DIV/0! | M41: =IF(Calculation!Y172,Calculation!Q147,"Not Applicable") -> #DIV/0! | N41: =IF(Calculation!Y172,Calculation!S147,"Not Applicable") -> #DIV/0! | O41: =IF(Calculation!Y172,Calculation!U147,"Not Applicable") -> #DIV/0! | P41: =IF(Calculation!Y172,Calculation!X147,"Not Applicable") -> #DIV/0!
B42: =B10 -> 0 | C42: =IF(Calculation!U116,Calculation!N91,"Not Applicable") -> #DIV/0! | D42: =IF(Calculation!U116,Calculation!R91,"Not Applicable") -> #DIV/0! | E42: =IF(Calculation!U116,Calculation!P91,"Not Applicable") -> #DIV/0! | F42: =IF(Calculation!U116,Calculation!Q91,"Not Applicable") -> #DIV/0! | G42: =IF(Calculation!U116,Calculation!S91,"Not Applicable") -> #DIV/0! | H42: =IF(Calculation!U116,Calculation!U91,"Not Applicable") -> #DIV/0! | I42: =IF(Calculation!W116,Calculation!X91,"Not Applicable") -> #DIV/0! | J42: =IF(Calculation!Y173,Calculation!N148,"Not Applicable") -> #DIV/0! | K42: =IF(Calculation!Y173,Calculation!R148,"Not Applicable") -> #DIV/0! | L42: =IF(Calculation!Y173,Calculation!P148,"Not Applicable") -> #DIV/0! | M42: =IF(Calculation!Y173,Calculation!Q148,"Not Applicable") -> #DIV/0! | N42: =IF(Calculation!Y173,Calculation!S148,"Not Applicable") -> #DIV/0! | O42: =IF(Calculation!Y173,Calculation!U148,"Not Applicable") -> #DIV/0! | P42: =IF(Calculation!Y173,Calculation!X148,"Not Applicable") -> #DIV/0!
B43: =B11 -> 0 | C43: =IF(Calculation!U117,Calculation!N92,"Not Applicable") -> #DIV/0! | D43: =IF(Calculation!U117,Calculation!R92,"Not Applicable") -> #DIV/0! | E43: =IF(Calculation!U117,Calculation!P92,"Not Applicable") -> #DIV/0! | F43: =IF(Calculation!U117,Calculation!Q92,"Not Applicable") -> #DIV/0! | G43: =IF(Calculation!U117,Calculation!S92,"Not Applicable") -> #DIV/0! | H43: =IF(Calculation!U117,Calculation!U92,"Not Applicable") -> #DIV/0! | I43: =IF(Calculation!W117,Calculation!X92,"Not Applicable") -> #DIV/0! | J43: =IF(Calculation!Y174,Calculation!N149,"Not Applicable") -> #DIV/0! | K43: =IF(Calculation!Y174,Calculation!R149,"Not Applicable") -> #DIV/0! | L43: =IF(Calculation!Y174,Calculation!P149,"Not Applicable") -> #DIV/0! | M43: =IF(Calculation!Y174,Calculation!Q149,"Not Applicable") -> #DIV/0! | N43: =IF(Calculation!Y174,Calculation!S149,"Not Applicable") -> #DIV/0! | O43: =IF(Calculation!Y174,Calculation!U149,"Not Applicable") -> #DIV/0! | P43: =IF(Calculation!Y174,Calculation!X149,"Not Applicable") -> #DIV/0!
B44: =B12 -> 0 | C44: =IF(Calculation!U118,Calculation!N93,"Not Applicable") -> #DIV/0! | D44: =IF(Calculation!U118,Calculation!R93,"Not Applicable") -> #DIV/0! | E44: =IF(Calculation!U118,Calculation!P93,"Not Applicable") -> #DIV/0! | F44: =IF(Calculation!U118,Calculation!Q93,"Not Applicable") -> #DIV/0! | G44: =IF(Calculation!U118,Calculation!S93,"Not Applicable") -> #DIV/0! | H44: =IF(Calculation!U118,Calculation!U93,"Not Applicable") -> #DIV/0! | I44: =IF(Calculation!W118,Calculation!X93,"Not Applicable") -> #DIV/0! | J44: =IF(Calculation!Y175,Calculation!N150,"Not Applicable") -> #DIV/0! | K44: =IF(Calculation!Y175,Calculation!R150,"Not Applicable") -> #DIV/0! | L44: =IF(Calculation!Y175,Calculation!P150,"Not Applicable") -> #DIV/0! | M44: =IF(Calculation!Y175,Calculation!Q150,"Not Applicable") -> #DIV/0! | N44: =IF(Calculation!Y175,Calculation!S150,"Not Applicable") -> #DIV/0! | O44: =IF(Calculation!Y175,Calculation!U150,"Not Applicable") -> #DIV/0! | P44: =IF(Calculation!Y175,Calculation!X150,"Not Applicable") -> #DIV/0!
B45: =B13 -> 0 | C45: =IF(Calculation!U119,Calculation!N94,"Not Applicable") -> #DIV/0! | D45: =IF(Calculation!U119,Calculation!R94,"Not Applicable") -> #DIV/0! | E45: =IF(Calculation!U119,Calculation!P94,"Not Applicable") -> #DIV/0! | F45: =IF(Calculation!U119,Calculation!Q94,"Not Applicable") -> #DIV/0! | G45: =IF(Calculation!U119,Calculation!S94,"Not Applicable") -> #DIV/0! | H45: =IF(Calculation!U119,Calculation!U94,"Not Applicable") -> #DIV/0! | I45: =IF(Calculation!W119,Calculation!X94,"Not Applicable") -> #DIV/0! | J45: =IF(Calculation!Y176,Calculation!N151,"Not Applicable") -> #DIV/0! | K45: =IF(Calculation!Y176,Calculation!R151,"Not Applicable") -> #DIV/0! | L45: =IF(Calculation!Y176,Calculation!P151,"Not Applicable") -> #DIV/0! | M45: =IF(Calculation!Y176,Calculation!Q151,"Not Applicable") -> #DIV/0! | N45: =IF(Calculation!Y176,Calculation!S151,"Not Applicable") -> #DIV/0! | O45: =IF(Calculation!Y176,Calculation!U151,"Not Applicable") -> #DIV/0! | P45: =IF(Calculation!Y176,Calculation!X151,"Not Applicable") -> #DIV/0!
B46: =B14 -> 0 | C46: =IF(Calculation!U120,Calculation!N95,"Not Applicable") -> #DIV/0! | D46: =IF(Calculation!U120,Calculation!R95,"Not Applicable") -> #DIV/0! | E46: =IF(Calculation!U120,Calculation!P95,"Not Applicable") -> #DIV/0! | F46: =IF(Calculation!U120,Calculation!Q95,"Not Applicable") -> #DIV/0! | G46: =IF(Calculation!U120,Calculation!S95,"Not Applicable") -> #DIV/0! | H46: =IF(Calculation!U120,Calculation!U95,"Not Applicable") -> #DIV/0! | I46: =IF(Calculation!W120,Calculation!X95,"Not Applicable") -> #DIV/0! | J46: =IF(Calculation!Y177,Calculation!N152,"Not Applicable") -> #DIV/0! | K46: =IF(Calculation!Y177,Calculation!R152,"Not Applicable") -> #DIV/0! | L46: =IF(Calculation!Y177,Calculation!P152,"Not Applicable") -> #DIV/0! | M46: =IF(Calculation!Y177,Calculation!Q152,"Not Applicable") -> #DIV/0! | N46: =IF(Calculation!Y177,Calculation!S152,"Not Applicable") -> #DIV/0! | O46: =IF(Calculation!Y177,Calculation!U152,"Not Applicable") -> #DIV/0! | P46: =IF(Calculation!Y177,Calculation!X152,"Not Applicable") -> #DIV/0!
B48: Limit | L48: 175mA,Tj=85C
B49: IF Limit | C49: L/L | D49: U/L | L49: 1 | M49: 2 | N49: 3 | O49: 4 | P49: 5 | Q49: 6 | R49: 7 | S49: 8 | T49: 9 | U49: 10 | V49: 11 | W49: 12 | X49: 13 | Y49: 14 | Z49: 15 | AA49: 16 | AB49: 17 | AC49: 18 | AD49: 19
C50: 5 | D50: 230 | I50: VF | J50: Tc=25C定格Lm係数 | L50: =L66 -> 5000K Natural | M50: =M66 -> 4000K Natural | N50: =N66 -> 3500K Natural | O50: =O66 -> 3000K Natural | P50: =P66 -> 2700K Natural | Q50: =Q66 -> 0 | R50: =R66 -> 0 | S50: =S66 -> 0 | ... AD50: =AD66 -> 0
B51: Tc Limit | C51: U/L | D51: L/L | I51: 9.399999 | J51: 0303 | K51: 0.92092891 | L51: 517 | M51: 501 | N51: 469 | O51: 455 | P51: 433
C52: 105 | D52: -40 | I52: 9.399999 | J52: 0304 | K52: 0.92196543
B53: Tj Limit | C53: U/L | D53: L/L | I53: 31.33333 | J53: 1002 | K53: 0.92150514 | L53: 1074 | M53: 1042 | N53: 976 | O53: 946 | P53: 901
C54: 140 | D54: -25 | I54: 37.599996 | J54: 1204 | K54: 0.93469554 | L54: 2606 | M54: 2528 | N54: 2368 | O54: 2295 | P54: 2186
I55: 37.599996 | J55: 1206 | K55: 0.93416356 | L55: 3869 | M55: 3754 | N55: 3516 | O55: 3408 | P55: 3246
A56: CW23係数 | C56: y=ax3+bx2+cx+d/y=ax2+bx+c | I56: 37.599996 | J56: 1210 | K56: 0.94205395 | L56: 6453 | M56: 6261 | N56: 5864 | O56: 5684 | P56: 5414
C58: IF(x)-lm%(y) | D58: lm%(x)-IF(y) | E58: IF(x)-VF%(y) | F58: Tc(x)-lm%(y) | G58: Tc(x)-VF%(y)
B59: a | C59: 5.6231687e-09 | D59: 1.0968818 | E59: -1.5740769e-06 | F59: -1.1152155e-08 | G59: 2.7366883e-06
B60: b | C60: -6.8430471e-06 | D60: 28.364492 | E60: 0.0012473617 | F60: -4.1294483e-06 | G60: -0.00094613757
B61: c | C61: 0.0067343757 | D61: 145.51791 | E61: 0.82991781 | F61: -0.0013906687 | G61: 1.021943
B62: d | C62: 0.00091590531 | D62: 0.1515608 | F62: 1.0375219
L64: 175mA,Tc25C
B65: IF(x)-lm%(y) | C65: lm%(x)-IF(y) | D65: IF(x)-VF%(y) | E65: Tc(x)-lm%(y) | F65: Tc(x)-VF%(y) | L65: 1 | M65: 2 | N65: 3 | O65: 4 | P65: 5 | Q65: 6 | R65: 7 | S65: 8 | T65: 9 | U65: 10 | V65: 11 | W65: 12 | X65: 13 | Y65: 14 | Z65: 15 | AA65: 16 | AB65: 17 | AC65: 18 | AD65: 19
A66: a | B66: =C59 -> 5.6231687e-09 | C66: =D59 -> 1.0968818 | D66: =E59 -> -1.5740769e-06 | E66: =F59 -> -1.1152155e-08 | F66: =G59 -> 2.7366883e-06 | H66: Series | I66: Parallel | K66: VF | L66: =K2 -> 5000K Natural | M66: =K3 -> 4000K Natural | N66: =K4 -> 3500K Natural | O66: =K5 -> 3000K Natural | P66: =K6 -> 2700K Natural | Q66: =K7 -> 0 | R66: =K8 -> 0 | S66: =K9 -> 0 | T66: =K10 -> 0 | U66: =K11 -> 0 | V66: =K12 -> 0 | W66: =K13 -> 0 | X66: =K14 -> 0 | Y66: =K15 -> 0 | Z66: =K16 -> 0 | AA66: =K17 -> 0 | AB66: =K18 -> 0 | AC66: =K19 -> 0 | AD66: =K20 -> 0
A67: b | B67: =C60 -> -6.8430471e-06 | C67: =D60 -> 28.364492 | D67: =E60 -> 0.0012473617 | E67: =F60 -> -4.1294483e-06 | F67: =G60 -> -0.00094613757 | G67: =H67*I67 -> 9 | H67: 3 | I67: 3 | J67: =B2 -> CLU701-0303C4 | K67: 9.6865594 | L67: =L51/$K51 -> 561.38969 | M67: =M51/$K51 -> 544.01593 | N67: =N51/$K51 -> 509.26841 | O67: =O51/$K51 -> 494.06636 | P67: =P51/$K51 -> 470.17744 | Q67: =Q51/$K51 -> 0 | R67: =R51/$K51 -> 0 | S67: =S51/$K51 -> 0 | ... AD67: =AD51/$K51 -> 0
A68: c | B68: =C61 -> 0.0067343757 | C68: =D61 -> 145.51791 | D68: =E61 -> 0.82991781 | E68: =F61 -> -0.0013906687 | F68: =G61 -> 1.021943 | G68: =H68*I68 -> 12 | H68: 3 | I68: 4 | J68: =B3 -> CLU701-0304C4 | K68: 9.6837189 | L68: =L52/$K52 -> 0 | M68: =M52/$K52 -> 0 | N68: =N52/$K52 -> 0 | O68: =O52/$K52 -> 0 | P68: =P52/$K52 -> 0 | Q68: =Q52/$K52 -> 0 | R68: =R52/$K52 -> 0 | S68: =S52/$K52 -> 0 | ... AD68: =AD52/$K52 -> 0
A69: d | B69: =C62 -> 0.00091590531 | C69: =D62 -> 0.1515608 | E69: =F62 -> 1.0375219 | G69: =H69*I69 -> 20 | H69: 10 | I69: 2 | J69: =B4 -> CLU701-1002C4 | K69: 32.283276 | L69: =L53/$K53 -> 1165.4845 | M69: =M53/$K53 -> 1130.7588 | N69: =N53/$K53 -> 1059.1368 | O69: =O53/$K53 -> 1026.5814 | P69: =P53/$K53 -> 977.74821 | Q69: =Q53/$K53 -> 0 | R69: =R53/$K53 -> 0 | S69: =S53/$K53 -> 0 | ... AD69: =AD53/$K53 -> 0
G70: =H70*I70 -> 48 | H70: 12 | I70: 4 | J70: =B5 -> CLU711-1204C4 | K70: 38.588559 | L70: =L54/$K54 -> 2788.0737 | M70: =M54/$K54 -> 2704.624 | N70: =N54/$K54 -> 2533.4453 | O70: =O54/$K54 -> 2455.345 | P70: =P54/$K54 -> 2338.7295 | Q70: =Q54/$K54 -> 0 | R70: =R54/$K54 -> 0 | S70: =S54/$K54 -> 0 | ... AD70: =AD54/$K54 -> 0
D71: =CONCATENATE("lm(%,@",E75,"C)") -> lm(%,@67.4533360933627C) | E71: =E66*$E$75^3+E67*$E$75^2+E68*$E$75+E69 -> 0.92150514 | G71: =H71*I71 -> 72 | H71: 12 | I71: 6 | J71: =B6 -> CLU721-1206C4 | K71: 38.594932 | L71: =L55/$K55 -> 4141.673 | M71: =M55/$K55 -> 4018.5682 | N71: =N55/$K55 -> 3763.7948 | O71: =O55/$K55 -> 3648.1834 | P71: =P55/$K55 -> 3474.7662 | Q71: =Q55/$K55 -> 0 | R71: =R55/$K55 -> 0 | S71: =S55/$K55 -> 0 | ... AD71: =AD55/$K55 -> 0
G72: =H72*I72 -> 120 | H72: 12 | I72: 10 | J72: =B7 -> CLU731-1210C4 | K72: 38.497993 | L72: =L56/$K56 -> 6849.9262 | M72: =M56/$K56 -> 6646.1162 | N72: =N56/$K56 -> 6224.6966 | O72: =O56/$K56 -> 6033.6247 | P72: =P56/$K56 -> 5747.0169 | Q72: =Q56/$K56 -> 0 | R72: =R56/$K56 -> 0 | S72: =S56/$K56 -> 0 | ... AD72: =AD56/$K56 -> 0
D73: lm | E73: =Simulator!G6 -> 350 | L73: =L57/$K57 -> #DIV/0! | M73: =M57/$K57 -> #DIV/0! | N73: =N57/$K57 -> #DIV/0! | O73: =O57/$K57 -> #DIV/0! | P73: =P57/$K57 -> #DIV/0! | Q73: =Q57/$K57 -> #DIV/0! | R73: =R57/$K57 -> #DIV/0! | S73: =S57/$K57 -> #DIV/0! | ... AD73: =AD57/$K57 -> #DIV/0!
L74: =L58/$K58 -> #DIV/0! | M74: =M58/$K58 -> #DIV/0! | N74: =N58/$K58 -> #DIV/0! | O74: =O58/$K58 -> #DIV/0! | P74: =P58/$K58 -> #DIV/0! | Q74: =Q58/$K58 -> #DIV/0! | R74: =R58/$K58 -> #DIV/0! | S74: =S58/$K58 -> #DIV/0! | ... AD74: =AD58/$K58 -> #DIV/0!
D75: Tc | E75: =Simulator!L6 -> 67.453336 | L75: =L59/$K59 -> #DIV/0! | M75: =M59/$K59 -> #DIV/0! | N75: =N59/$K59 -> #DIV/0! | O75: =O59/$K59 -> #DIV/0! | P75: =P59/$K59 -> #DIV/0! | Q75: =Q59/$K59 -> #DIV/0! | R75: =R59/$K59 -> #DIV/0! | S75: =S59/$K59 -> #DIV/0! | ... AD75: =AD59/$K59 -> #DIV/0!
L76: =L60/$K60 -> #DIV/0! | M76: =M60/$K60 -> #DIV/0! | N76: =N60/$K60 -> #DIV/0! | O76: =O60/$K60 -> #DIV/0! | P76: =P60/$K60 -> #DIV/0! | Q76: =Q60/$K60 -> #DIV/0! | R76: =R60/$K60 -> #DIV/0! | S76: =S60/$K60 -> #DIV/0! | ... AD76: =AD60/$K60 -> #DIV/0!
D77: lm Tc-compensation | E77: =E73/E71 -> 379.8134 | L77: =L61/$K61 -> #DIV/0! | M77: =M61/$K61 -> #DIV/0! | N77: =N61/$K61 -> #DIV/0! | O77: =O61/$K61 -> #DIV/0! | P77: =P61/$K61 -> #DIV/0! | Q77: =Q61/$K61 -> #DIV/0! | R77: =R61/$K61 -> #DIV/0! | S77: =S61/$K61 -> #DIV/0! | ... AD77: =AD61/$K61 -> #DIV/0!
L78: =L62/$K62 -> #DIV/0! | M78: =M62/$K62 -> #DIV/0! | N78: =N62/$K62 -> #DIV/0! | O78: =O62/$K62 -> #DIV/0! | P78: =P62/$K62 -> #DIV/0! | Q78: =Q62/$K62 -> #DIV/0! | R78: =R62/$K62 -> #DIV/0! | S78: =S62/$K62 -> #DIV/0! | ... AD78: =AD62/$K62 -> #DIV/0!
L79: =L63/$K63 -> #DIV/0! | M79: =M63/$K63 -> #DIV/0! | N79: =N63/$K63 -> #DIV/0! | O79: =O63/$K63 -> #DIV/0! | P79: =P63/$K63 -> #DIV/0! | Q79: =Q63/$K63 -> #DIV/0! | R79: =R63/$K63 -> #DIV/0! | S79: =S63/$K63 -> #DIV/0! | ... AD79: =AD63/$K63 -> #DIV/0!
P81: 0.92 | Q81: 1.08
H82: lm/die | K82: =HLOOKUP(Simulator!$C$6,Calculation!L$65:AD$79,2,FALSE) -> 5000K Natural | L82: lm% | M82: IF/die | N82: IF/PKG | O82: Vftyp | P82: Vfmin | Q82: Vfmax | R82: VF Tc-compensation | S82: W | U82: lm/W | V82: Rj-c(-35%) | W82: ⊿T j-c | X82: Tj | Y82: Rj-c | Z82: Rj-c(-35%)
H83: =K83/G67 -> 62.376633 | J83: =J67 -> CLU701-0303C4 | K83: =HLOOKUP(Simulator!$C$6,Calculation!L$65:AD$79,3,FALSE) -> 561.38969 | L83: =IF(K83=0,FALSE,E$77/K83) -> 0.67655927 | M83: =C$66*$L83^3+C$67*$L83^2+C$68*$L83+C$69 -> 111.92608 | N83: =M83*I67 -> 335.77825 | O83: =(D$66*$M83^2+D$67*$M83+D$68)*K67 -> 9.2004002 | P83: =O83*$P$81 -> 8.4643681 | Q83: =O83*$Q$81 -> 9.9364322 | R83: =(F$66*$E$75^2+F$67*$E$75+F$68)*O83 -> 8.9296754 | S83: =N83*R83/1000 -> 2.9983908 | U83: =E$73/S83 -> 116.72928 | V83: 3.5 | W83: =S83*V83 -> 10.494368 | X83: =E$75+W83 -> 77.947704 | Y83: 5.3 | Z83: =Y83*0.65 -> 3.445
H84: =K84/G68 -> 0 | J84: =J68 -> CLU701-0304C4 | K84: =HLOOKUP(Simulator!$C$6,Calculation!L$65:AD$79,4,FALSE) -> 0 | L84: =IF(K84=0,FALSE,E$77/K84) -> FALSE | M84: =C$66*$L84^3+C$67*$L84^2+C$68*$L84+C$69 -> 0.1515608 | N84: =M84*I68 -> 0.60624319 | O84: =(D$66*$M84^2+D$67*$M84+D$68)*K68 -> 8.0385212 | P84: =O84*$P$81 -> 7.3954395 | Q84: =O84*$Q$81 -> 8.6816029 | R84: =(F$66*$E$75^2+F$67*$E$75+F$68)*O84 -> 7.8019851 | S84: =N84*R84/1000 -> 0.0047299003 | U84: =E$73/S84 -> 73997.331 | V84: 2.7 | W84: =S84*V84 -> 0.012770731 | X84: =E$75+W84 -> 67.466107 | Y84: 4.2 | Z84: =Y84*0.65 -> 2.73
H85: =K85/G69 -> 58.274227 | J85: =J69 -> CLU701-1002C4 | K85: =HLOOKUP(Simulator!$C$6,Calculation!L$65:AD$79,5,FALSE) -> 1165.4845 | L85: =IF(K85=0,FALSE,E$77/K85) -> 0.32588454 | M85: =C$66*$L85^3+C$67*$L85^2+C$68*$L85+C$69 -> 50.623889 | N85: =M85*I69 -> 101.24778 | O85: =(D$66*$M85^2+D$67*$M85+D$68)*K69 -> 28.700804 | P85: =O85*$P$81 -> 26.40474 | Q85: =O85*$Q$81 -> 30.996868 | R85: =(F$66*$E$75^2+F$67*$E$75+F$68)*O85 -> 27.856274 | S85: =N85*R85/1000 -> 2.8203858 | U85: =E$73/S85 -> 124.0965 | V85: 1.6 | W85: =S85*V85 -> 4.5126173 | X85: =E$75+W85 -> 71.965953 | Y85: 2.5 | Z85: =Y85*0.65 -> 1.625
H86: =K86/G70 -> 58.084868 | J86: =J70 -> CLU711-1204C4 | K86: =HLOOKUP(Simulator!$C$6,Calculation!L$65:AD$79,6,FALSE) -> 2788.0737 | L86: =IF(K86=0,FALSE,E$77/K86) -> 0.13622789 | M86: =C$66*$L86^3+C$67*$L86^2+C$68*$L86+C$69 -> 20.504321 | N86: =M86*I70 -> 82.017284 | O86: =(D$66*$M86^2+D$67*$M86+D$68)*K70 -> 32.986748 | P86: =O86*$P$81 -> 30.347808 | Q86: =O86*$Q$81 -> 35.625688 | R86: =(F$66*$E$75^2+F$67*$E$75+F$68)*O86 -> 32.016102 | S86: =N86*R86/1000 -> 2.6258737 | U86: =E$73/S86 -> 133.28897 | V86: 0.91 | W86: =S86*V86 -> 2.3895451 | X86: =E$75+W86 -> 69.842881 | Y86: 1.4 | Z86: =Y86*0.65 -> 0.91
H87: =K87/G71 -> 57.523236 | J87: =J71 -> CLU721-1206C4 | K87: =HLOOKUP(Simulator!$C$6,Calculation!L$65:AD$79,7,FALSE) -> 4141.673 | L87: =IF(K87=0,FALSE,E$77/K87) -> 0.091705309 | M87: =C$66*$L87^3+C$67*$L87^2+C$68*$L87+C$69 -> 13.735713 | N87: =M87*I71 -> 82.414276 | O87: =(D$66*$M87^2+D$67*$M87+D$68)*K71 -> 32.680422 | P87: =O87*$P$81 -> 30.065988 | Q87: =O87*$Q$81 -> 35.294856 | R87: =(F$66*$E$75^2+F$67*$E$75+F$68)*O87 -> 31.71879 | S87: =N87*R87/1000 -> 2.6140811 | U87: =E$73/S87 -> 133.89026 | V87: 0.6 | W87: =S87*V87 -> 1.5684487 | X87: =E$75+W87 -> 69.021785 | Y87: 0.92 | Z87: =Y87*0.65 -> 0.598
H88: =K88/G72 -> 57.082718 | J88: =J72 -> CLU731-1210C4 | K88: =HLOOKUP(Simulator!$C$6,Calculation!L$65:AD$79,8,FALSE) -> 6849.9262 | L88: =IF(K88=0,FALSE,E$77/K88) -> 0.055447809 | M88: =C$66*$L88^3+C$67*$L88^2+C$68*$L88+C$69 -> 8.3076024 | N88: =M88*I72 -> 83.076024 | O88: =(D$66*$M88^2+D$67*$M88+D$68)*K72 -> 32.344926 | P88: =O88*$P$81 -> 29.757332 | Q88: =O88*$Q$81 -> 34.93252 | R88: =(F$66*$E$75^2+F$67*$E$75+F$68)*O88 -> 31.393166 | S88: =N88*R88/1000 -> 2.6080194 | U88: =E$73/S88 -> 134.20145 | V88: 0.42 | W88: =S88*V88 -> 1.0953682 | X88: =E$75+W88 -> 68.548704 | Y88: 0.65 | Z88: =Y88*0.65 -> 0.4225
H89: =K89/G73 -> #DIV/0! | J89: =J73 -> 0 | K89: =HLOOKUP(Simulator!$C$6,Calculation!L$65:AD$79,9,FALSE) -> #DIV/0! | L89: =IF(K89=0,FALSE,E$77/K89) -> #DIV/0! | M89: =C$66*$L89^3+C$67*$L89^2+C$68*$L89+C$69 -> #DIV/0! | N89: =M89*I73 -> #DIV/0! | O89: =(D$66*$M89^2+D$67*$M89+D$68)*K73 -> #DIV/0! | P89: =O89*$P$81 -> #DIV/0! | Q89: =O89*$Q$81 -> #DIV/0! | R89: =(F$66*$E$75^2+F$67*$E$75+F$68)*O89 -> #DIV/0! | S89: =N89*R89/1000 -> #DIV/0! | U89: =E$73/S89 -> #DIV/0! | V89: =Y89*0.65 -> 0 | W89: =S89*V89 -> #DIV/0! | X89: =E$75+W89 -> #DIV/0!
H90: =K90/G74 -> #DIV/0! | J90: =J74 -> 0 | K90: =HLOOKUP(Simulator!$C$6,Calculation!L$65:AD$79,10,FALSE) -> #DIV/0! | L90: =IF(K90=0,FALSE,E$77/K90) -> #DIV/0! | M90: =C$66*$L90^3+C$67*$L90^2+C$68*$L90+C$69 -> #DIV/0! | N90: =M90*I74 -> #DIV/0! | O90: =(D$66*$M90^2+D$67*$M90+D$68)*K74 -> #DIV/0! | P90: =O90*$P$81 -> #DIV/0! | Q90: =O90*$Q$81 -> #DIV/0! | R90: =(F$66*$E$75^2+F$67*$E$75+F$68)*O90 -> #DIV/0! | S90: =N90*R90/1000 -> #DIV/0! | U90: =E$73/S90 -> #DIV/0! | V90: =Y90*0.65 -> 0 | W90: =S90*V90 -> #DIV/0! | X90: =E$75+W90 -> #DIV/0!
H91: =K91/G75 -> #DIV/0! | J91: =J75 -> 0 | K91: =HLOOKUP(Simulator!$C$6,Calculation!L$65:AD$79,11,FALSE) -> #DIV/0! | L91: =IF(K91=0,FALSE,E$77/K91) -> #DIV/0! | M91: =C$66*$L91^3+C$67*$L91^2+C$68*$L91+C$69 -> #DIV/0! | N91: =M91*I75 -> #DIV/0! | O91: =(D$66*$M91^2+D$67*$M91+D$68)*K75 -> #DIV/0! | P91: =O91*$P$81 -> #DIV/0! | Q91: =O91*$Q$81 -> #DIV/0! | R91: =(F$66*$E$75^2+F$67*$E$75+F$68)*O91 -> #DIV/0! | S91: =N91*R91/1000 -> #DIV/0! | U91: =E$73/S91 -> #DIV/0! | V91: =Y91*0.65 -> 0 | W91: =S91*V91 -> #DIV/0! | X91: =E$75+W91 -> #DIV/0!
H92: =K92/G76 -> #DIV/0! | J92: =J76 -> 0 | K92: =HLOOKUP(Simulator!$C$6,Calculation!L$65:AD$79,12,FALSE) -> #DIV/0! | L92: =IF(K92=0,FALSE,E$77/K92) -> #DIV/0! | M92: =C$66*$L92^3+C$67*$L92^2+C$68*$L92+C$69 -> #DIV/0! | N92: =M92*I76 -> #DIV/0! | O92: =(D$66*$M92^2+D$67*$M92+D$68)*K76 -> #DIV/0! | P92: =O92*$P$81 -> #DIV/0! | Q92: =O92*$Q$81 -> #DIV/0! | R92: =(F$66*$E$75^2+F$67*$E$75+F$68)*O92 -> #DIV/0! | S92: =N92*R92/1000 -> #DIV/0! | U92: =E$73/S92 -> #DIV/0! | V92: =Y92*0.65 -> 0 | W92: =S92*V92 -> #DIV/0! | X92: =E$75+W92 -> #DIV/0!
H93: =K93/G77 -> #DIV/0! | J93: =J77 -> 0 | K93: =HLOOKUP(Simulator!$C$6,Calculation!L$65:AD$79,13,FALSE) -> #DIV/0! | L93: =IF(K93=0,FALSE,E$77/K93) -> #DIV/0! | M93: =C$66*$L93^3+C$67*$L93^2+C$68*$L93+C$69 -> #DIV/0! | N93: =M93*I77 -> #DIV/0! | O93: =(D$66*$M93^2+D$67*$M93+D$68)*K77 -> #DIV/0! | P93: =O93*$P$81 -> #DIV/0! | Q93: =O93*$Q$81 -> #DIV/0! | R93: =(F$66*$E$75^2+F$67*$E$75+F$68)*O93 -> #DIV/0! | S93: =N93*R93/1000 -> #DIV/0! | U93: =E$73/S93 -> #DIV/0! | V93: =Y93*0.65 -> 0 | W93: =S93*V93 -> #DIV/0! | X93: =E$75+W93 -> #DIV/0!
H94: =K94/G78 -> #DIV/0! | J94: =J78 -> 0 | K94: =HLOOKUP(Simulator!$C$6,Calculation!L$65:AD$79,14,FALSE) -> #DIV/0! | L94: =IF(K94=0,FALSE,E$77/K94) -> #DIV/0! | M94: =C$66*$L94^3+C$67*$L94^2+C$68*$L94+C$69 -> #DIV/0! | N94: =M94*I78 -> #DIV/0! | O94: =(D$66*$M94^2+D$67*$M94+D$68)*K78 -> #DIV/0! | P94: =O94*$P$81 -> #DIV/0! | Q94: =O94*$Q$81 -> #DIV/0! | R94: =(F$66*$E$75^2+F$67*$E$75+F$68)*O94 -> #DIV/0! | S94: =N94*R94/1000 -> #DIV/0! | U94: =E$73/S94 -> #DIV/0! | V94: =Y94*0.65 -> 0 | W94: =S94*V94 -> #DIV/0! | X94: =E$75+W94 -> #DIV/0!
H95: =K95/G79 -> #DIV/0! | J95: =J79 -> 0 | K95: =HLOOKUP(Simulator!$C$6,Calculation!L$65:AD$79,15,FALSE) -> #DIV/0! | L95: =IF(K95=0,FALSE,E$77/K95) -> #DIV/0! | M95: =C$66*$L95^3+C$67*$L95^2+C$68*$L95+C$69 -> #DIV/0! | N95: =M95*I79 -> #DIV/0! | O95: =(D$66*$M95^2+D$67*$M95+D$68)*K79 -> #DIV/0! | P95: =O95*$P$81 -> #DIV/0! | Q95: =O95*$Q$81 -> #DIV/0! | R95: =(F$66*$E$75^2+F$67*$E$75+F$68)*O95 -> #DIV/0! | S95: =N95*R95/1000 -> #DIV/0! | U95: =E$73/S95 -> #DIV/0! | V95: =Y95*0.65 -> 0 | W95: =S95*V95 -> #DIV/0! | X95: =E$75+W95 -> #DIV/0!
P97: Tc Limit | Q97: L/L
Q98: =C50 -> 5
P100: Tc Limit | Q100: U/L | S100: L/L
Q101: =$C$52 -> 105 | S101: =$D$52 -> -40
P103: Tj Limit | Q103: U/L | S103: L/L
Q104: =$C$54 -> 140 | S104: =$D$54 -> -25
Q106: Tc Limit | R106: IF Limit | V106: Tj Limit | W106: Tj
H107: 傾き | I107: 切片 | K107: IF Limit | N107: U/L | Q107: Judgement | R107: L/L | T107: U/L | U107: Judgement | V107: Judgement | W107: Shown
J108: =L108 -> 690 | L108: =$D$50*I67 -> 690 | M108: =L108 -> 690 | N108: =IF(L108>=M108,M108,L108) -> 690 | P108: =J83 -> CLU701-0303C4 | Q108: =AND(S$101<=$E$75,Q$101>=$E$75) -> TRUE | R108: =Q$98*I67 -> 15 | T108: =N108 -> 690 | U108: =AND(Q108,R108<=N83,T108>=N83) -> TRUE | V108: =AND(Q108,S$104<X83,Q$104>X83) -> TRUE | W108: =AND(U108,Q108,V108) -> TRUE
J109: =L109 -> 920 | L109: =$D$50*I68 -> 920 | M109: =IF(L109>J109,J109,L109) -> 920 | N109: =IF(L109>=M109,M109,L109) -> 920 | P109: =J84 -> CLU701-0304C4 | Q109: =AND(S$101<=$E$75,Q$101>=$E$75) -> TRUE | R109: =Q$98*I68 -> 20 | T109: =N109 -> 920 | U109: =AND(Q109,R109<=N84,T109>=N84) -> FALSE | V109: =AND(Q109,S$104<X84,Q$104>X84) -> TRUE | W109: =AND(U109,Q109,V109) -> FALSE
J110: =L110 -> 460 | L110: =$D$50*I69 -> 460 | M110: =IF(L110>J110,J110,L110) -> 460 | N110: =IF(L110>=M110,M110,L110) -> 460 | P110: =J85 -> CLU701-1002C4 | Q110: =AND(S$101<=$E$75,Q$101>=$E$75) -> TRUE | R110: =Q$98*I69 -> 10 | T110: =N110 -> 460 | U110: =AND(Q110,R110<=N85,T110>=N85) -> TRUE | V110: =AND(Q110,S$104<X85,Q$104>X85) -> TRUE | W110: =AND(U110,Q110,V110) -> TRUE
J111: =L111 -> 920 | L111: =$D$50*I70 -> 920 | M111: =IF(L111>J111,J111,L111) -> 920 | N111: =IF(L111>=M111,M111,L111) -> 920 | P111: =J86 -> CLU711-1204C4 | Q111: =AND(S$101<=$E$75,Q$101>=$E$75) -> TRUE | R111: =Q$98*I70 -> 20 | T111: =N111 -> 920 | U111: =AND(Q111,R111<=N86,T111>=N86) -> TRUE | V111: =AND(Q111,S$104<X86,Q$104>X86) -> TRUE | W111: =AND(U111,Q111,V111) -> TRUE
J112: =L112 -> 1380 | L112: =$D$50*I71 -> 1380 | M112: =IF(L112>J112,J112,L112) -> 1380 | N112: =IF(L112>=M112,M112,L112) -> 1380 | P112: =J87 -> CLU721-1206C4 | Q112: =AND(S$101<=$E$75,Q$101>=$E$75) -> TRUE | R112: =Q$98*I71 -> 30 | T112: =N112 -> 1380 | U112: =AND(Q112,R112<=N87,T112>=N87) -> TRUE | V112: =AND(Q112,S$104<X87,Q$104>X87) -> TRUE | W112: =AND(U112,Q112,V112) -> TRUE
H113: -62.764525 | I113: 8787.0324 | J113: =H113*E75+I113 -> 4553.3558 | L113: =$D$50*I72 -> 2300 | M113: =IF(L113>J113,J113,L113) -> 2300 | N113: =IF(L113>=M113,M113,L113) -> 2300 | P113: =J88 -> CLU731-1210C4 | Q113: =AND(S$101<=$E$75,Q$101>=$E$75) -> TRUE | R113: =Q$98*I72 -> 50 | T113: =N113 -> 2300 | U113: =AND(Q113,R113<=N88,T113>=N88) -> TRUE | V113: =AND(Q113,S$104<X88,Q$104>X88) -> TRUE | W113: =AND(U113,Q113,V113) -> TRUE
J114: =L114 -> 0 | L114: =$D$50*I73 -> 0 | M114: =IF(L114>J114,J114,L114) -> 0 | N114: =IF(L114>=M114,M114,L114) -> 0 | P114: =J89 -> 0 | Q114: =AND(S$101<=$E$75,Q$101>=$E$75) -> TRUE | R114: =Q$98*I73 -> 0 | T114: =N114 -> 0 | U114: =AND(Q114,R114<=N89,T114>=N89) -> #DIV/0! | V114: =AND(Q114,S$104<X89,Q$104>X89) -> #DIV/0! | W114: =AND(U114,Q114,V114) -> #DIV/0!
J115: =L115 -> 0 | L115: =$D$50*I74 -> 0 | M115: =IF(L115>J115,J115,L115) -> 0 | N115: =IF(L115>=M115,M115,L115) -> 0 | P115: =J90 -> 0 | Q115: =AND(S$101<=$E$75,Q$101>=$E$75) -> TRUE | R115: =Q$98*I74 -> 0 | T115: =N115 -> 0 | U115: =AND(Q115,R115<=N90,T115>=N90) -> #DIV/0! | V115: =AND(Q115,S$104<X90,Q$104>X90) -> #DIV/0! | W115: =AND(U115,Q115,V115) -> #DIV/0!
J116: =L116 -> 0 | L116: =$D$50*I75 -> 0 | M116: =IF(L116>J116,J116,L116) -> 0 | N116: =IF(L116>=M116,M116,L116) -> 0 | P116: =J91 -> 0 | Q116: =AND(S$101<=$E$75,Q$101>=$E$75) -> TRUE | R116: =Q$98*I75 -> 0 | T116: =N116 -> 0 | U116: =AND(Q116,R116<=N91,T116>=N91) -> #DIV/0! | V116: =AND(Q116,S$104<X91,Q$104>X91) -> #DIV/0! | W116: =AND(U116,Q116,V116) -> #DIV/0!
J117: =L117 -> 0 | L117: =$D$50*I76 -> 0 | M117: =IF(L117>J117,J117,L117) -> 0 | N117: =IF(L117>=M117,M117,L117) -> 0 | P117: =J92 -> 0 | Q117: =AND(S$101<=$E$75,Q$101>=$E$75) -> TRUE | R117: =Q$98*I76 -> 0 | T117: =N117 -> 0 | U117: =AND(Q117,R117<=N92,T117>=N92) -> #DIV/0! | V117: =AND(Q117,S$104<X92,Q$104>X92) -> #DIV/0! | W117: =AND(U117,Q117,V117) -> #DIV/0!
J118: =L118 -> 0 | L118: =$D$50*I77 -> 0 | M118: =IF(L118>J118,J118,L118) -> 0 | N118: =IF(L118>=M118,M118,L118) -> 0 | P118: =J93 -> 0 | Q118: =AND(S$101<=$E$75,Q$101>=$E$75) -> TRUE | R118: =Q$98*I77 -> 0 | T118: =N118 -> 0 | U118: =AND(Q118,R118<=N93,T118>=N93) -> #DIV/0! | V118: =AND(Q118,S$104<X93,Q$104>X93) -> #DIV/0! | W118: =AND(U118,Q118,V118) -> #DIV/0!
J119: =H119*$E$75+I119 -> 0 | L119: =$D$50*I78 -> 0 | M119: =IF(L119>J119,J119,L119) -> 0 | N119: =IF(L119>=M119,M119,L119) -> 0 | P119: =J94 -> 0 | Q119: =AND(S$101<=$E$75,Q$101>=$E$75) -> TRUE | R119: =Q$98*I78 -> 0 | T119: =N119 -> 0 | U119: =AND(Q119,R119<=N94,T119>=N94) -> #DIV/0! | V119: =AND(Q119,S$104<X94,Q$104>X94) -> #DIV/0! | W119: =AND(U119,Q119,V119) -> #DIV/0!
J120: =H120*$E$75+I120 -> 0 | L120: =$D$50*I79 -> 0 | M120: =IF(L120>J120,J120,L120) -> 0 | N120: =IF(L120>=M120,M120,L120) -> 0 | P120: =J95 -> 0 | Q120: =AND(S$101<=$E$75,Q$101>=$E$75) -> TRUE | R120: =Q$98*I79 -> 0 | T120: =N120 -> 0 | U120: =AND(Q120,R120<=N95,T120>=N95) -> #DIV/0! | V120: =AND(Q120,S$104<X95,Q$104>X95) -> #DIV/0! | W120: =AND(U120,Q120,V120) -> #DIV/0!
K121: 175mA,Tc25C
B122: IF(x)-lm%(y) | C122: lm%(x)-IF(y) | D122: IF(x)-VF%(y) | E122: Tc(x)-lm%(y) | F122: Tc(x)-VF%(y) | L122: 1 | M122: 2 | N122: 3 | O122: 4 | P122: 5 | Q122: 6 | R122: 7 | S122: 8 | T122: 9 | U122: 10 | V122: 11 | W122: 12 | X122: 13 | Y122: 14 | Z122: 15 | AA122: 16 | AB122: 17 | AC122: 18 | AD122: 19
A123: a | B123: =C59 -> 5.6231687e-09 | C123: =D59 -> 1.0968818 | D123: =E59 -> -1.5740769e-06 | E123: =F59 -> -1.1152155e-08 | F123: =G59 -> 2.7366883e-06 | H123: Series | I123: Parallel | K123: VF | L123: =K2 -> 5000K Natural | M123: =K3 -> 4000K Natural | N123: =K4 -> 3500K Natural | O123: =K5 -> 3000K Natural | P123: =K6 -> 2700K Natural | Q123: =K7 -> 0 | R123: =K8 -> 0 | S123: =K9 -> 0 | T123: =K10 -> 0 | U123: =K11 -> 0 | V123: =K12 -> 0 | W123: =K13 -> 0 | X123: =K14 -> 0 | Y123: =K15 -> 0 | Z123: =K16 -> 0 | AA123: =K17 -> 0 | AB123: =K18 -> 0 | AC123: =K19 -> 0 | AD123: =K20 -> 0
A124: b | B124: =C60 -> -6.8430471e-06 | C124: =D60 -> 28.364492 | D124: =E60 -> 0.0012473617 | E124: =F60 -> -4.1294483e-06 | F124: =G60 -> -0.00094613757 | G124: =H124*I124 -> 9 | H124: =H67 -> 3 | I124: =I67 -> 3 | J124: =B2 -> CLU701-0303C4 | K124: =K67 -> 9.6865594 | L124: =L67 -> 561.38969 | M124: =M67 -> 544.01593 | N124: =N67 -> 509.26841 | O124: =O67 -> 494.06636 | P124: =P67 -> 470.17744 | Q124: =Q67 -> 0 | R124: =R67 -> 0 | ... X124: =X67 -> 0 | Y124: NA | Z124: NA | AA124: NA | AB124: NA | AC124: NA | AD124: NA
A125: c | B125: =C61 -> 0.0067343757 | C125: =D61 -> 145.51791 | D125: =E61 -> 0.82991781 | E125: =F61 -> -0.0013906687 | F125: =G61 -> 1.021943 | G125: =H125*I125 -> 12 | H125: =H68 -> 3 | I125: =I68 -> 4 | J125: =B3 -> CLU701-0304C4 | K125: =K68 -> 9.6837189 | L125: =L68 -> 0 | M125: =M68 -> 0 | N125: =N68 -> 0 | O125: =O68 -> 0 | P125: =P68 -> 0 | Q125: =Q68 -> 0 | R125: =R68 -> 0 | ... X125: =X68 -> 0 | Y125: NA | Z125: NA | AA125: NA | AB125: =AB68 -> 0 | AC125: =AC68 -> 0 | AD125: =AD68 -> 0
A126: d | B126: =C62 -> 0.00091590531 | C126: =D62 -> 0.1515608 | E126: =F62 -> 1.0375219 | G126: =H126*I126 -> 20 | H126: =H69 -> 10 | I126: =I69 -> 2 | J126: =B4 -> CLU701-1002C4 | K126: =K69 -> 32.283276 | L126: =L69 -> 1165.4845 | M126: =M69 -> 1130.7588 | N126: =N69 -> 1059.1368 | O126: =O69 -> 1026.5814 | P126: =P69 -> 977.74821 | Q126: =Q69 -> 0 | R126: =R69 -> 0 | ... X126: =X69 -> 0 | Y126: NA | Z126: NA | AA126: NA | AB126: =AB69 -> 0 | AC126: =AC69 -> 0 | AD126: =AD69 -> 0
D127: mA | E127: =Simulator!G6 -> 350 | G127: =H127*I127 -> 48 | H127: =H70 -> 12 | I127: =I70 -> 4 | J127: =B5 -> CLU711-1204C4 | K127: =K70 -> 38.588559 | L127: =L70 -> 2788.0737 | M127: =M70 -> 2704.624 | N127: =N70 -> 2533.4453 | O127: =O70 -> 2455.345 | P127: =P70 -> 2338.7295 | Q127: =Q70 -> 0 | R127: =R70 -> 0 | ... AD127: =AD70 -> 0
G128: =H128*I128 -> 72 | H128: =H71 -> 12 | I128: =I71 -> 6 | J128: =B6 -> CLU721-1206C4 | K128: =K71 -> 38.594932 | L128: =L71 -> 4141.673 | M128: =M71 -> 4018.5682 | N128: =N71 -> 3763.7948 | O128: =O71 -> 3648.1834 | P128: =P71 -> 3474.7662 | Q128: =Q71 -> 0 | R128: =R71 -> 0 | ... X128: =X71 -> 0 | Y128: NA | Z128: NA | AA128: NA | AB128: =AB71 -> 0 | AC128: =AC71 -> 0 | AD128: =AD71 -> 0
...
