Workbook

Sheet Simulator
B6: CCT | C6: 1 | D6: 1 | E6: 2 | G6: 350 | H6: =VLOOKUP(E6,Calculation!A26:I27,9,FALSE) -> mA | J6: Tc (C) | L6: 67.453336
B9: Product code | E9: =VLOOKUP($E6,Calculation!A26:I27,3,FALSE) -> φv (lm) | G9: =VLOOKUP($E6,Calculation!A26:I27,4,FALSE) -> Vf (V) | I9: =VLOOKUP($E6,Calculation!A26:I27,7,FALSE) -> Pd (W) | K9: =VLOOKUP($E6,Calculation!A26:I27,8,FALSE) -> lm/W | M9: Tj (C)
B10: Code | E10: =CONCATENATE($E6,E9) -> 2φv (lm) | G10: =CONCATENATE($E6,G9) -> 2Vf (V) | I10: =CONCATENATE($E6,I9) -> 2Pd (W) | K10: =CONCATENATE($E6,K9) -> 2lm/W | M10: =CONCATENATE($E6,M9) -> 2Tj (C)
B11: =CONCATENATE(Calculation!B2,"-",Calculation!F2,Calculation!D2) -> CLU701-0303C4-50NV1N8 | E11: =HLOOKUP(E$10,Calculation!$C$33:$P$46,2,FALSE) -> 363.35818 | G11: =HLOOKUP(G$10,Calculation!$C$33:$P$46,2,FALSE) -> 8.9692319 | I11: =HLOOKUP(I$10,Calculation!$C$33:$P$46,2,FALSE) -> 3.1392312 | K11: =HLOOKUP(K$10,Calculation!$C$33:$P$46,2,FALSE) -> 115.74751 | M11: =HLOOKUP(M$10,Calculation!$C$33:$P$46,2,FALSE) -> 78.440645
B12: =CONCATENATE(Calculation!B3,"-",Calculation!F3,Calculation!D3) -> CLU701-0304C4-50NV1N8 | E12: =HLOOKUP(E$10,Calculation!$C$33:$P$46,3,FALSE) -> Not Applicable | G12: =HLOOKUP(G$10,Calculation!$C$33:$P$46,3,FALSE) -> Not Applicable | I12: =HLOOKUP(I$10,Calculation!$C$33:$P$46,3,FALSE) -> Not Applicable | K12: =HLOOKUP(K$10,Calculation!$C$33:$P$46,3,FALSE) -> Not Applicable | M12: =HLOOKUP(M$10,Calculation!$C$33:$P$46,3,FALSE) -> Not Applicable
B13: =CONCATENATE(Calculation!B4,"-",Calculation!F4,Calculation!D4) -> CLU701-1002C4-50NV1N8 | E13: =HLOOKUP(E$10,Calculation!$C$33:$P$46,4,FALSE) -> 1074 | G13: =HLOOKUP(G$10,Calculation!$C$33:$P$46,4,FALSE) -> 31.33333 | I13: =HLOOKUP(I$10,Calculation!$C$33:$P$46,4,FALSE) -> 10.966665 | K13: =HLOOKUP(K$10,Calculation!$C$33:$P$46,4,FALSE) -> 97.933141 | M13: =HLOOKUP(M$10,Calculation!$C$33:$P$46,4,FALSE) -> 85.000001
B14: =CONCATENATE(Calculation!B5,"-",Calculation!F5,Calculation!D5) -> CLU711-1204C4-50NV1N8 | E14: =HLOOKUP(E$10,Calculation!$C$33:$P$46,5,FALSE) -> 1391.3602 | G14: =HLOOKUP(G$10,Calculation!$C$33:$P$46,5,FALSE) -> 34.719394 | I14: =HLOOKUP(I$10,Calculation!$C$33:$P$46,5,FALSE) -> 12.151788 | K14: =HLOOKUP(K$10,Calculation!$C$33:$P$46,5,FALSE) -> 114.4984 | M14: =HLOOKUP(M$10,Calculation!$C$33:$P$46,5,FALSE) -> 78.511463
B15: =CONCATENATE(Calculation!B6,"-",Calculation!F6,Calculation!D6) -> CLU721-1206C4-50NV1N8 | E15: =HLOOKUP(E$10,Calculation!$C$33:$P$46,6,FALSE) -> 1418.1824 | G15: =HLOOKUP(G$10,Calculation!$C$33:$P$46,6,FALSE) -> 33.613109 | I15: =HLOOKUP(I$10,Calculation!$C$33:$P$46,6,FALSE) -> 11.764588 | K15: =HLOOKUP(K$10,Calculation!$C$33:$P$46,6,FALSE) -> 120.54671 | M15: =HLOOKUP(M$10,Calculation!$C$33:$P$46,6,FALSE) -> 74.512089
B16: =CONCATENATE(Calculation!B7,"-",Calculation!F7,Calculation!D7) -> CLU731-1210C4-50NV1N8 | E16: =HLOOKUP(E$10,Calculation!$C$33:$P$46,7,FALSE) -> 1442.2048 | G16: =HLOOKUP(G$10,Calculation!$C$33:$P$46,7,FALSE) -> 32.569253 | I16: =HLOOKUP(I$10,Calculation!$C$33:$P$46,7,FALSE) -> 11.399238 | K16: =HLOOKUP(K$10,Calculation!$C$33:$P$46,7,FALSE) -> 126.51764 | M16: =HLOOKUP(M$10,Calculation!$C$33:$P$46,7,FALSE) -> 72.241016
B17: =CONCATENATE(Calculation!B8,"-",Calculation!F8,Calculation!D8) -> - | E17: =HLOOKUP(E$10,Calculation!$C$33:$P$46,8,FALSE) -> #DIV/0! | G17: =HLOOKUP(G$10,Calculation!$C$33:$P$46,8,FALSE) -> #DIV/0! | I17: =HLOOKUP(I$10,Calculation!$C$33:$P$46,8,FALSE) -> #DIV/0! | K17: =HLOOKUP(K$10,Calculation!$C$33:$P$46,8,FALSE) -> #DIV/0! | M17: =HLOOKUP(M$10,Calculation!$C$33:$P$46,8,FALSE) -> #DIV/0!
B18: =CONCATENATE(Calculation!B9,"-",Calculation!F9,Calculation!D9) -> - | E18: =HLOOKUP(E$10,Calculation!$C$33:$P$46,9,FALSE) -> #DIV/0! | G18: =HLOOKUP(G$10,Calculation!$C$33:$P$46,9,FALSE) -> #DIV/0! | I18: =HLOOKUP(I$10,Calculation!$C$33:$P$46,9,FALSE) -> #DIV/0! | K18: =HLOOKUP(K$10,Calculation!$C$33:$P$46,9,FALSE) -> #DIV/0! | M18: =HLOOKUP(M$10,Calculation!$C$33:$P$46,9,FALSE) -> #DIV/0!
B19: =CONCATENATE(Calculation!B10,"-",Calculation!F10,Calculation!D10) -> - | E19: =HLOOKUP(E$10,Calculation!$C$33:$P$46,10,FALSE) -> #DIV/0! | G19: =HLOOKUP(G$10,Calculation!$C$33:$P$46,10,FALSE) -> #DIV/0! | I19: =HLOOKUP(I$10,Calculation!$C$33:$P$46,10,FALSE) -> #DIV/0! | K19: =HLOOKUP(K$10,Calculation!$C$33:$P$46,10,FALSE) -> #DIV/0! | M19: =HLOOKUP(M$10,Calculation!$C$33:$P$46,10,FALSE) -> #DIV/0!
B20: =CONCATENATE(Calculation!B11,"-",Calculation!F11,Calculation!D11) -> - | E20: =HLOOKUP(E$10,Calculation!$C$33:$P$46,11,FALSE) -> #DIV/0! | G20: =HLOOKUP(G$10,Calculation!$C$33:$P$46,11,FALSE) -> #DIV/0! | I20: =HLOOKUP(I$10,Calculation!$C$33:$P$46,11,FALSE) -> #DIV/0! | K20: =HLOOKUP(K$10,Calculation!$C$33:$P$46,11,FALSE) -> #DIV/0! | M20: =HLOOKUP(M$10,Calculation!$C$33:$P$46,11,FALSE) -> #DIV/0!
B21: =CONCATENATE(Calculation!B12,"-",Calculation!F12,Calculation!D12) -> - | E21: =HLOOKUP(E$10,Calculation!$C$33:$P$46,12,FALSE) -> #DIV/0! | G21: =HLOOKUP(G$10,Calculation!$C$33:$P$46,12,FALSE) -> #DIV/0! | I21: =HLOOKUP(I$10,Calculation!$C$33:$P$46,12,FALSE) -> #DIV/0! | K21: =HLOOKUP(K$10,Calculation!$C$33:$P$46,12,FALSE) -> #DIV/0! | M21: =HLOOKUP(M$10,Calculation!$C$33:$P$46,12,FALSE) -> #DIV/0!
B22: =CONCATENATE(Calculation!B13,"-",Calculation!F13,Calculation!D13) -> - | E22: =HLOOKUP(E$10,Calculation!$C$33:$P$46,13,FALSE) -> #DIV/0! | G22: =HLOOKUP(G$10,Calculation!$C$33:$P$46,13,FALSE) -> #DIV/0! | I22: =HLOOKUP(I$10,Calculation!$C$33:$P$46,13,FALSE) -> #DIV/0! | K22: =HLOOKUP(K$10,Calculation!$C$33:$P$46,13,FALSE) -> #DIV/0! | M22: =HLOOKUP(M$10,Calculation!$C$33:$P$46,13,FALSE) -> #DIV/0!
B23: =CONCATENATE(Calculation!B14,"-",Calculation!F14,Calculation!D14) -> - | E23: =HLOOKUP(E$10,Calculation!$C$33:$P$46,14,FALSE) -> #DIV/0! | G23: =HLOOKUP(G$10,Calculation!$C$33:$P$46,14,FALSE) -> #DIV/0! | I23: =HLOOKUP(I$10,Calculation!$C$33:$P$46,14,FALSE) -> #DIV/0! | K23: =HLOOKUP(K$10,Calculation!$C$33:$P$46,14,FALSE) -> #DIV/0! | M23: =HLOOKUP(M$10,Calculation!$C$33:$P$46,14,FALSE) -> #DIV/0!
C24: CITILED is a registered trademark of CITIZEN ELECTRONICS CO., LTD. Japan. | N24: Ver1.0
B26: This selection tool is the reference material for selecting suitable products.
B27: When electing to use a product, please be sure to request a delivery and specifications manual and check the contents.
B28: CITIZEN ELECTRONICS CO., LTD. shall not be liable for any disadvantages or damages, which your company may receive, resulting from the use of selection tool.
B29: Product names and specifications in this selection tool are subject to change without notice for the purpose of improvement, or manufacturing may be discontinued.

Sheet Calculation
B1: Series | G1: CCT | H1: Ra | K1: CCT&Ra | L1: Color code | M1: Phosphor
B2: CLU701-0303C4 | C2: =VLOOKUP(Simulator!$C$6,I2:M20,2,FALSE) -> C4 | D2: =VLOOKUP(Simulator!$C$6,I2:M20,5,FALSE) -> N8 | E2: =VLOOKUP(Simulator!$C$6,$I$2:$M$20,3,FALSE) -> 5000K Natural | F2: =VLOOKUP(Simulator!$C$6,I2:M20,4,FALSE) -> 50NV1 | G2: 5,000K | H2: - | I2: 1 | J2: C4 | K2: 5000K Natural | L2: 50NV1 | M2: N8
B3: CLU701-0304C4 | C3: =$C$2 -> C4 | D3: =$D$2 -> N8 | E3: =$E$2 -> 5000K Natural | F3: =$F$2 -> 50NV1 | G3: 4,000K | H3: - | I3: 2 | J3: C4 | K3: 4000K Natural | L3: 40NV1 | M3: N8
B4: CLU701-1002C4 | C4: =$C$2 -> C4 | D4: =$D$2 -> N8 | E4: =$E$2 -> 5000K Natural | F4: =$F$2 -> 50NV1 | G4: 3,500K | H4: - | I4: 3 | J4: C4 | K4: 3500K Natural | L4: 35NV1 | M4: N8
B5: CLU711-1204C4 | C5: =$C$2 -> C4 | D5: =$D$2 -> N8 | E5: =$E$2 -> 5000K Natural | F5: =$F$2 -> 50NV1 | G5: 3,000K | H5: - | I5: 4 | J5: C4 | K5: 3000K Natural | L5: 30NV1 | M5: N8
B6: CLU721-1206C4 | C6: =$C$2 -> C4 | D6: =$D$2 -> N8 | E6: =$E$2 -> 5000K Natural | F6: =$F$2 -> 50NV1 | G6: 2,700K | H6: - | I6: 5 | J6: C4 | K6: 2700K Natural | L6: 27NV1 | M6: N8
B7: CLU731-1210C4 | C7: =$C$2 -> C4 | D7: =$D$2 -> N8 | E7: =$E$2 -> 5000K Natural | F7: =$F$2 -> 50NV1
A26: 1 | B26: Luminous flux | C26: If (mA) | D26: Vf (V) | E26: Vf_min (V) | F26: Vf_max (V) | G26: Pd (W) | H26: lm/W | I26: lm
A27: 2 | B27: Forward current | C27: φv (lm) | D27: Vf (V) | E27: Vf_min (V) | F27: Vf_max (V) | G27: Pd (W) | H27: lm/W | I27: mA
A28: 3 | C28: lm | D28: If | E28: Vf | F28: lm/W | G28: Vf | H28: lm/W | I28: W
C31: [Luminous flux] | H31: [Forward current]
C32: =C26 -> If (mA) | D32: =D26 -> Vf (V) | E32: =E26 -> Vf_min (V) | F32: =F26 -> Vf_max (V) | G32: =G26 -> Pd (W) | H32: =H26 -> lm/W | I32: =Simulator!M9 -> Tj (C) | J32: =C27 -> φv (lm) | K32: =D27 -> Vf (V) | L32: =E27 -> Vf_min (V) | M32: =F27 -> Vf_max (V) | N32: =G27 -> Pd (W) | O32: =H27 -> lm/W | P32: =Simulator!M9 -> Tj (C)
C33: =CONCATENATE($A26,C26) -> 1If (mA) | D33: =CONCATENATE($A26,D26) -> 1Vf (V) | E33: =CONCATENATE($A26,E26) -> 1Vf_min (V) | F33: =CONCATENATE($A26,F26) -> 1Vf_max (V) | G33: =CONCATENATE($A26,G26) -> 1Pd (W) | H33: =CONCATENATE($A26,H26) -> 1lm/W | I33: =CONCATENATE($A26,I32) -> 1Tj (C) | J33: =CONCATENATE($A27,C27) -> 2φv (lm) | K33: =CONCATENATE($A27,D27) -> 2Vf (V) | L33: =CONCATENATE($A27,E27) -> 2Vf_min (V) | M33: =CONCATENATE($A27,F27) -> 2Vf_max (V) | N33: =CONCATENATE($A27,G27) -> 2Pd (W) | O33: =CONCATENATE($A27,H27) -> 2lm/W | P33: =CONCATENATE($A27,P32) -> 2Tj (C)
B34: =B2 -> CLU701-0303C4 | C34: =IF(Calculation!U108,Calculation!N83,"Not Applicable") -> 335.77825 | D34: =IF(Calculation!U108,Calculation!R83,"Not Applicable") -> 8.9296754 | E34: =IF(Calculation!U108,Calculation!P83,"Not Applicable") -> 8.4643681 | F34: =IF(Calculation!U108,Calculation!Q83,"Not Applicable") -> 9.9364322 | G34: =IF(Calculation!U108,Calculation!S83,"Not Applicable") -> 2.9983908 | H34: =IF(Calculation!U108,Calculation!U83,"Not Applicable") -> 116.72928 | I34: =IF(Calculation!W108,Calculation!X83,"Not Applicable") -> 77.947704 | J34: =IF(Calculation!Y165,Calculation!N140,"Not Applicable") -> 363.35818 | K34: =IF(Calculation!Y165,Calculation!R140,"Not Applicable") -> 8.9692319 | L34: =IF(Calculation!Y165,Calculation!P140,"Not Applicable") -> 8.2516933 | M34: =IF(Calculation!Y165,Calculation!Q140,"Not Applicable") -> 9.6867704 | N34: =IF(Calculation!Y165,Calculation!S140,"Not Applicable") -> 3.1392312 | O34: =IF(Calculation!Y165,Calculation!U140,"Not Applicable") -> 115.74751 | P34: =IF(Calculation!Y165,Calculation!X140,"Not Applicable") -> 78.440645
B35: =B3 -> CLU701-0304C4 | C35: =IF(Calculation!U109,Calculation!N84,"Not Applicable") -> Not Applicable | D35: =IF(Calculation!U109,Calculation!R84,"Not Applicable") -> Not Applicable | E35: =IF(Calculation!U109,Calculation!P84,"Not Applicable") -> Not Applicable | F35: =IF(Calculation!U109,Calculation!Q84,"Not Applicable") -> Not Applicable | G35: =IF(Calculation!U109,Calculation!S84,"Not Applicable") -> Not Applicable | H35: =IF(Calculation!U109,Calculation!U84,"Not Applicable") -> Not Applicable | I35: =IF(Calculation!W109,Calculation!X84,"Not Applicable") -> Not Applicable | J35: =IF(Calculation!Y166,Calculation!N141,"Not Applicable") -> Not Applicable | K35: =IF(Calculation!Y166,Calculation!R141,"Not Applicable") -> Not Applicable | L35: =IF(Calculation!Y166,Calculation!P141,"Not Applicable") -> Not Applicable | M35: =IF(Calculation!Y166,Calculation!Q141,"Not Applicable") -> Not Applicable | N35: =IF(Calculation!Y166,Calculation!S141,"Not Applicable") -> Not Applicable | O35: =IF(Calculation!Y166,Calculation!U141,"Not Applicable") -> Not Applicable | P35: =IF(Calculation!Y166,Calculation!X141,"Not Applicable") -> Not Applicable
B36: =B4 -> CLU701-1002C4 | C36: =IF(Calculation!U110,Calculation!N85,"Not Applicable") -> 101.24778 | D36: =IF(Calculation!U110,Calculation!R85,"Not Applicable") -> 27.856274 | E36: =IF(Calculation!U110,Calculation!P85,"Not Applicable") -> 26.40474 | F36: =IF(Calculation!U110,Calculation!Q85,"Not Applicable") -> 30.996868 | G36: =IF(Calculation!U110,Calculation!S85,"Not Applicable") -> 2.8203858 | H36: =IF(Calculation!U110,Calculation!U85,"Not Applicable") -> 124.0965 | I36: =IF(Calculation!W110,Calculation!X85,"Not Applicable") -> 71.965953 | J36: =IF(Calculation!Y167,Calculation!N142,"Not Applicable") -> 1074 | K36: =IF(Calculation!Y167,Calculation!R142,"Not Applicable") -> 31.33333 | L36: =IF(Calculation!Y167,Calculation!P142,"Not Applicable") -> 28.826664 | M36: =IF(Calculation!Y167,Calculation!Q142,"Not Applicable") -> 33.839996 | N36: =IF(Calculation!Y167,Calculation!S142,"Not Applicable") -> 10.966665 | O36: =IF(Calculation!Y167,Calculation!U142,"Not Applicable") -> 97.933141 | P36: =IF(Calculation!Y167,Calculation!X142,"Not Applicable") -> 85.000001
B37: =B5 -> CLU711-1204C4 | C37: =IF(Calculation!U111,Calculation!N86,"Not Applicable") -> 82.017284 | D37: =IF(Calculation!U111,Calculation!R86,"Not Applicable") -> 32.016102 | E37: =IF(Calculation!U111,Calculation!P86,"Not Applicable") -> 30.347808 | F37: =IF(Calculation!U111,Calculation!Q86,"Not Applicable") -> 35.625688 | G37: =IF(Calculation!U111,Calculation!S86,"Not Applicable") -> 2.6258737 | H37: =IF(Calculation!U111,Calculation!U86,"Not Applicable") -> 133.28897 | I37: =IF(Calculation!W111,Calculation!X86,"Not Applicable") -> 69.842881 | J37: =IF(Calculation!Y168,Calculation!N143,"Not Applicable") -> 1391.3602 | K37: =IF(Calculation!Y168,Calculation!R143,"Not Applicable") -> 34.719394 | L37: =IF(Calculation!Y168,Calculation!P143,"Not Applicable") -> 31.941843 | M37: =IF(Calculation!Y168,Calculation!Q143,"Not Applicable") -> 37.496946 | N37: =IF(Calculation!Y168,Calculation!S143,"Not Applicable") -> 12.151788 | O37: =IF(Calculation!Y168,Calculation!U143,"Not Applicable") -> 114.4984 | P37: =IF(Calculation!Y168,Calculation!X143,"Not Applicable") -> 78.511463
B38: =B6 -> CLU721-1206C4 | C38: =IF(Calculation!U112,Calculation!N87,"Not Applicable") -> 82.414276 | D38: =IF(Calculation!U112,Calculation!R87,"Not Applicable") -> 31.71879 | E38: =IF(Calculation!U112,Calculation!P87,"Not Applicable") -> 30.065988 | F38: =IF(Calculation!U112,Calculation!Q87,"Not Applicable") -> 35.294856 | G38: =IF(Calculation!U112,Calculation!S87,"Not Applicable") -> 2.6140811 | H38: =IF(Calculation!U112,Calculation!U87,"Not Applicable") -> 133.89026 | I38: =IF(Calculation!W112,Calculation!X87,"Not Applicable") -> 69.021785 | J38: =IF(Calculation!Y169,Calculation!N144,"Not Applicable") -> 1418.1824 | K38: =IF(Calculation!Y169,Calculation!R144,"Not Applicable") -> 33.613109 | L38: =IF(Calculation!Y169,Calculation!P144,"Not Applicable") -> 30.92406 | M38: =IF(Calculation!Y169,Calculation!Q144,"Not Applicable") -> 36.302158 | N38: =IF(Calculation!Y169,Calculation!S144,"Not Applicable") -> 11.764588 | O38: =IF(Calculation!Y169,Calculation!U144,"Not Applicable") -> 120.54671 | P38: =IF(Calculation!Y169,Calculation!X144,"Not Applicable") -> 74.512089
B39: =B7 -> CLU731-1210C4 | C39: =IF(Calculation!U113,Calculation!N88,"Not Applicable") -> 83.076024 | D39: =IF(Calculation!U113,Calculation!R88,"Not Applicable") -> 31.393166 | E39: =IF(Calculation!U113,Calculation!P88,"Not Applicable") -> 29.757332 | F39: =IF(Calculation!U113,Calculation!Q88,"Not Applicable") -> 34.93252 | G39: =IF(Calculation!U113,Calculation!S88,"Not Applicable") -> 2.6080194 | H39: =IF(Calculation!U113,Calculation!U88,"Not Applicable") -> 134.20145 | I39: =IF(Calculation!W113,Calculation!X88,"Not Applicable") -> 68.548704 | J39: =IF(Calculation!Y170,Calculation!N145,"Not Applicable") -> 1442.2048 | K39: =IF(Calculation!Y170,Calculation!R145,"Not Applicable") -> 32.569253 | L39: =IF(Calculation!Y170,Calculation!P145,"Not Applicable") -> 29.963712 | M39: =IF(Calculation!Y170,Calculation!Q145,"Not Applicable") -> 35.174793 | N39: =IF(Calculation!Y170,Calculation!S145,"Not Applicable") -> 11.399238 | O39: =IF(Calculation!Y170,Calculation!U145,"Not Applicable") -> 126.51764 | P39: =IF(Calculation!Y170,Calculation!X145,"Not Applicable") -> 72.241016
B40: =B8 -> 0 | C40: =IF(Calculation!U114,Calculation!N89,"Not Applicable") -> #DIV/0! | D40: =IF(Calculation!U114,Calculation!R89,"Not Applicable") -> #DIV/0! | E40: =IF(Calculation!U114,Calculation!P89,"Not Applicable") -> #DIV/0! | F40: =IF(Calculation!U114,Calculation!Q89,"Not Applicable") -> #DIV/0! | G40: =IF(Calculation!U114,Calculation!S89,"Not Applicable") -> #DIV/0! | H40: =IF(Calculation!U114,Calculation!U89,"Not Applicable") -> #DIV/0! | I40: =IF(Calculation!W114,Calculation!X89,"Not Applicable") -> #DIV/0! | J40: =IF(Calculation!Y171,Calculation!N146,"Not Applicable") -> #DIV/0! | K40: =IF(Calculation!Y171,Calculation!R146,"Not Applicable") -> #DIV/0! | L40: =IF(Calculation!Y171,Calculation!P146,"Not Applicable") -> #DIV/0! | M40: =IF(Calculation!Y171,Calculation!Q146,"Not Applicable") -> #DIV/0! | N40: =IF(Calculation!Y171,Calculation!S146,"Not Applicable") -> #DIV/0! | O40: =IF(Calculation!Y171,Calculation!U146,"Not Applicable") -> #DIV/0! | P40: =IF(Calculation!Y171,Calculation!X146,"Not Applicable") -> #DIV/0!
B41: =B9 -> 0 | C41: =IF(Calculation!U115,Calculation!N90,"Not Applicable") -> #DIV/0! | D41: =IF(Calculation!U115,Calculation!R90,"Not Applicable") -> #DIV/0! | E41: =IF(Calculation!U115,Calculation!P90,"Not Applicable") -> #DIV/0! | F41: =IF(Calculation!U115,Calculation!Q90,"Not Applicable") -> #DIV/0! | G41: =IF(Calculation!U115,Calculation!S90,"Not Applicable") -> #DIV/0! | H41: =IF(Calculation!U115,Calculation!U90,"Not Applicable") -> #DIV/0! | I41: =IF(Calculation!W115,Calculation!X90,"Not Applicable") -> #DIV/0! | J41: =IF(Calculation!Y172,Calculation!N147,"Not Applicable") -> #DIV/0! | K41: =IF(Calculation!Y172,Calculation!R147,"Not Applicable") -> #DIV/0! | L41: =IF(Calculation!Y172,Calculation!P147,"Not Applicable") -> #DIV/0! | M41: =IF(Calculation!Y172,Calculation!Q147,"Not Applicable") -> #DIV/0! | N41: =IF(Calculation!Y172,Calculation!S147,"Not Applicable") -> #DIV/0! | O41: =IF(Calculation!Y172,Calculation!U147,"Not Applicable") -> #DIV/0! | P41: =IF(Calculation!Y172,Calculation!X147,"Not Applicable") -> #DIV/0!
B42: =B10 -> 0 | C42: =IF(Calculation!U116,Calculation!N91,"Not Applicable") -> #DIV/0! | D42: =IF(Calculation!U116,Calculation!R91,"Not Applicable") -> #DIV/0! | E42: =IF(Calculation!U116,Calculation!P91,"Not Applicable") -> #DIV/0! | F42: =IF(Calculation!U116,Calculation!Q91,"Not Applicable") -> #DIV/0! | G42: =IF(Calculation!U116,Calculation!S91,"Not Applicable") -> #DIV/0! | H42: =IF(Calculation!U116,Calculation!U91,"Not Applicable") -> #DIV/0! | I42: =IF(Calculation!W116,Calculation!X91,"Not Applicable") -> #DIV/0! | J42: =IF(Calculation!Y173,Calculation!N148,"Not Applicable") -> #DIV/0! | K42: =IF(Calculation!Y173,Calculation!R148,"Not Applicable") -> #DIV/0! | L42: =IF(Calculation!Y173,Calculation!P148,"Not Applicable") -> #DIV/0! | M42: =IF(Calculation!Y173,Calculation!Q148,"Not Applicable") -> #DIV/0! | N42: =IF(Calculation!Y173,Calculation!S148,"Not Applicable") -> #DIV/0! | O42: =IF(Calculation!Y173,Calculation!U148,"Not Applicable") -> #DIV/0! | P42: =IF(Calculation!Y173,Calculation!X148,"Not Applicable") -> #DIV/0!
B43: =B11 -> 0 | C43: =IF(Calculation!U117,Calculation!N92,"Not Applicable") -> #DIV/0! | D43: =IF(Calculation!U117,Calculation!R92,"Not Applicable") -> #DIV/0! | E43: =IF(Calculation!U117,Calculation!P92,"Not Applicable") -> #DIV/0! | F43: =IF(Calculation!U117,Calculation!Q92,"Not Applicable") -> #DIV/0! | G43: =IF(Calculation!U117,Calculation!S92,"Not Applicable") -> #DIV/0! | H43: =IF(Calculation!U117,Calculation!U92,"Not Applicable") -> #DIV/0! | I43: =IF(Calculation!W117,Calculation!X92,"Not Applicable") -> #DIV/0! | J43: =IF(Calculation!Y174,Calculation!N149,"Not Applicable") -> #DIV/0! | K43: =IF(Calculation!Y174,Calculation!R149,"Not Applicable") -> #DIV/0! | L43: =IF(Calculation!Y174,Calculation!P149,"Not Applicable") -> #DIV/0! | M43: =IF(Calculation!Y174,Calculation!Q149,"Not Applicable") -> #DIV/0! | N43: =IF(Calculation!Y174,Calculation!S149,"Not Applicable") -> #DIV/0! | O43: =IF(Calculation!Y174,Calculation!U149,"Not Applicable") -> #DIV/0! | P43: =IF(Calculation!Y174,Calculation!X149,"Not Applicable") -> #DIV/0!
B44: =B12 -> 0 | C44: =IF(Calculation!U118,Calculation!N93,"Not Applicable") -> #DIV/0! | D44: =IF(Calculation!U118,Calculation!R93,"Not Applicable") -> #DIV/0! | E44: =IF(Calculation!U118,Calculation!P93,"Not Applicable") -> #DIV/0! | F44: =IF(Calculation!U118,Calculation!Q93,"Not Applicable") -> #DIV/0! | G44: =IF(Calculation!U118,Calculation!S93,"Not Applicable") -> #DIV/0! | H44: =IF(Calculation!U118,Calculation!U93,"Not Applicable") -> #DIV/0! | I44: =IF(Calculation!W118,Calculation!X93,"Not Applicable") -> #DIV/0! | J44: =IF(Calculation!Y175,Calculation!N150,"Not Applicable") -> #DIV/0! | K44: =IF(Calculation!Y175,Calculation!R150,"Not Applicable") -> #DIV/0! | L44: =IF(Calculation!Y175,Calculation!P150,"Not Applicable") -> #DIV/0! | M44: =IF(Calculation!Y175,Calculation!Q150,"Not Applicable") -> #DIV/0! | N44: =IF(Calculation!Y175,Calculation!S150,"Not Applicable") -> #DIV/0! | O44: =IF(Calculation!Y175,Calculation!U150,"Not Applicable") -> #DIV/0! | P44: =IF(Calculation!Y175,Calculation!X150,"Not Applicable") -> #DIV/0!
B45: =B13 -> 0 | C45: =IF(Calculation!U119,Calculation!N94,"Not Applicable") -> #DIV/0! | D45: =IF(Calculation!U119,Calculation!R94,"Not Applicable") -> #DIV/0! | E45: =IF(Calculation!U119,Calculation!P94,"Not Applicable") -> #DIV/0! | F45: =IF(Calculation!U119,Calculation!Q94,"Not Applicable") -> #DIV/0! | G45: =IF(Calculation!U119,Calculation!S94,"Not Applicable") -> #DIV/0! | H45: =IF(Calculation!U119,Calculation!U94,"Not Applicable") -> #DIV/0! | I45: =IF(Calculation!W119,Calculation!X94,"Not Applicable") -> #DIV/0! | J45: =IF(Calculation!Y176,Calculation!N151,"Not Applicable") -> #DIV/0! | K45: =IF(Calculation!Y176,Calculation!R151,"Not Applicable") -> #DIV/0! | L45: =IF(Calculation!Y176,Calculation!P151,"Not Applicable") -> #DIV/0! | M45: =IF(Calculation!Y176,Calculation!Q151,"Not Applicable") -> #DIV/0! | N45: =IF(Calculation!Y176,Calculation!S151,"Not Applicable") -> #DIV/0! | O45: =IF(Calculation!Y176,Calculation!U151,"Not Applicable") -> #DIV/0! | P45: =IF(Calculation!Y176,Calculation!X151,"Not Applicable") -> #DIV/0!
B46: =B14 -> 0 | C46: =IF(Calculation!U120,Calculation!N95,"Not Applicable") -> #DIV/0! | D46: =IF(Calculation!U120,Calculation!R95,"Not Applicable") -> #DIV/0! | E46: =IF(Calculation!U120,Calculation!P95,"Not Applicable") -> #DIV/0! | F46: =IF(Calculation!U120,Calculation!Q95,"Not Applicable") -> #DIV/0! | G46: =IF(Calculation!U120,Calculation!S95,"Not Applicable") -> #DIV/0! | H46: =IF(Calculation!U120,Calculation!U95,"Not Applicable") -> #DIV/0! | I46: =IF(Calculation!W120,Calculation!X95,"Not Applicable") -> #DIV/0! | J46: =IF(Calculation!Y177,Calculation!N152,"Not Applicable") -> #DIV/0! | K46: =IF(Calculation!Y177,Calculation!R152,"Not Applicable") -> #DIV/0! | L46: =IF(Calculation!Y177,Calculation!P152,"Not Applicable") -> #DIV/0! | M46: =IF(Calculation!Y177,Calculation!Q152,"Not Applicable") -> #DIV/0! | N46: =IF(Calculation!Y177,Calculation!S152,"Not Applicable") -> #DIV/0! | O46: =IF(Calculation!Y177,Calculation!U152,"Not Applicable") -> #DIV/0! | P46: =IF(Calculation!Y177,Calculation!X152,"Not Applicable") -> #DIV/0!
B48: Limit | L48: 175mA,Tj=85C
B49: IF Limit | C49: L/L | D49: U/L | L49: 1 | M49: 2 | N49: 3 | O49: 4 | P49: 5 | Q49: 6 | R49: 7 | S49: 8 | T49: 9 | U49: 10 | V49: 11 | W49: 12 | X49: 13 | Y49: 14 | Z49: 15 | AA49: 16 | AB49: 17 | AC49: 18 | AD49: 19
C50: 5 | D50: 230 | I50: VF | J50: Tc=25C定格Lm係数 | L50: =L66 -> 5000K Natural | M50: =M66 -> 4000K Natural | N50: =N66 -> 3500K Natural | O50: =O66 -> 3000K Natural | P50: =P66 -> 2700K Natural | Q50: =Q66 -> 0 | R50: =R66 -> 0 | S50: =S66 -> 0 | ... AD50: =AD66 -> 0
B51: Tc Limit | C51: U/L | D51: L/L | I51: 9.399999 | J51: 0303 | K51: 0.92092891 | L51: 517 | M51: 501 | N51: 469 | O51: 455 | P51: 433
C52: 105 | D52: -40 | I52: 9.399999 | J52: 0304 | K52: 0.92196543
B53: Tj Limit | C53: U/L | D53: L/L | I53: 31.33333 | J53: 1002 | K53: 0.92150514 | L53: 1074 | M53: 1042 | N53: 976 | O53: 946 | P53: 901
C54: 140 | D54: -25 | I54: 37.599996 | J54: 1204 | K54: 0.93469554 | L54: 2606 | M54: 2528 | N54: 2368 | O54: 2295 | P54: 2186
I55: 37.599996 | J55: 1206 | K55: 0.93416356 | L55: 3869 | M55: 3754 | N55: 3516 | O55: 3408 | P55: 3246
A56: CW23係数 | C56: y=ax3+bx2+cx+d/y=ax2+bx+c | I56: 37.599996 | J56: 1210 | K56: 0.94205395 | L56: 6453 | M56: 6261 | N56: 5864 | O56: 5684 | P56: 5414
C58: IF(x)-lm%(y) | D58: lm%(x)-IF(y) | E58: IF(x)-VF%(y) | F58: Tc(x)-lm%(y) | G58: Tc(x)-VF%(y)
B59: a | C59: 5.6231687e-09 | D59: 1.0968818 | E59: -1.5740769e-06 | F59: -1.1152155e-08 | G59: 2.7366883e-06
B60: b | C60: -6.8430471e-06 | D60: 28.364492 | E60: 0.0012473617 | F60: -4.1294483e-06 | G60: -0.00094613757
B61: c | C61: 0.0067343757 | D61: 145.51791 | E61: 0.82991781 | F61: -0.0013906687 | G61: 1.021943
B62: d | C62: 0.00091590531 | D62: 0.1515608 | F62: 1.0375219
...
